From mboxrd@z Thu Jan  1 00:00:00 1970
Return-Path: <test-report-bounces@dpdk.org>
Received: from mails.dpdk.org (mails.dpdk.org [217.70.189.124])
	by inbox.dpdk.org (Postfix) with ESMTP id 2B22043E58
	for <public@inbox.dpdk.org>; Sat, 13 Apr 2024 03:25:42 +0200 (CEST)
Received: from mails.dpdk.org (localhost [127.0.0.1])
	by mails.dpdk.org (Postfix) with ESMTP id 22D7F40263;
	Sat, 13 Apr 2024 03:25:42 +0200 (CEST)
Received: from mail-yw1-f227.google.com (mail-yw1-f227.google.com
 [209.85.128.227])
 by mails.dpdk.org (Postfix) with ESMTP id EFAF84014F
 for <test-report@dpdk.org>; Sat, 13 Apr 2024 03:25:40 +0200 (CEST)
Received: by mail-yw1-f227.google.com with SMTP id
 00721157ae682-615053a5252so13278597b3.1
 for <test-report@dpdk.org>; Fri, 12 Apr 2024 18:25:40 -0700 (PDT)
DKIM-Signature: v=1; a=rsa-sha256; c=relaxed/relaxed;
 d=iol.unh.edu; s=unh-iol; t=1712971540; x=1713576340; darn=dpdk.org;
 h=references:in-reply-to:cc:to:from:subject:message-id:date:from:to
 :cc:subject:date:message-id:reply-to;
 bh=Dzm+xDba2PBxng8SLt6jMmsiRiqsJWTweVeMpFdKpqw=;
 b=A9Kpjda3LiZulV2N6ed8QKL5KpyaYXkBvqO+VCQ0EmoZfwhl0NYd6ijGAR2mt6f/L/
 0p73pN/N/x7BtmDWyaSFBvMoyO8lvGsbCnxSl4LS/xGgL+GM92wrEW8GPWgMy06W/22s
 3KjULaEmsbPPRNUxMLrvShFBZpaSH/1/k0ULg=
X-Google-DKIM-Signature: v=1; a=rsa-sha256; c=relaxed/relaxed;
 d=1e100.net; s=20230601; t=1712971540; x=1713576340;
 h=references:in-reply-to:cc:to:from:subject:message-id:date
 :x-gm-message-state:from:to:cc:subject:date:message-id:reply-to;
 bh=Dzm+xDba2PBxng8SLt6jMmsiRiqsJWTweVeMpFdKpqw=;
 b=HQ8SH/oC9HwyZi0cezJAWSyRCqfrznOTEuRqVlV39I9UzZV8hjOyGa5NO+14l59102
 1B63Ymo0q45CwzdtGB8m0jQX3/0qm8+IOpOfgpRwy9LWUfVQCdUcBwzYpLlqiBD+9vPp
 QptL2mdcP6Wg7Rheydq6dCYUWnO1/iAhgY8XfqHc3J2oFTFSo1eKCjFCAgZ1gtwdp59F
 ZyG5kCBvOsY+b6rz/fAOXGovNv4Ft7VIajOfg0J669oLyHJAFrTCueN/a1xyX5WVP0XH
 9tmPs+OAQCAvOLTy77fRj/z5vh3NuFGv3wcQKku1/PeMvc172hX6BP9FbGDN4CTGpIhI
 sOGQ==
X-Gm-Message-State: AOJu0YyEqMjqSdQA1Zyi1x3yI6lMxSd5G2ScRTeDbdRLphcu9aRnGUaK
 bPY3AVnZpEWo3oUHuARs20dj3Nmv3SeHvg9wEETO2WI4OEtGulk4oujXs+YHqb6QU+R70z99VDd
 GJ+JwXof204kqUeP8tXl3yyJu+cR2EUSNDkkakry+4Pz+BOGrRCM6iccK
X-Google-Smtp-Source: AGHT+IFIl2qza4J9uyO0395b9Mo7IKU4bgYOlh2uPSzKthH6lisFbJr8A2sRPFIZkdTa7ggDCkMVhWQx22kg
X-Received: by 2002:a81:5256:0:b0:618:8e76:af28 with SMTP id
 g83-20020a815256000000b006188e76af28mr1665275ywb.6.1712971540402; 
 Fri, 12 Apr 2024 18:25:40 -0700 (PDT)
Received: from postal.iol.unh.edu (postal.iol.unh.edu.
 [2606:4100:3880:1234::84]) by smtp-relay.gmail.com with ESMTPS id
 s204-20020a8177d5000000b006154471a159sm412825ywc.66.2024.04.12.18.25.40
 (version=TLS1_2 cipher=ECDHE-ECDSA-AES128-GCM-SHA256 bits=128/128);
 Fri, 12 Apr 2024 18:25:40 -0700 (PDT)
X-Relaying-Domain: iol.unh.edu
Date: Fri, 12 Apr 2024 18:25:40 -0700 (PDT)
Message-ID: <6619df14.810a0220.664d9.2fe6SMTPIN_ADDED_MISSING@mx.google.com>
Received: from [172.21.0.6] (unknown [172.18.0.240])
 by postal.iol.unh.edu (Postfix) with ESMTP id 09889604D420;
 Fri, 12 Apr 2024 21:25:40 -0400 (EDT)
Subject: |SUCCESS| pw139244-139246 [PATCH] [v2,3/3] test/crypto: add QP depth
From: dpdklab@iol.unh.edu
To: Test Report <test-report@dpdk.org>
Cc: dpdk-test-reports@iol.unh.edu
In-Reply-To: <20240412115722.3709194-4-gakhil@marvell.com>
References: <20240412115722.3709194-4-gakhil@marvell.com>
Content-Type: text/plain
X-BeenThere: test-report@dpdk.org
X-Mailman-Version: 2.1.29
Precedence: list
List-Id: automatic DPDK test reports <test-report.dpdk.org>
List-Unsubscribe: <https://mails.dpdk.org/options/test-report>,
 <mailto:test-report-request@dpdk.org?subject=unsubscribe>
List-Archive: <http://mails.dpdk.org/archives/test-report/>
List-Post: <mailto:test-report@dpdk.org>
List-Help: <mailto:test-report-request@dpdk.org?subject=help>
List-Subscribe: <https://mails.dpdk.org/listinfo/test-report>,
 <mailto:test-report-request@dpdk.org?subject=subscribe>
Errors-To: test-report-bounces@dpdk.org

Test-Label: iol-abi-testing
Test-Status: SUCCESS
http://dpdk.org/patch/139246

_Testing PASS_

Submitter: Akhil Goyal <gakhil@marvell.com>
Date: Friday, April 12 2024 11:57:22 
DPDK git baseline: Repo:dpdk
  Branch: master
  CommitID:e2e546ab5bf5e024986ccb5310ab43982f3bb40c

139244-139246 --> testing pass

Test environment and result as below:

+------------------+----------+
|   Environment    | abi_test |
+==================+==========+
| openSUSE Leap 15 | PASS     |
+------------------+----------+
| Debian 12        | PASS     |
+------------------+----------+
| RHEL8            | PASS     |
+------------------+----------+
| CentOS Stream 8  | PASS     |
+------------------+----------+
| Debian Bullseye  | PASS     |
+------------------+----------+
| CentOS Stream 9  | PASS     |
+------------------+----------+
| Fedora 39        | PASS     |
+------------------+----------+
| Fedora 38        | PASS     |
+------------------+----------+
| Fedora 37        | PASS     |
+------------------+----------+


openSUSE Leap 15
	Kernel: 5.4.0-167-generic
	Compiler: gcc 7.5.0

Debian 12
	Kernel: Container Host Kernel
	Compiler: gcc 10.2.1

RHEL8
	Kernel: 5.4.0-167-generic
	Compiler: gcc 8.5.0 20210514 (Red Hat 8.5.0-20)

CentOS Stream 8
	Kernel: 5.4.0-167-generic
	Compiler: gcc 8.5.0 20210514

Debian Bullseye
	Kernel: 5.4.0-167-generic
	Compiler: gcc 10.2.1-6

CentOS Stream 9
	Kernel: 5.4.0-167-generic
	Compiler: gcc 11.4.1 20230605

Fedora 39
	Kernel: Depends on container host
	Compiler: clang 17.0.6

Fedora 38
	Kernel: Depends on container host
	Compiler: gcc 13.2.1

Fedora 37
	Kernel: Depends on container host system
	Compiler: gcc 12.3.1

To view detailed results, visit:
https://lab.dpdk.org/results/dashboard/patchsets/29767/

UNH-IOL DPDK Community Lab

To manage your email subscriptions, visit: 
https://lab.dpdk.org/results/dashboard/preferences/subscriptions/