From mboxrd@z Thu Jan  1 00:00:00 1970
Return-Path: <test-report-bounces@dpdk.org>
Received: from mails.dpdk.org (mails.dpdk.org [217.70.189.124])
	by inbox.dpdk.org (Postfix) with ESMTP id C907D43E58
	for <public@inbox.dpdk.org>; Sat, 13 Apr 2024 03:46:00 +0200 (CEST)
Received: from mails.dpdk.org (localhost [127.0.0.1])
	by mails.dpdk.org (Postfix) with ESMTP id C4ADD40263;
	Sat, 13 Apr 2024 03:46:00 +0200 (CEST)
Received: from mail-pl1-f225.google.com (mail-pl1-f225.google.com
 [209.85.214.225])
 by mails.dpdk.org (Postfix) with ESMTP id CCF964014F
 for <test-report@dpdk.org>; Sat, 13 Apr 2024 03:45:58 +0200 (CEST)
Received: by mail-pl1-f225.google.com with SMTP id
 d9443c01a7336-1e3f17c64daso12177955ad.3
 for <test-report@dpdk.org>; Fri, 12 Apr 2024 18:45:58 -0700 (PDT)
DKIM-Signature: v=1; a=rsa-sha256; c=relaxed/relaxed;
 d=iol.unh.edu; s=unh-iol; t=1712972758; x=1713577558; darn=dpdk.org;
 h=references:in-reply-to:cc:to:from:subject:message-id:date:from:to
 :cc:subject:date:message-id:reply-to;
 bh=hETNR148tMHcmFgGvr2dAphmrlWsmmrOplv94v6ut4o=;
 b=KKIwLrfFgP+mJd4lMAOJza2ygdLx6KDLcnzKAwB2j+tZglrXv2xGJA7zwv8CzGZV0D
 /Db9BUJvWk1R/X5+tp65PmNfdV/Mrnh2piicKFoVt0+9GxzSyWd1CU8sXyzK6o+Ea7Ym
 5jZ8speZs7+POOcOJL0JiYg42jiD4/XJb/51s=
X-Google-DKIM-Signature: v=1; a=rsa-sha256; c=relaxed/relaxed;
 d=1e100.net; s=20230601; t=1712972758; x=1713577558;
 h=references:in-reply-to:cc:to:from:subject:message-id:date
 :x-gm-message-state:from:to:cc:subject:date:message-id:reply-to;
 bh=hETNR148tMHcmFgGvr2dAphmrlWsmmrOplv94v6ut4o=;
 b=NngBgAoDa1l/DmeQUxC7gHQzlj41YYU7XWuBWZhidH2YgkLPytsdrsVjLVZv5K7mNS
 aW60KJTZE0+hGuYTrM7iQx4x3o4gex1ncEQqLxcTBKBNwr5xTcLP4Aoo7epc0DysszfU
 in1b2U+cBjqcNZ8NKA2kPNtxIkSeEKdITJkMyApYxy7iYd3Ux6YsRliaJcVVEilX+iI/
 nzWbbgZvwlPGERfWn6X/aEy4wiPRmLdsvSW+PAUtIL8F5USmt1JiERr9MoPaBqgtWMcQ
 s+8MS0gtG2RHCCOgtLWdg7Jz9/gvjOmWCMWv6GmCSoy/4fusTmma6XmpYZp1vR4/6BcN
 mRQw==
X-Gm-Message-State: AOJu0Yxj9nrOzG2/i3uP1oNbfLhi+WATVw2Q5wwRQowUMB5Q+PXpnFdp
 7Yqxc5WqRKv1QqO0TBRx0bkAJIavk8UqRrquF6Fh2fF7gBlbbH0sVqZ8TCAPOx4NpITsDcJLZL5
 Gs7MkhsG5vVcptbuNC5evKjo3YkHH1b82cM18OA0iMWuhGgrKjpzuYRJy
X-Google-Smtp-Source: AGHT+IEHaxzozbhUFcY31Du8y9nZp4J1uj7etQCw1DhXfyT5I+WqDO8LvgwJg7j/G8hHsstxnG7E2uqiLLUm
X-Received: by 2002:a17:902:ba94:b0:1e0:a3dd:82df with SMTP id
 k20-20020a170902ba9400b001e0a3dd82dfmr3788258pls.38.1712972757997; 
 Fri, 12 Apr 2024 18:45:57 -0700 (PDT)
Received: from postal.iol.unh.edu (postal.iol.unh.edu.
 [2606:4100:3880:1234::84]) by smtp-relay.gmail.com with ESMTPS id
 6-20020a170902c10600b001e2920c2154sm214696pli.51.2024.04.12.18.45.57
 (version=TLS1_2 cipher=ECDHE-ECDSA-AES128-GCM-SHA256 bits=128/128);
 Fri, 12 Apr 2024 18:45:57 -0700 (PDT)
X-Relaying-Domain: iol.unh.edu
Date: Fri, 12 Apr 2024 18:45:57 -0700 (PDT)
Message-ID: <6619e3d5.170a0220.e43a1.820dSMTPIN_ADDED_MISSING@mx.google.com>
Received: from [172.17.0.4] (unknown [172.18.0.217])
 by postal.iol.unh.edu (Postfix) with ESMTP id 349B1604D420;
 Fri, 12 Apr 2024 21:45:57 -0400 (EDT)
Subject: |SUCCESS| pw139251-139272 [PATCH] [24/24] net/axgbe: extend 10Mbps s
From: dpdklab@iol.unh.edu
To: Test Report <test-report@dpdk.org>
Cc: dpdk-test-reports@iol.unh.edu
In-Reply-To: <20240412125249.10625-24-VenkatKumar.Ande@amd.com>
References: <20240412125249.10625-24-VenkatKumar.Ande@amd.com>
Content-Type: text/plain
X-BeenThere: test-report@dpdk.org
X-Mailman-Version: 2.1.29
Precedence: list
List-Id: automatic DPDK test reports <test-report.dpdk.org>
List-Unsubscribe: <https://mails.dpdk.org/options/test-report>,
 <mailto:test-report-request@dpdk.org?subject=unsubscribe>
List-Archive: <http://mails.dpdk.org/archives/test-report/>
List-Post: <mailto:test-report@dpdk.org>
List-Help: <mailto:test-report-request@dpdk.org?subject=help>
List-Subscribe: <https://mails.dpdk.org/listinfo/test-report>,
 <mailto:test-report-request@dpdk.org?subject=subscribe>
Errors-To: test-report-bounces@dpdk.org

Test-Label: iol-unit-arm64-testing
Test-Status: SUCCESS
http://dpdk.org/patch/139272

_Testing PASS_

Submitter: Venkat Kumar Ande <venkatkumar.ande@amd.com>
Date: Friday, April 12 2024 12:52:49 
DPDK git baseline: Repo:dpdk
  Branch: master
  CommitID:6db5f91b5e628671c341b833f21ea35e65e9699d

139251-139272 --> testing pass

Test environment and result as below:

+-----------------------------+---------------------------+------------------------------+----------------+
|         Environment         | cryptodev_sw_zuc_autotest | cryptodev_sw_snow3g_autotest | dpdk_unit_test |
+=============================+===========================+==============================+================+
| Debian 12 (arm)             | PASS                      | PASS                         | PASS           |
+-----------------------------+---------------------------+------------------------------+----------------+
| CentOS Stream 9 (ARM)       | SKIPPED                   | SKIPPED                      | PASS           |
+-----------------------------+---------------------------+------------------------------+----------------+
| Debian 11 (Buster) (ARM)    | SKIPPED                   | SKIPPED                      | PASS           |
+-----------------------------+---------------------------+------------------------------+----------------+
| Fedora 38 (ARM)             | SKIPPED                   | SKIPPED                      | PASS           |
+-----------------------------+---------------------------+------------------------------+----------------+
| Fedora 37 (ARM)             | SKIPPED                   | SKIPPED                      | PASS           |
+-----------------------------+---------------------------+------------------------------+----------------+
| Fedora 39 (ARM)             | SKIPPED                   | SKIPPED                      | PASS           |
+-----------------------------+---------------------------+------------------------------+----------------+
| 32-bit Ubuntu 20.04.4 (ARM) | SKIPPED                   | SKIPPED                      | PASS           |
+-----------------------------+---------------------------+------------------------------+----------------+
| Ubuntu 20.04 (ARM)          | SKIPPED                   | SKIPPED                      | PASS           |
+-----------------------------+---------------------------+------------------------------+----------------+
| Fedora 39 (ARM Clang)       | SKIPPED                   | SKIPPED                      | PASS           |
+-----------------------------+---------------------------+------------------------------+----------------+


Debian 12 (arm)
	Kernel: Container Host Kernel
	Compiler: gcc 12.2.0

CentOS Stream 9 (ARM)
	Kernel: Container Host Kernel
	Compiler: gcc 11.4.1

Debian 11 (Buster) (ARM)
	Kernel: Container Host Kernel
	Compiler: gcc 10.2.1

Fedora 38 (ARM)
	Kernel: Depends on container host
	Compiler: gcc 13.2.1

Fedora 37 (ARM)
	Kernel: Depends on container host
	Compiler: gcc 12.3.1

Fedora 39 (ARM)
	Kernel: Depends on container host
	Compiler: gcc 13.2.1

32-bit Ubuntu 20.04.4 (ARM)
	Kernel: 5.4.0-155-generic aarch64
	Compiler: gcc 9.4

Ubuntu 20.04 (ARM)
	Kernel: Container Host Kernel
	Compiler: gcc 9.4.0

Fedora 39 (ARM Clang)
	Kernel: Depends on container host
	Compiler: clang 17.0.6

To view detailed results, visit:
https://lab.dpdk.org/results/dashboard/patchsets/29770/

UNH-IOL DPDK Community Lab

To manage your email subscriptions, visit: 
https://lab.dpdk.org/results/dashboard/preferences/subscriptions/