From mboxrd@z Thu Jan  1 00:00:00 1970
Return-Path: <test-report-bounces@dpdk.org>
Received: from mails.dpdk.org (mails.dpdk.org [217.70.189.124])
	by inbox.dpdk.org (Postfix) with ESMTP id 71BED43E59
	for <public@inbox.dpdk.org>; Sat, 13 Apr 2024 04:14:03 +0200 (CEST)
Received: from mails.dpdk.org (localhost [127.0.0.1])
	by mails.dpdk.org (Postfix) with ESMTP id 69D9340263;
	Sat, 13 Apr 2024 04:14:03 +0200 (CEST)
Received: from mail-pf1-f225.google.com (mail-pf1-f225.google.com
 [209.85.210.225])
 by mails.dpdk.org (Postfix) with ESMTP id 570134014F
 for <test-report@dpdk.org>; Sat, 13 Apr 2024 04:14:02 +0200 (CEST)
Received: by mail-pf1-f225.google.com with SMTP id
 d2e1a72fcca58-6ead4093f85so1313442b3a.3
 for <test-report@dpdk.org>; Fri, 12 Apr 2024 19:14:02 -0700 (PDT)
DKIM-Signature: v=1; a=rsa-sha256; c=relaxed/relaxed;
 d=iol.unh.edu; s=unh-iol; t=1712974441; x=1713579241; darn=dpdk.org;
 h=references:in-reply-to:cc:to:from:subject:message-id:date:from:to
 :cc:subject:date:message-id:reply-to;
 bh=i5KiAiDtsrGMHE5fc5L/eJFzg/c+KN1FwEvgCvJCbko=;
 b=DHzoHFtTgvlJGSNs/qdrp89Fry0BB4wIMyrG+iz1RSE/5r/HJaeARCJEAiauP+rF/i
 1De9dhasH0iXAsXs67b5mmSFCUSsozwNOALQpGqpaFBAAOXFOlB3DvTWApSkyFZpcZHQ
 FW/nUKQFFxis2WJbPp2vXfRM5jD+ik3B4CVDU=
X-Google-DKIM-Signature: v=1; a=rsa-sha256; c=relaxed/relaxed;
 d=1e100.net; s=20230601; t=1712974441; x=1713579241;
 h=references:in-reply-to:cc:to:from:subject:message-id:date
 :x-gm-message-state:from:to:cc:subject:date:message-id:reply-to;
 bh=i5KiAiDtsrGMHE5fc5L/eJFzg/c+KN1FwEvgCvJCbko=;
 b=qe6AicKjAMQUFIj4Rdhb0F6mGS1KBbjRn7jwUkT7HRz2c21IL/G5ScjfKasmIv+wPn
 33iiVHFQecCTD6pVcIdFiJcZ64dzOA5kJFgh7jphkzTTOz7bYwbAhEncvfI0okAxmosD
 N8XQovQS3BYU8q4qKPwcL8mnr/0WG1x3xeXXwKe+4tLYdKyKyq16uTPC3p4BmvHics5U
 3lda6IjsWvIuRKB6juc6tO+A7Ne3qvgqhPj3ZFl9r+ktMZuvh3ElwoJ3w82VEBaYwGDM
 06I/6Py+M8Lph4O1l8gLbF9jTcC2GNuwr4Ayo+utjUPYOlpIwjSi4qp5uOGHLUFbCN17
 Cgng==
X-Gm-Message-State: AOJu0YxmSv5A1GYdGFLnxJL9B6KdrBg047hG7FIv1Nns4HQhjgHUC9ca
 fuH245QR9xFjUz8YyslEPF2fzOm0EBwBY3DE8+R2MLMn3QVN3NQRSJG61m1FnlT5gF0CT9Dd85D
 jDFHjsif4kYCFOdQ1zN3B5Qk3ZqPVYLkOQpszGp0T6F3j0yG1CVGDh1TI
X-Google-Smtp-Source: AGHT+IFJRgQ6FNuV7wphIcOlrOFeT7sPe3ufbgMZwGdmyNn6/jPwLVPqCohwKhbl3CABzXzV/02AAGNw/hx0
X-Received: by 2002:a05:6a00:2308:b0:6e7:3223:4556 with SMTP id
 h8-20020a056a00230800b006e732234556mr4571446pfh.32.1712974441402; 
 Fri, 12 Apr 2024 19:14:01 -0700 (PDT)
Received: from postal.iol.unh.edu (postal.iol.unh.edu.
 [2606:4100:3880:1234::84]) by smtp-relay.gmail.com with ESMTPS id
 k10-20020aa788ca000000b006eac41e9676sm443569pff.11.2024.04.12.19.14.01
 (version=TLS1_2 cipher=ECDHE-ECDSA-AES128-GCM-SHA256 bits=128/128);
 Fri, 12 Apr 2024 19:14:01 -0700 (PDT)
X-Relaying-Domain: iol.unh.edu
Date: Fri, 12 Apr 2024 19:14:01 -0700 (PDT)
Message-ID: <6619ea69.a70a0220.b2c49.2b51SMTPIN_ADDED_MISSING@mx.google.com>
Received: from [172.21.0.6] (unknown [172.18.0.240])
 by postal.iol.unh.edu (Postfix) with ESMTP id 766F8604D420;
 Fri, 12 Apr 2024 22:14:00 -0400 (EDT)
Subject: |SUCCESS| pw139251-139272 [PATCH] [24/24] net/axgbe: extend 10Mbps s
From: dpdklab@iol.unh.edu
To: Test Report <test-report@dpdk.org>
Cc: dpdk-test-reports@iol.unh.edu
In-Reply-To: <20240412125249.10625-24-VenkatKumar.Ande@amd.com>
References: <20240412125249.10625-24-VenkatKumar.Ande@amd.com>
Content-Type: text/plain
X-BeenThere: test-report@dpdk.org
X-Mailman-Version: 2.1.29
Precedence: list
List-Id: automatic DPDK test reports <test-report.dpdk.org>
List-Unsubscribe: <https://mails.dpdk.org/options/test-report>,
 <mailto:test-report-request@dpdk.org?subject=unsubscribe>
List-Archive: <http://mails.dpdk.org/archives/test-report/>
List-Post: <mailto:test-report@dpdk.org>
List-Help: <mailto:test-report-request@dpdk.org?subject=help>
List-Subscribe: <https://mails.dpdk.org/listinfo/test-report>,
 <mailto:test-report-request@dpdk.org?subject=subscribe>
Errors-To: test-report-bounces@dpdk.org

Test-Label: iol-compile-amd64-testing
Test-Status: SUCCESS
http://dpdk.org/patch/139272

_Testing PASS_

Submitter: Venkat Kumar Ande <venkatkumar.ande@amd.com>
Date: Friday, April 12 2024 12:52:49 
DPDK git baseline: Repo:dpdk
  Branch: master
  CommitID:6db5f91b5e628671c341b833f21ea35e65e9699d

139251-139272 --> testing pass

Test environment and result as below:

+---------------------+--------------------+----------------------+-------------------+
|     Environment     | dpdk_meson_compile | dpdk_mingw64_compile | dpdk_msvc_compile |
+=====================+====================+======================+===================+
| FreeBSD 13.2        | PASS               | SKIPPED              | SKIPPED           |
+---------------------+--------------------+----------------------+-------------------+
| Windows Server 2019 | PASS               | PASS                 | SKIPPED           |
+---------------------+--------------------+----------------------+-------------------+
| Windows Server 2022 | PASS               | PASS                 | PASS              |
+---------------------+--------------------+----------------------+-------------------+
| CentOS Stream 8     | PASS               | SKIPPED              | SKIPPED           |
+---------------------+--------------------+----------------------+-------------------+
| Fedora 37           | PASS               | SKIPPED              | SKIPPED           |
+---------------------+--------------------+----------------------+-------------------+
| CentOS Stream 9     | PASS               | SKIPPED              | SKIPPED           |
+---------------------+--------------------+----------------------+-------------------+
| Debian Bullseye     | PASS               | SKIPPED              | SKIPPED           |
+---------------------+--------------------+----------------------+-------------------+
| Debian 12           | PASS               | SKIPPED              | SKIPPED           |
+---------------------+--------------------+----------------------+-------------------+
| Fedora 39           | PASS               | SKIPPED              | SKIPPED           |
+---------------------+--------------------+----------------------+-------------------+
| Ubuntu 20.04        | PASS               | SKIPPED              | SKIPPED           |
+---------------------+--------------------+----------------------+-------------------+
| Fedora 38           | PASS               | SKIPPED              | SKIPPED           |
+---------------------+--------------------+----------------------+-------------------+
| RHEL8               | PASS               | SKIPPED              | SKIPPED           |
+---------------------+--------------------+----------------------+-------------------+
| openSUSE Leap 15    | PASS               | SKIPPED              | SKIPPED           |
+---------------------+--------------------+----------------------+-------------------+
| Ubuntu 22.04        | PASS               | SKIPPED              | SKIPPED           |
+---------------------+--------------------+----------------------+-------------------+
| Alpine              | PASS               | SKIPPED              | SKIPPED           |
+---------------------+--------------------+----------------------+-------------------+


FreeBSD 13.2
	Kernel: 13.2
	Compiler: clang 14.0.5

Windows Server 2019
	Kernel: 10.0.17763
	Compiler: clang 14.0 and gcc 8.1.0 (MinGW)

Windows Server 2022
	Kernel: 10.0.20348.2031
	Compiler: clang 15.0.7, gcc 8.1.0 (MinGW), and MSVC VS 17.9

CentOS Stream 8
	Kernel: 5.4.0-167-generic
	Compiler: gcc 8.5.0 20210514

Fedora 37
	Kernel: Depends on container host system
	Compiler: gcc 12.3.1

CentOS Stream 9
	Kernel: 5.4.0-167-generic
	Compiler: gcc 11.4.1 20230605

Debian Bullseye
	Kernel: 5.4.0-167-generic
	Compiler: gcc 10.2.1-6

Debian 12
	Kernel: Container Host Kernel
	Compiler: gcc 10.2.1

Fedora 39
	Kernel: Depends on container host
	Compiler: gcc 13.2.1

Ubuntu 20.04
	Kernel: 5.4.0-167-generic
	Compiler: gcc 9.4.0-1ubuntu1~20.04.1

Fedora 38
	Kernel: Depends on container host
	Compiler: gcc 13.2.1

RHEL8
	Kernel: 5.4.0-167-generic
	Compiler: gcc 8.5.0 20210514 (Red Hat 8.5.0-20)

openSUSE Leap 15
	Kernel: 5.4.0-167-generic
	Compiler: gcc 7.5.0

Ubuntu 22.04
	Kernel: 5.4.0-167-generic
	Compiler: gcc 11.4.0

Alpine
	Kernel: 5.4.0-167-generic
	Compiler: gcc (Alpine 12.2.1_git20220924-r10) 12.2.1 20220924

To view detailed results, visit:
https://lab.dpdk.org/results/dashboard/patchsets/29770/

UNH-IOL DPDK Community Lab

To manage your email subscriptions, visit: 
https://lab.dpdk.org/results/dashboard/preferences/subscriptions/