From mboxrd@z Thu Jan  1 00:00:00 1970
Return-Path: <test-report-bounces@dpdk.org>
Received: from mails.dpdk.org (mails.dpdk.org [217.70.189.124])
	by inbox.dpdk.org (Postfix) with ESMTP id 8644A43E59
	for <public@inbox.dpdk.org>; Sat, 13 Apr 2024 04:29:10 +0200 (CEST)
Received: from mails.dpdk.org (localhost [127.0.0.1])
	by mails.dpdk.org (Postfix) with ESMTP id 81ED240263;
	Sat, 13 Apr 2024 04:29:10 +0200 (CEST)
Received: from mail-qv1-f100.google.com (mail-qv1-f100.google.com
 [209.85.219.100])
 by mails.dpdk.org (Postfix) with ESMTP id 4AF0F4014F
 for <test-report@dpdk.org>; Sat, 13 Apr 2024 04:29:09 +0200 (CEST)
Received: by mail-qv1-f100.google.com with SMTP id
 6a1803df08f44-69b50b8239fso11908406d6.0
 for <test-report@dpdk.org>; Fri, 12 Apr 2024 19:29:09 -0700 (PDT)
DKIM-Signature: v=1; a=rsa-sha256; c=relaxed/relaxed;
 d=iol.unh.edu; s=unh-iol; t=1712975348; x=1713580148; darn=dpdk.org;
 h=references:in-reply-to:cc:to:from:subject:message-id:date:from:to
 :cc:subject:date:message-id:reply-to;
 bh=MTyf77B3ofreju2U+40X+xLFKS8wZmyR/JLVJhvsr/o=;
 b=GAxdnUi9+iZz8vPdRyEHoUcY1vqtP1Bu5ukEhBY0se9GwQJPsBWGl9s/Yv7EW0ZAOd
 GtUxN4ihC47JfJB0joJV7ncocX5fYOiNSjdjk4xha5vmANdm1X2f4+yCZQhujJVzqAur
 e9WOBgdHgnkpkXP6TJZvRpX1YChFOzkzGZ5Tg=
X-Google-DKIM-Signature: v=1; a=rsa-sha256; c=relaxed/relaxed;
 d=1e100.net; s=20230601; t=1712975348; x=1713580148;
 h=references:in-reply-to:cc:to:from:subject:message-id:date
 :x-gm-message-state:from:to:cc:subject:date:message-id:reply-to;
 bh=MTyf77B3ofreju2U+40X+xLFKS8wZmyR/JLVJhvsr/o=;
 b=NjYbjFcVlfQUxsUUO5gPpL4UX6g1cegdzBKtnokc5zYJ/FRUykms3EPijCU0ep33tS
 jMFRWvmSiDWT7Muj8rR91fpV69oBuNfBDXwTRUN6wFdu0KTA9UXRpH69fvDc2B5KUOj7
 s8DMRsUb9G75FFS64tXoiMHBn2fVmuNMnCuOmFWlWL6/UrWrgfkHUbb3m4qtna/M5HsJ
 eaYyqbuTbmNNViDrF6SPiu+2z9ickEHvZ3c9ButRCvZ60NgxN3CuD15iNDHXjIvp4/55
 eq3HxKImTqeecvUqog20SsR8hQQVJJMrTd4hP+yRFeticog8KOLCfnYvrldKApqqcWdI
 0hyA==
X-Gm-Message-State: AOJu0YxQfUWJrQ3YXK1/QeRnUbsYM1Bb1M3/+54W3ld8oN5qwJQfOZfx
 WBfMJoyfkhQAocoZSHD+HPyl54+nLR5jLKGccS6ES3sZqSqos/a/geamvrqmoYjdviu5tY94OsB
 FP/V/A+yhFN/dvFhKhN/hQx9W2yPxFzJYFj0px/Ka
X-Google-Smtp-Source: AGHT+IE2F1ghoHL/SSGw3/JcL12Xcg3f4Yfr5iDjx+mrzAEfL8lyekUl8rgAvSNyUm9n9QCeq/lyc82C7+ti
X-Received: by 2002:ad4:5741:0:b0:69b:5054:32e7 with SMTP id
 q1-20020ad45741000000b0069b505432e7mr11805367qvx.5.1712975348769; 
 Fri, 12 Apr 2024 19:29:08 -0700 (PDT)
Received: from postal.iol.unh.edu (postal.iol.unh.edu. [132.177.123.84])
 by smtp-relay.gmail.com with ESMTPS id
 k2-20020ad45be2000000b00698fc48f09dsm438915qvc.14.2024.04.12.19.29.08
 (version=TLS1_2 cipher=ECDHE-ECDSA-AES128-GCM-SHA256 bits=128/128);
 Fri, 12 Apr 2024 19:29:08 -0700 (PDT)
X-Relaying-Domain: iol.unh.edu
Date: Fri, 12 Apr 2024 19:29:08 -0700 (PDT)
Message-ID: <6619edf4.d40a0220.3f55b.1e24SMTPIN_ADDED_MISSING@mx.google.com>
Received: from [172.21.0.6] (unknown [172.18.0.240])
 by postal.iol.unh.edu (Postfix) with ESMTP id 6BFFB604D420;
 Fri, 12 Apr 2024 22:29:08 -0400 (EDT)
Subject: |SUCCESS| pw139251-139272 [PATCH] [24/24] net/axgbe: extend 10Mbps s
From: dpdklab@iol.unh.edu
To: Test Report <test-report@dpdk.org>
Cc: dpdk-test-reports@iol.unh.edu
In-Reply-To: <20240412125249.10625-24-VenkatKumar.Ande@amd.com>
References: <20240412125249.10625-24-VenkatKumar.Ande@amd.com>
Content-Type: text/plain
X-BeenThere: test-report@dpdk.org
X-Mailman-Version: 2.1.29
Precedence: list
List-Id: automatic DPDK test reports <test-report.dpdk.org>
List-Unsubscribe: <https://mails.dpdk.org/options/test-report>,
 <mailto:test-report-request@dpdk.org?subject=unsubscribe>
List-Archive: <http://mails.dpdk.org/archives/test-report/>
List-Post: <mailto:test-report@dpdk.org>
List-Help: <mailto:test-report-request@dpdk.org?subject=help>
List-Subscribe: <https://mails.dpdk.org/listinfo/test-report>,
 <mailto:test-report-request@dpdk.org?subject=subscribe>
Errors-To: test-report-bounces@dpdk.org

Test-Label: iol-unit-arm64-testing
Test-Status: SUCCESS
http://dpdk.org/patch/139272

_Testing PASS_

Submitter: Venkat Kumar Ande <venkatkumar.ande@amd.com>
Date: Friday, April 12 2024 12:52:49 
DPDK git baseline: Repo:dpdk
  Branch: master
  CommitID:6db5f91b5e628671c341b833f21ea35e65e9699d

139251-139272 --> testing pass

Test environment and result as below:

+-----------------------------+---------------------------+------------------------------+----------------+--------------+
|         Environment         | cryptodev_sw_zuc_autotest | cryptodev_sw_snow3g_autotest | dpdk_unit_test | lpm_autotest |
+=============================+===========================+==============================+================+==============+
| Debian 12 (arm)             | PASS                      | PASS                         | PASS           | SKIPPED      |
+-----------------------------+---------------------------+------------------------------+----------------+--------------+
| CentOS Stream 9 (ARM)       | SKIPPED                   | SKIPPED                      | PASS           | SKIPPED      |
+-----------------------------+---------------------------+------------------------------+----------------+--------------+
| Debian 11 (Buster) (ARM)    | SKIPPED                   | SKIPPED                      | PASS           | SKIPPED      |
+-----------------------------+---------------------------+------------------------------+----------------+--------------+
| Fedora 38 (ARM)             | SKIPPED                   | SKIPPED                      | PASS           | SKIPPED      |
+-----------------------------+---------------------------+------------------------------+----------------+--------------+
| Fedora 37 (ARM)             | SKIPPED                   | SKIPPED                      | PASS           | SKIPPED      |
+-----------------------------+---------------------------+------------------------------+----------------+--------------+
| Fedora 39 (ARM)             | SKIPPED                   | SKIPPED                      | PASS           | SKIPPED      |
+-----------------------------+---------------------------+------------------------------+----------------+--------------+
| 32-bit Ubuntu 20.04.4 (ARM) | SKIPPED                   | SKIPPED                      | PASS           | SKIPPED      |
+-----------------------------+---------------------------+------------------------------+----------------+--------------+
| Ubuntu 20.04 (ARM)          | SKIPPED                   | SKIPPED                      | PASS           | SKIPPED      |
+-----------------------------+---------------------------+------------------------------+----------------+--------------+
| Fedora 39 (ARM Clang)       | SKIPPED                   | SKIPPED                      | PASS           | SKIPPED      |
+-----------------------------+---------------------------+------------------------------+----------------+--------------+
| Fedora 38 (ARM Clang)       | SKIPPED                   | SKIPPED                      | PASS           | SKIPPED      |
+-----------------------------+---------------------------+------------------------------+----------------+--------------+
| Ubuntu 20.04 ARM SVE        | SKIPPED                   | SKIPPED                      | SKIPPED        | PASS         |
+-----------------------------+---------------------------+------------------------------+----------------+--------------+


Debian 12 (arm)
	Kernel: Container Host Kernel
	Compiler: gcc 12.2.0

CentOS Stream 9 (ARM)
	Kernel: Container Host Kernel
	Compiler: gcc 11.4.1

Debian 11 (Buster) (ARM)
	Kernel: Container Host Kernel
	Compiler: gcc 10.2.1

Fedora 38 (ARM)
	Kernel: Depends on container host
	Compiler: gcc 13.2.1

Fedora 37 (ARM)
	Kernel: Depends on container host
	Compiler: gcc 12.3.1

Fedora 39 (ARM)
	Kernel: Depends on container host
	Compiler: gcc 13.2.1

32-bit Ubuntu 20.04.4 (ARM)
	Kernel: 5.4.0-155-generic aarch64
	Compiler: gcc 9.4

Ubuntu 20.04 (ARM)
	Kernel: Container Host Kernel
	Compiler: gcc 9.4.0

Fedora 39 (ARM Clang)
	Kernel: Depends on container host
	Compiler: clang 17.0.6

Fedora 38 (ARM Clang)
	Kernel: Depends on container host
	Compiler: clang 16.0.6

Ubuntu 20.04 ARM SVE
	Kernel: 5.4.0-167-generic
	Compiler: gcc (Ubuntu 10.5.0-1ubuntu1~20.04) 10.5.0

To view detailed results, visit:
https://lab.dpdk.org/results/dashboard/patchsets/29770/

UNH-IOL DPDK Community Lab

To manage your email subscriptions, visit: 
https://lab.dpdk.org/results/dashboard/preferences/subscriptions/