From mboxrd@z Thu Jan  1 00:00:00 1970
Return-Path: <test-report-bounces@dpdk.org>
Received: from mails.dpdk.org (mails.dpdk.org [217.70.189.124])
	by inbox.dpdk.org (Postfix) with ESMTP id 5DDB443E59
	for <public@inbox.dpdk.org>; Sat, 13 Apr 2024 04:37:28 +0200 (CEST)
Received: from mails.dpdk.org (localhost [127.0.0.1])
	by mails.dpdk.org (Postfix) with ESMTP id 5632D40263;
	Sat, 13 Apr 2024 04:37:28 +0200 (CEST)
Received: from mail-yb1-f227.google.com (mail-yb1-f227.google.com
 [209.85.219.227])
 by mails.dpdk.org (Postfix) with ESMTP id 217C74014F
 for <test-report@dpdk.org>; Sat, 13 Apr 2024 04:37:27 +0200 (CEST)
Received: by mail-yb1-f227.google.com with SMTP id
 3f1490d57ef6-dc23bf7e5aaso1633904276.0
 for <test-report@dpdk.org>; Fri, 12 Apr 2024 19:37:27 -0700 (PDT)
DKIM-Signature: v=1; a=rsa-sha256; c=relaxed/relaxed;
 d=iol.unh.edu; s=unh-iol; t=1712975846; x=1713580646; darn=dpdk.org;
 h=references:in-reply-to:cc:to:from:subject:message-id:date:from:to
 :cc:subject:date:message-id:reply-to;
 bh=2dEP3jpv3LHRr0esoJd0PnWu34rlPzI6maSPxT9O5wE=;
 b=AQ9qD3OlI0XHxFOEFYawluRO18wsFmYxOF7CA7+CE+fo/2kKvlY2anI46egKaIp4Rb
 OCHKsNZy8K3nGt1udgNXG5+CvL9fQTGvXeT6/bmFSOm8yZC/lWGfE2KQfvZiNXVQnEVu
 Z5b77lckw//Uxk2td2knEUW8xjjpd8etZdi9I=
X-Google-DKIM-Signature: v=1; a=rsa-sha256; c=relaxed/relaxed;
 d=1e100.net; s=20230601; t=1712975846; x=1713580646;
 h=references:in-reply-to:cc:to:from:subject:message-id:date
 :x-gm-message-state:from:to:cc:subject:date:message-id:reply-to;
 bh=2dEP3jpv3LHRr0esoJd0PnWu34rlPzI6maSPxT9O5wE=;
 b=lBhjHPzKsv4cRwenOJxauluptdtTIAA3jR2IbyLAPN8yhI7TERGDpnlZjU5Xv6+Dpz
 6pTBeFVOrA+ILIOS/0q7r437XRbi2leLBSkQvc39ggYu/0d47J4bxMiux0phJWF2FqOP
 eknQPop4MRpdToiQQZ91ucxbMqaOnjEWJTSFBAUvRBH64HIFygi+4Lt3Oe8gFz1uzJ4U
 Arczl0NlmKmTlZkkM7XlwhvJGdaAD2uyGwg2EiPMBTiS2Pu8kGn8G8aEaHH0gZBRs75Y
 yjr95njNKuPqGkhxRRyKmwi9aOMabA2gI7bfrMOilDWVo2TSQh64ACTn0BVBz3dBfP/r
 NIkg==
X-Gm-Message-State: AOJu0Yye0XLR1F3ddJfTLghyCk5OxzJcNgszimto1IiGNt5Q5s4tDQoN
 w/rRVOqRe4fNQlt/Qp2YRjI+Ptvh0tAvrFLurPckQFkTIYvr48hBVL6IPilrLYfXEjG5xisp/JP
 hpStFGq4cGnOB9xwfumw02quBqls1oh6yIeQvct/o
X-Google-Smtp-Source: AGHT+IGCUAbsF99TQaLHKS/YI6wFwbehY70O7PRZPti0T2kOOROxuP6hlhZodHgIqFLs4rDB9waxB7Vnjx9I
X-Received: by 2002:a5b:b47:0:b0:dc7:32ea:c89f with SMTP id
 b7-20020a5b0b47000000b00dc732eac89fmr4445143ybr.15.1712975846605; 
 Fri, 12 Apr 2024 19:37:26 -0700 (PDT)
Received: from postal.iol.unh.edu (postal.iol.unh.edu. [132.177.123.84])
 by smtp-relay.gmail.com with ESMTPS id
 q5-20020a056902150500b00dcf5a12cd33sm304683ybu.18.2024.04.12.19.37.26
 (version=TLS1_2 cipher=ECDHE-ECDSA-AES128-GCM-SHA256 bits=128/128);
 Fri, 12 Apr 2024 19:37:26 -0700 (PDT)
X-Relaying-Domain: iol.unh.edu
Date: Fri, 12 Apr 2024 19:37:26 -0700 (PDT)
Message-ID: <6619efe6.050a0220.53ce6.ca0eSMTPIN_ADDED_MISSING@mx.google.com>
Received: from [172.21.0.7] (unknown [172.18.0.240])
 by postal.iol.unh.edu (Postfix) with ESMTP id 3F8BF604D420;
 Fri, 12 Apr 2024 22:37:26 -0400 (EDT)
Subject: |SUCCESS| pw139249-139250 [PATCH] [v2,2/2] doc/prog_guide: document 
From: dpdklab@iol.unh.edu
To: Test Report <test-report@dpdk.org>
Cc: dpdk-test-reports@iol.unh.edu
In-Reply-To: <20240412122740.104121-2-vojanec@cesnet.cz>
References: <20240412122740.104121-2-vojanec@cesnet.cz>
Content-Type: text/plain
X-BeenThere: test-report@dpdk.org
X-Mailman-Version: 2.1.29
Precedence: list
List-Id: automatic DPDK test reports <test-report.dpdk.org>
List-Unsubscribe: <https://mails.dpdk.org/options/test-report>,
 <mailto:test-report-request@dpdk.org?subject=unsubscribe>
List-Archive: <http://mails.dpdk.org/archives/test-report/>
List-Post: <mailto:test-report@dpdk.org>
List-Help: <mailto:test-report-request@dpdk.org?subject=help>
List-Subscribe: <https://mails.dpdk.org/listinfo/test-report>,
 <mailto:test-report-request@dpdk.org?subject=subscribe>
Errors-To: test-report-bounces@dpdk.org

Test-Label: iol-compile-amd64-testing
Test-Status: SUCCESS
http://dpdk.org/patch/139250

_Testing PASS_

Submitter: Kamil Vojanec <vojanec@cesnet.cz>
Date: Friday, April 12 2024 12:27:40 
DPDK git baseline: Repo:dpdk
  Branch: master
  CommitID:6db5f91b5e628671c341b833f21ea35e65e9699d

139249-139250 --> testing pass

Test environment and result as below:

+---------------------+--------------------+----------------------+-------------------+
|     Environment     | dpdk_meson_compile | dpdk_mingw64_compile | dpdk_msvc_compile |
+=====================+====================+======================+===================+
| FreeBSD 13.2        | PASS               | SKIPPED              | SKIPPED           |
+---------------------+--------------------+----------------------+-------------------+
| Windows Server 2022 | PASS               | PASS                 | PASS              |
+---------------------+--------------------+----------------------+-------------------+
| Windows Server 2019 | PASS               | PASS                 | SKIPPED           |
+---------------------+--------------------+----------------------+-------------------+
| Debian Bullseye     | PASS               | SKIPPED              | SKIPPED           |
+---------------------+--------------------+----------------------+-------------------+
| Debian 12           | PASS               | SKIPPED              | SKIPPED           |
+---------------------+--------------------+----------------------+-------------------+
| Fedora 37           | PASS               | SKIPPED              | SKIPPED           |
+---------------------+--------------------+----------------------+-------------------+
| CentOS Stream 9     | PASS               | SKIPPED              | SKIPPED           |
+---------------------+--------------------+----------------------+-------------------+
| Fedora 39           | PASS               | SKIPPED              | SKIPPED           |
+---------------------+--------------------+----------------------+-------------------+
| CentOS Stream 8     | PASS               | SKIPPED              | SKIPPED           |
+---------------------+--------------------+----------------------+-------------------+
| RHEL8               | PASS               | SKIPPED              | SKIPPED           |
+---------------------+--------------------+----------------------+-------------------+
| Ubuntu 20.04        | PASS               | SKIPPED              | SKIPPED           |
+---------------------+--------------------+----------------------+-------------------+
| openSUSE Leap 15    | PASS               | SKIPPED              | SKIPPED           |
+---------------------+--------------------+----------------------+-------------------+
| Alpine              | PASS               | SKIPPED              | SKIPPED           |
+---------------------+--------------------+----------------------+-------------------+
| Fedora 38           | PASS               | SKIPPED              | SKIPPED           |
+---------------------+--------------------+----------------------+-------------------+
| Ubuntu 22.04        | PASS               | SKIPPED              | SKIPPED           |
+---------------------+--------------------+----------------------+-------------------+


FreeBSD 13.2
	Kernel: 13.2
	Compiler: clang 14.0.5

Windows Server 2022
	Kernel: 10.0.20348.2031
	Compiler: clang 15.0.7, gcc 8.1.0 (MinGW), and MSVC VS 17.9

Windows Server 2019
	Kernel: 10.0.17763
	Compiler: clang 14.0 and gcc 8.1.0 (MinGW)

Debian Bullseye
	Kernel: 5.4.0-167-generic
	Compiler: gcc 10.2.1-6

Debian 12
	Kernel: Container Host Kernel
	Compiler: gcc 10.2.1

Fedora 37
	Kernel: Depends on container host system
	Compiler: gcc 12.3.1

CentOS Stream 9
	Kernel: 5.4.0-167-generic
	Compiler: gcc 11.4.1 20230605

Fedora 39
	Kernel: Depends on container host
	Compiler: gcc 13.2.1

CentOS Stream 8
	Kernel: 5.4.0-167-generic
	Compiler: gcc 8.5.0 20210514

RHEL8
	Kernel: 5.4.0-167-generic
	Compiler: gcc 8.5.0 20210514 (Red Hat 8.5.0-20)

Ubuntu 20.04
	Kernel: 5.4.0-167-generic
	Compiler: gcc 9.4.0-1ubuntu1~20.04.1

openSUSE Leap 15
	Kernel: 5.4.0-167-generic
	Compiler: gcc 7.5.0

Alpine
	Kernel: 5.4.0-167-generic
	Compiler: gcc (Alpine 12.2.1_git20220924-r10) 12.2.1 20220924

Fedora 38
	Kernel: Depends on container host
	Compiler: clang 16.0.6

Ubuntu 22.04
	Kernel: 5.4.0-167-generic
	Compiler: gcc 11.4.0

To view detailed results, visit:
https://lab.dpdk.org/results/dashboard/patchsets/29769/

UNH-IOL DPDK Community Lab

To manage your email subscriptions, visit: 
https://lab.dpdk.org/results/dashboard/preferences/subscriptions/