From mboxrd@z Thu Jan  1 00:00:00 1970
Return-Path: <test-report-bounces@dpdk.org>
Received: from mails.dpdk.org (mails.dpdk.org [217.70.189.124])
	by inbox.dpdk.org (Postfix) with ESMTP id AC53F43E59
	for <public@inbox.dpdk.org>; Sat, 13 Apr 2024 04:38:52 +0200 (CEST)
Received: from mails.dpdk.org (localhost [127.0.0.1])
	by mails.dpdk.org (Postfix) with ESMTP id A6B7740263;
	Sat, 13 Apr 2024 04:38:52 +0200 (CEST)
Received: from mail-il1-f225.google.com (mail-il1-f225.google.com
 [209.85.166.225])
 by mails.dpdk.org (Postfix) with ESMTP id 72DD54014F
 for <test-report@dpdk.org>; Sat, 13 Apr 2024 04:38:51 +0200 (CEST)
Received: by mail-il1-f225.google.com with SMTP id
 e9e14a558f8ab-36a260208e4so6317535ab.2
 for <test-report@dpdk.org>; Fri, 12 Apr 2024 19:38:51 -0700 (PDT)
DKIM-Signature: v=1; a=rsa-sha256; c=relaxed/relaxed;
 d=iol.unh.edu; s=unh-iol; t=1712975931; x=1713580731; darn=dpdk.org;
 h=references:in-reply-to:cc:to:from:subject:message-id:date:from:to
 :cc:subject:date:message-id:reply-to;
 bh=JGmbNJBNASnWtKERLCjbwSo8pYIs/d/5drcG+1tG+9w=;
 b=PFdkZezG/QjQnTp7dG/lzBp13e1G9zG8v82lJpVqFWA+p7qV0fZQxuMi28FLly0N/C
 s0P341VOuwgkLSD4lmvfa0GlUWaWFwwczE56AZ0A3yhY5nuhc2K0J3B8NpQ4pVjxR6tQ
 smSPGDPhFStE5uaHrw2P/a1vda3Xf9lVTo280=
X-Google-DKIM-Signature: v=1; a=rsa-sha256; c=relaxed/relaxed;
 d=1e100.net; s=20230601; t=1712975931; x=1713580731;
 h=references:in-reply-to:cc:to:from:subject:message-id:date
 :x-gm-message-state:from:to:cc:subject:date:message-id:reply-to;
 bh=JGmbNJBNASnWtKERLCjbwSo8pYIs/d/5drcG+1tG+9w=;
 b=r4t9EmK03TVBYi0G+UT5AYYIaocPJ83EYvoZuTFjeX5coUP/Y+DNcwl3CiEqJcF70g
 XLrfI1gmUfDqm9UOCRIVUIhaZM8yNfohDAaSVaw6oTD7nwZ4YkzGikGkzfm4lQoFmx6y
 1v2Cpp9Ji2OYbepg9ALum8BelqIfyinihHvNkzXr7Fg6EW1nV0ez+QrjFd0mQqlh6L2k
 iPbkfHgWz8OU+pZcpKlgHc0JgONTOleFWsYZkeYjgQjg4m0joZeFeZ5z7GJXYvLuUZBM
 DoeD6Equ+1/vVTtWKUnCGOxKMeNH+K4EsVyf5v72EQ9N12J556G2JQxm3TbeB4++5oFV
 0feg==
X-Gm-Message-State: AOJu0Yy6x7gBmKdzLyoTs62GdZYKvKbPEnd2tzp3kAcQaQoobJydUeyZ
 uGj5le7vARiEgZJSb/qzo2oX864oXEYS7UT8OKSO5NPTIXAJ+IWn3sBL16VHCjoLD9ngkDwM7WS
 b7KL+G1BNKTV+yFfh4ipAEE8cRVqS1GH2Phq2OMn7
X-Google-Smtp-Source: AGHT+IE338rijNfxMJSepWTgcFWs7Gr5h2VILGBpFo0IVKe4bw+NGaWxUzqN7cAgsUdyCHnLkx3MIL70/Cv6
X-Received: by 2002:a05:6e02:12c2:b0:36a:63dc:14ba with SMTP id
 i2-20020a056e0212c200b0036a63dc14bamr4941216ilm.19.1712975930880; 
 Fri, 12 Apr 2024 19:38:50 -0700 (PDT)
Received: from postal.iol.unh.edu (postal.iol.unh.edu. [132.177.123.84])
 by smtp-relay.gmail.com with ESMTPS id
 v10-20020a056e02164a00b0036a10f5c019sm320772ilu.47.2024.04.12.19.38.50
 (version=TLS1_2 cipher=ECDHE-ECDSA-AES128-GCM-SHA256 bits=128/128);
 Fri, 12 Apr 2024 19:38:50 -0700 (PDT)
X-Relaying-Domain: iol.unh.edu
Date: Fri, 12 Apr 2024 19:38:50 -0700 (PDT)
Message-ID: <6619f03a.050a0220.36ca0.d43eSMTPIN_ADDED_MISSING@mx.google.com>
Received: from [172.21.0.6] (unknown [172.18.0.240])
 by postal.iol.unh.edu (Postfix) with ESMTP id 64D69604D420;
 Fri, 12 Apr 2024 22:38:50 -0400 (EDT)
Subject: |SUCCESS| pw139247-139248 [PATCH] [2/2] doc/prog_guide: document dir
From: dpdklab@iol.unh.edu
To: Test Report <test-report@dpdk.org>
Cc: dpdk-test-reports@iol.unh.edu
In-Reply-To: <20240412122006.101673-2-vojanec@cesnet.cz>
References: <20240412122006.101673-2-vojanec@cesnet.cz>
Content-Type: text/plain
X-BeenThere: test-report@dpdk.org
X-Mailman-Version: 2.1.29
Precedence: list
List-Id: automatic DPDK test reports <test-report.dpdk.org>
List-Unsubscribe: <https://mails.dpdk.org/options/test-report>,
 <mailto:test-report-request@dpdk.org?subject=unsubscribe>
List-Archive: <http://mails.dpdk.org/archives/test-report/>
List-Post: <mailto:test-report@dpdk.org>
List-Help: <mailto:test-report-request@dpdk.org?subject=help>
List-Subscribe: <https://mails.dpdk.org/listinfo/test-report>,
 <mailto:test-report-request@dpdk.org?subject=subscribe>
Errors-To: test-report-bounces@dpdk.org

Test-Label: iol-unit-arm64-testing
Test-Status: SUCCESS
http://dpdk.org/patch/139248

_Testing PASS_

Submitter: Kamil Vojanec <vojanec@cesnet.cz>
Date: Friday, April 12 2024 12:20:06 
DPDK git baseline: Repo:dpdk
  Branch: master
  CommitID:6db5f91b5e628671c341b833f21ea35e65e9699d

139247-139248 --> testing pass

Test environment and result as below:

+--------------------------+----------------+------------------------------+---------------------------+
|       Environment        | dpdk_unit_test | cryptodev_sw_snow3g_autotest | cryptodev_sw_zuc_autotest |
+==========================+================+==============================+===========================+
| CentOS Stream 9 (ARM)    | PASS           | SKIPPED                      | SKIPPED                   |
+--------------------------+----------------+------------------------------+---------------------------+
| Debian 12 (arm)          | PASS           | PASS                         | PASS                      |
+--------------------------+----------------+------------------------------+---------------------------+
| Fedora 37 (ARM)          | PASS           | SKIPPED                      | SKIPPED                   |
+--------------------------+----------------+------------------------------+---------------------------+
| Debian 11 (Buster) (ARM) | PASS           | SKIPPED                      | SKIPPED                   |
+--------------------------+----------------+------------------------------+---------------------------+
| Fedora 38 (ARM)          | PASS           | SKIPPED                      | SKIPPED                   |
+--------------------------+----------------+------------------------------+---------------------------+
| Fedora 39 (ARM)          | PASS           | SKIPPED                      | SKIPPED                   |
+--------------------------+----------------+------------------------------+---------------------------+
| Ubuntu 20.04 (ARM)       | PASS           | SKIPPED                      | SKIPPED                   |
+--------------------------+----------------+------------------------------+---------------------------+


CentOS Stream 9 (ARM)
	Kernel: Container Host Kernel
	Compiler: gcc 11.4.1

Debian 12 (arm)
	Kernel: Container Host Kernel
	Compiler: gcc 12.2.0

Fedora 37 (ARM)
	Kernel: Depends on container host
	Compiler: gcc 12.3.1

Debian 11 (Buster) (ARM)
	Kernel: Container Host Kernel
	Compiler: gcc 10.2.1

Fedora 38 (ARM)
	Kernel: Depends on container host
	Compiler: gcc 13.2.1

Fedora 39 (ARM)
	Kernel: Depends on container host
	Compiler: gcc 13.2.1

Ubuntu 20.04 (ARM)
	Kernel: Container Host Kernel
	Compiler: gcc 9.4.0

To view detailed results, visit:
https://lab.dpdk.org/results/dashboard/patchsets/29768/

UNH-IOL DPDK Community Lab

To manage your email subscriptions, visit: 
https://lab.dpdk.org/results/dashboard/preferences/subscriptions/