From mboxrd@z Thu Jan  1 00:00:00 1970
Return-Path: <test-report-bounces@dpdk.org>
Received: from mails.dpdk.org (mails.dpdk.org [217.70.189.124])
	by inbox.dpdk.org (Postfix) with ESMTP id 54B0D43E59
	for <public@inbox.dpdk.org>; Sat, 13 Apr 2024 05:02:46 +0200 (CEST)
Received: from mails.dpdk.org (localhost [127.0.0.1])
	by mails.dpdk.org (Postfix) with ESMTP id 4ECF640294;
	Sat, 13 Apr 2024 05:02:46 +0200 (CEST)
Received: from mail-il1-f225.google.com (mail-il1-f225.google.com
 [209.85.166.225])
 by mails.dpdk.org (Postfix) with ESMTP id EAB23400D6
 for <test-report@dpdk.org>; Sat, 13 Apr 2024 05:02:44 +0200 (CEST)
Received: by mail-il1-f225.google.com with SMTP id
 e9e14a558f8ab-36a0d09e6ffso7038075ab.0
 for <test-report@dpdk.org>; Fri, 12 Apr 2024 20:02:44 -0700 (PDT)
DKIM-Signature: v=1; a=rsa-sha256; c=relaxed/relaxed;
 d=iol.unh.edu; s=unh-iol; t=1712977364; x=1713582164; darn=dpdk.org;
 h=references:in-reply-to:cc:to:from:subject:message-id:date:from:to
 :cc:subject:date:message-id:reply-to;
 bh=3P8I6VcjaowhldLHJzOlWHlgZ+7ROqY02UMNOMM0uW8=;
 b=IRkfO8tuIL3OdIogfnw1CSiZCvSnipYXGZVCWGZcTnCYOD0tgm5Npfb88TX/3/Xlde
 vE+bsjAPcvMe0P8dIJktPxhV5AoFjphk/bhxdBche/UyCnuVi1yl0AwV8cQj3aY8pVPv
 atLxmpDa2Zrj3mLGQH91XLUhmqNccnIbI/qr0=
X-Google-DKIM-Signature: v=1; a=rsa-sha256; c=relaxed/relaxed;
 d=1e100.net; s=20230601; t=1712977364; x=1713582164;
 h=references:in-reply-to:cc:to:from:subject:message-id:date
 :x-gm-message-state:from:to:cc:subject:date:message-id:reply-to;
 bh=3P8I6VcjaowhldLHJzOlWHlgZ+7ROqY02UMNOMM0uW8=;
 b=fI5hrTKZqPnNZYqZHJ5hULKCftLSPRakSG3DtjJGwN8wzUCmKO4doR0EKfSV6+JQ0z
 2Vu44vDhHqclY2PiG9lxUScUdAfvRqHAYSX8ZfuURoGKzQ4PPDD7q+xEsjiWpRJwHSmJ
 3pFfIA9SEb8/tgdJ2THNnUQFX44qaJGn8NECY7tS4+zb0hj45UvwGPKXirc+yoVkNeYb
 xa7xmoIrOcclja1mERXVcB3FmdIk8vMuXsqoeSDXlZGV+FRNvidMgBsipWilQya2//JZ
 Ng9qqRXE09rUC5n59SEsMWEw0hf+UR9O29RzA+fnKtQ+ioM0o3bMeZGYisnMO7Na2nhh
 WvpQ==
X-Gm-Message-State: AOJu0Yyv3ypB9NZrXN1kZax1xAA8blu/myqn+5eg0jaxj3AvYQkEFROA
 /2xyfbhRW7i6yFOm8Zzxnbt0bv4S7UNGp9FEjzhSh13Lb6Ok9eDj/H4XdVg3DAYpwOXb7dj5xfN
 SgHaQE1E4WSORlpKsVjSHWhENE+3zTybGxCEFAzCr
X-Google-Smtp-Source: AGHT+IFLN0zJM+itivXVVlFu771XjUgcdeUjRbYaZf6cqb42h3BwsB3NQYxPuCtcRU6u0z08i4pCPySMpEth
X-Received: by 2002:a05:6e02:16c5:b0:36a:352c:44d6 with SMTP id
 5-20020a056e0216c500b0036a352c44d6mr4957691ilx.13.1712977364403; 
 Fri, 12 Apr 2024 20:02:44 -0700 (PDT)
Received: from postal.iol.unh.edu (postal.iol.unh.edu. [132.177.123.84])
 by smtp-relay.gmail.com with ESMTPS id
 h15-20020a92c26f000000b00368a0f73e8csm316313ild.6.2024.04.12.20.02.44
 (version=TLS1_2 cipher=ECDHE-ECDSA-AES128-GCM-SHA256 bits=128/128);
 Fri, 12 Apr 2024 20:02:44 -0700 (PDT)
X-Relaying-Domain: iol.unh.edu
Date: Fri, 12 Apr 2024 20:02:44 -0700 (PDT)
Message-ID: <6619f5d4.920a0220.c67a3.d01dSMTPIN_ADDED_MISSING@mx.google.com>
Received: from [172.17.0.4] (unknown [172.18.0.217])
 by postal.iol.unh.edu (Postfix) with ESMTP id 02E8D604D420;
 Fri, 12 Apr 2024 23:02:44 -0400 (EDT)
Subject: |SUCCESS| pw139247-139248 [PATCH] [2/2] doc/prog_guide: document dir
From: dpdklab@iol.unh.edu
To: Test Report <test-report@dpdk.org>
Cc: dpdk-test-reports@iol.unh.edu
In-Reply-To: <20240412122006.101673-2-vojanec@cesnet.cz>
References: <20240412122006.101673-2-vojanec@cesnet.cz>
Content-Type: text/plain
X-BeenThere: test-report@dpdk.org
X-Mailman-Version: 2.1.29
Precedence: list
List-Id: automatic DPDK test reports <test-report.dpdk.org>
List-Unsubscribe: <https://mails.dpdk.org/options/test-report>,
 <mailto:test-report-request@dpdk.org?subject=unsubscribe>
List-Archive: <http://mails.dpdk.org/archives/test-report/>
List-Post: <mailto:test-report@dpdk.org>
List-Help: <mailto:test-report-request@dpdk.org?subject=help>
List-Subscribe: <https://mails.dpdk.org/listinfo/test-report>,
 <mailto:test-report-request@dpdk.org?subject=subscribe>
Errors-To: test-report-bounces@dpdk.org

Test-Label: iol-unit-amd64-testing
Test-Status: SUCCESS
http://dpdk.org/patch/139248

_Testing PASS_

Submitter: Kamil Vojanec <vojanec@cesnet.cz>
Date: Friday, April 12 2024 12:20:06 
DPDK git baseline: Repo:dpdk
  Branch: master
  CommitID:6db5f91b5e628671c341b833f21ea35e65e9699d

139247-139248 --> testing pass

Test environment and result as below:

+------------------+----------------+
|   Environment    | dpdk_unit_test |
+==================+================+
| CentOS Stream 8  | PASS           |
+------------------+----------------+
| CentOS Stream 9  | PASS           |
+------------------+----------------+
| Debian 12        | PASS           |
+------------------+----------------+
| Debian Bullseye  | PASS           |
+------------------+----------------+
| Fedora 38        | PASS           |
+------------------+----------------+
| Fedora 37        | PASS           |
+------------------+----------------+
| Fedora 39        | PASS           |
+------------------+----------------+
| RHEL8            | PASS           |
+------------------+----------------+
| openSUSE Leap 15 | PASS           |
+------------------+----------------+
| Ubuntu 20.04     | PASS           |
+------------------+----------------+
| Ubuntu 22.04     | PASS           |
+------------------+----------------+


CentOS Stream 8
	Kernel: 5.4.0-167-generic
	Compiler: gcc 8.5.0 20210514

CentOS Stream 9
	Kernel: 5.4.0-167-generic
	Compiler: gcc 11.4.1 20230605

Debian 12
	Kernel: Container Host Kernel
	Compiler: gcc 10.2.1

Debian Bullseye
	Kernel: 5.4.0-167-generic
	Compiler: gcc 10.2.1-6

Fedora 38
	Kernel: Depends on container host
	Compiler: gcc 13.2.1

Fedora 37
	Kernel: Depends on container host system
	Compiler: gcc 12.3.1

Fedora 39
	Kernel: Depends on container host
	Compiler: gcc 13.2.1

RHEL8
	Kernel: 5.4.0-167-generic
	Compiler: gcc 8.5.0 20210514 (Red Hat 8.5.0-20)

openSUSE Leap 15
	Kernel: 5.4.0-167-generic
	Compiler: gcc 7.5.0

Ubuntu 20.04
	Kernel: 5.4.0-167-generic
	Compiler: gcc 9.4.0-1ubuntu1~20.04.1

Ubuntu 22.04
	Kernel: 5.4.0-167-generic
	Compiler: gcc 11.4.0

To view detailed results, visit:
https://lab.dpdk.org/results/dashboard/patchsets/29768/

UNH-IOL DPDK Community Lab

To manage your email subscriptions, visit: 
https://lab.dpdk.org/results/dashboard/preferences/subscriptions/