From mboxrd@z Thu Jan  1 00:00:00 1970
Return-Path: <test-report-bounces@dpdk.org>
Received: from mails.dpdk.org (mails.dpdk.org [217.70.189.124])
	by inbox.dpdk.org (Postfix) with ESMTP id BD9E043E59
	for <public@inbox.dpdk.org>; Sat, 13 Apr 2024 05:03:29 +0200 (CEST)
Received: from mails.dpdk.org (localhost [127.0.0.1])
	by mails.dpdk.org (Postfix) with ESMTP id B866B40294;
	Sat, 13 Apr 2024 05:03:29 +0200 (CEST)
Received: from mail-qv1-f99.google.com (mail-qv1-f99.google.com
 [209.85.219.99]) by mails.dpdk.org (Postfix) with ESMTP id C73C0400D6
 for <test-report@dpdk.org>; Sat, 13 Apr 2024 05:03:28 +0200 (CEST)
Received: by mail-qv1-f99.google.com with SMTP id
 6a1803df08f44-69b24162dd6so7901866d6.2
 for <test-report@dpdk.org>; Fri, 12 Apr 2024 20:03:28 -0700 (PDT)
DKIM-Signature: v=1; a=rsa-sha256; c=relaxed/relaxed;
 d=iol.unh.edu; s=unh-iol; t=1712977408; x=1713582208; darn=dpdk.org;
 h=references:in-reply-to:cc:to:from:subject:message-id:date:from:to
 :cc:subject:date:message-id:reply-to;
 bh=uZjjYfQmGC+DANOkO77J4FM1jd7QoWiXsK5ONZKhNcg=;
 b=WQYdgL2BaOzDzxTyJ42+Sq10ATudmLeiaq7MrYDTvD189iQmVbO0dl1vSfL4MFpep9
 Kc9d62+0xYDNrlOz7UL6iFBI0rteHzrLSm8pGZVOYK2EM5J0m4NArnhSekEFJtkPia/D
 OYQKKDBZKgi82X7Q5wS5NyNHfk2eW4kelqpxY=
X-Google-DKIM-Signature: v=1; a=rsa-sha256; c=relaxed/relaxed;
 d=1e100.net; s=20230601; t=1712977408; x=1713582208;
 h=references:in-reply-to:cc:to:from:subject:message-id:date
 :x-gm-message-state:from:to:cc:subject:date:message-id:reply-to;
 bh=uZjjYfQmGC+DANOkO77J4FM1jd7QoWiXsK5ONZKhNcg=;
 b=WiP6NcjXPo0a46WfQl27vBgbFAJ/KHxnk8fQ1Gi4BsQqduvK6wNgQ/l2nC3SIkMGs2
 Wq3+P0TnaIR4/Gav+tJ4PiCOY8dC6VG6NsmgTPSVB6HN2T0ZLz7+ruzEhgGrqs46gVF4
 fFaa7ALdGg+G6rHVCuEK1FxWNzv1ie3pH9Rh9IJi926KpSA4MRHeBc2jLM9tieP/I4PH
 5B5pXfO8OtSt/rW+u2IeyZi560+Umex70rt5+HJE9GpzMxhikrT/FUmHArQItSxWa1K+
 UNfbPeUZsHY/IaPCZDj+ruK2/Jr/HoyNxp+oLk9fnypJTHG2CqbM1gTfqmidsN5XgKJJ
 HvBw==
X-Gm-Message-State: AOJu0Yzmbnm+kMMDVH4n0uChb3o4ESpOw+jhQ2LxJ0laI/fhwfc0qWpD
 JldeAS+3kzc6fOSEvWgZfx0JdQPv7plpYMEGiBmwVfvXzbof+w4mrTUnxicXbQQ1rDpXF9C4srm
 Wt8dP4P97IHkWuYdrPbRHSfS2RFuMyNex8aQ08ry5zWDd4ceGRPMiHYp7
X-Google-Smtp-Source: AGHT+IG3BHpX/zC4eJMNKLueeDOhf4ux/85VOLRMcWfmDn2vgx26sGTqiSejcWUameskT4qRMd3VeeWuSajm
X-Received: by 2002:a05:6214:2cd1:b0:69b:1c5c:2902 with SMTP id
 lf17-20020a0562142cd100b0069b1c5c2902mr4883160qvb.0.1712977408243; 
 Fri, 12 Apr 2024 20:03:28 -0700 (PDT)
Received: from postal.iol.unh.edu (postal.iol.unh.edu.
 [2606:4100:3880:1234::84]) by smtp-relay.gmail.com with ESMTPS id
 eq13-20020ad4596d000000b0069b1728a688sm431074qvb.53.2024.04.12.20.03.28
 (version=TLS1_2 cipher=ECDHE-ECDSA-AES128-GCM-SHA256 bits=128/128);
 Fri, 12 Apr 2024 20:03:28 -0700 (PDT)
X-Relaying-Domain: iol.unh.edu
Date: Fri, 12 Apr 2024 20:03:28 -0700 (PDT)
Message-ID: <6619f600.d40a0220.bd020.1af8SMTPIN_ADDED_MISSING@mx.google.com>
Received: from [172.17.0.4] (unknown [172.18.0.217])
 by postal.iol.unh.edu (Postfix) with ESMTP id EB6E7604D420;
 Fri, 12 Apr 2024 23:03:27 -0400 (EDT)
Subject: |SUCCESS| pw139244-139246 [PATCH] [v2,3/3] test/crypto: add QP depth
From: dpdklab@iol.unh.edu
To: Test Report <test-report@dpdk.org>
Cc: dpdk-test-reports@iol.unh.edu
In-Reply-To: <20240412115722.3709194-4-gakhil@marvell.com>
References: <20240412115722.3709194-4-gakhil@marvell.com>
Content-Type: text/plain
X-BeenThere: test-report@dpdk.org
X-Mailman-Version: 2.1.29
Precedence: list
List-Id: automatic DPDK test reports <test-report.dpdk.org>
List-Unsubscribe: <https://mails.dpdk.org/options/test-report>,
 <mailto:test-report-request@dpdk.org?subject=unsubscribe>
List-Archive: <http://mails.dpdk.org/archives/test-report/>
List-Post: <mailto:test-report@dpdk.org>
List-Help: <mailto:test-report-request@dpdk.org?subject=help>
List-Subscribe: <https://mails.dpdk.org/listinfo/test-report>,
 <mailto:test-report-request@dpdk.org?subject=subscribe>
Errors-To: test-report-bounces@dpdk.org

Test-Label: iol-compile-amd64-testing
Test-Status: SUCCESS
http://dpdk.org/patch/139246

_Testing PASS_

Submitter: Akhil Goyal <gakhil@marvell.com>
Date: Friday, April 12 2024 11:57:22 
DPDK git baseline: Repo:dpdk
  Branch: master
  CommitID:e2e546ab5bf5e024986ccb5310ab43982f3bb40c

139244-139246 --> testing pass

Test environment and result as below:

+---------------------+--------------------+----------------------+-------------------+
|     Environment     | dpdk_meson_compile | dpdk_mingw64_compile | dpdk_msvc_compile |
+=====================+====================+======================+===================+
| FreeBSD 13.2        | PASS               | SKIPPED              | SKIPPED           |
+---------------------+--------------------+----------------------+-------------------+
| Debian Bullseye     | PASS               | SKIPPED              | SKIPPED           |
+---------------------+--------------------+----------------------+-------------------+
| Windows Server 2019 | PASS               | PASS                 | SKIPPED           |
+---------------------+--------------------+----------------------+-------------------+
| CentOS Stream 8     | PASS               | SKIPPED              | SKIPPED           |
+---------------------+--------------------+----------------------+-------------------+
| CentOS Stream 9     | PASS               | SKIPPED              | SKIPPED           |
+---------------------+--------------------+----------------------+-------------------+
| Debian 12           | PASS               | SKIPPED              | SKIPPED           |
+---------------------+--------------------+----------------------+-------------------+
| Windows Server 2022 | PASS               | PASS                 | PASS              |
+---------------------+--------------------+----------------------+-------------------+
| Fedora 37           | PASS               | SKIPPED              | SKIPPED           |
+---------------------+--------------------+----------------------+-------------------+
| Fedora 38           | PASS               | SKIPPED              | SKIPPED           |
+---------------------+--------------------+----------------------+-------------------+
| openSUSE Leap 15    | PASS               | SKIPPED              | SKIPPED           |
+---------------------+--------------------+----------------------+-------------------+
| Fedora 39           | PASS               | SKIPPED              | SKIPPED           |
+---------------------+--------------------+----------------------+-------------------+
| Ubuntu 22.04        | PASS               | SKIPPED              | SKIPPED           |
+---------------------+--------------------+----------------------+-------------------+
| Ubuntu 20.04        | PASS               | SKIPPED              | SKIPPED           |
+---------------------+--------------------+----------------------+-------------------+
| RHEL8               | PASS               | SKIPPED              | SKIPPED           |
+---------------------+--------------------+----------------------+-------------------+
| Alpine              | PASS               | SKIPPED              | SKIPPED           |
+---------------------+--------------------+----------------------+-------------------+


FreeBSD 13.2
	Kernel: 13.2
	Compiler: clang 14.0.5

Debian Bullseye
	Kernel: 5.4.0-167-generic
	Compiler: gcc 10.2.1-6

Windows Server 2019
	Kernel: 10.0.17763
	Compiler: clang 14.0 and gcc 8.1.0 (MinGW)

CentOS Stream 8
	Kernel: 5.4.0-167-generic
	Compiler: gcc 8.5.0 20210514

CentOS Stream 9
	Kernel: 5.4.0-167-generic
	Compiler: gcc 11.4.1 20230605

Debian 12
	Kernel: Container Host Kernel
	Compiler: gcc 10.2.1

Windows Server 2022
	Kernel: 10.0.20348.2031
	Compiler: clang 15.0.7, gcc 8.1.0 (MinGW), and MSVC VS 17.9

Fedora 37
	Kernel: Depends on container host system
	Compiler: gcc 12.3.1

Fedora 38
	Kernel: Depends on container host
	Compiler: gcc 13.2.1

openSUSE Leap 15
	Kernel: 5.4.0-167-generic
	Compiler: gcc 7.5.0

Fedora 39
	Kernel: Depends on container host
	Compiler: gcc 13.2.1

Ubuntu 22.04
	Kernel: 5.4.0-167-generic
	Compiler: gcc 11.4.0

Ubuntu 20.04
	Kernel: 5.4.0-167-generic
	Compiler: gcc 9.4.0-1ubuntu1~20.04.1

RHEL8
	Kernel: 5.4.0-167-generic
	Compiler: gcc 8.5.0 20210514 (Red Hat 8.5.0-20)

Alpine
	Kernel: 5.4.0-167-generic
	Compiler: gcc (Alpine 12.2.1_git20220924-r10) 12.2.1 20220924

To view detailed results, visit:
https://lab.dpdk.org/results/dashboard/patchsets/29767/

UNH-IOL DPDK Community Lab

To manage your email subscriptions, visit: 
https://lab.dpdk.org/results/dashboard/preferences/subscriptions/