From mboxrd@z Thu Jan  1 00:00:00 1970
Return-Path: <test-report-bounces@dpdk.org>
Received: from mails.dpdk.org (mails.dpdk.org [217.70.189.124])
	by inbox.dpdk.org (Postfix) with ESMTP id C95E643E59
	for <public@inbox.dpdk.org>; Sat, 13 Apr 2024 05:05:20 +0200 (CEST)
Received: from mails.dpdk.org (localhost [127.0.0.1])
	by mails.dpdk.org (Postfix) with ESMTP id B219D40294;
	Sat, 13 Apr 2024 05:05:20 +0200 (CEST)
Received: from mail-io1-f98.google.com (mail-io1-f98.google.com
 [209.85.166.98]) by mails.dpdk.org (Postfix) with ESMTP id 6ACAF400D6
 for <test-report@dpdk.org>; Sat, 13 Apr 2024 05:05:19 +0200 (CEST)
Received: by mail-io1-f98.google.com with SMTP id
 ca18e2360f4ac-7d6a772af5bso43768739f.1
 for <test-report@dpdk.org>; Fri, 12 Apr 2024 20:05:19 -0700 (PDT)
DKIM-Signature: v=1; a=rsa-sha256; c=relaxed/relaxed;
 d=iol.unh.edu; s=unh-iol; t=1712977519; x=1713582319; darn=dpdk.org;
 h=references:in-reply-to:cc:to:from:subject:message-id:date:from:to
 :cc:subject:date:message-id:reply-to;
 bh=009EJ898iqvfK0xBHb41LNpDkWsRuMG9uovNnsSWhyQ=;
 b=P+gc36V9CIDQnFBgL9IyVxfYZb4g9MC6n6EVGn6Kq2PxFEkB0U0yP0ouxZeNWwCQUj
 JNpxZHkFYfzHPudE/vCCXBXfvIxqOvV0GpUkg9f1jDQ6i/vdqO+sH00XbEmW6Q8S/Wt6
 EHlDOrehUuJpb5hKIbtYQ+HMwRUGzPJfZG1YU=
X-Google-DKIM-Signature: v=1; a=rsa-sha256; c=relaxed/relaxed;
 d=1e100.net; s=20230601; t=1712977519; x=1713582319;
 h=references:in-reply-to:cc:to:from:subject:message-id:date
 :x-gm-message-state:from:to:cc:subject:date:message-id:reply-to;
 bh=009EJ898iqvfK0xBHb41LNpDkWsRuMG9uovNnsSWhyQ=;
 b=OY0MJuL6WFYJkYB2q+cxtkU9lMWsxFVynDZX36KFignNd57Tj+SaZgDlUgNxDP9zpA
 h2aT0gvwBWYvlk0zQmewkAfXzPq0T41EY8yBei6aLpcJd2AEL0q5JoPuxzR0Pul/x9ro
 MZWd8Z10GZuZp+L1KdXROI80wmcyLm35Cl34LGVkqdWlUp2YB0kX1mfugX4cp1yrF5iv
 TEKiMN4PG8NQt7leIDPXKn6Oh6KRWyErj7SXVzkO22tpKpojXQ/RPVI7dkqrrAeDhkz2
 xFMRq2Zmfl35tHmCv8NzxHlc3CZsSQdk3elb4Yy5rVL2k/OACE7t1w/j6gh0fnT+HVad
 f7Kg==
X-Gm-Message-State: AOJu0Yw1ljRGaChEOkz+QzwN59rQqlIYvG46R55yeftMEdvz8PDDe1V1
 v+jY/AggJgeo75s1NR4hJ9rIPPRyKSHDedOhYJ+LJoYDBBgZbq1S69G5JNPr7fV6NBT+QmAbpwu
 /AQAxOlTfd5W/pc9wN8w/M83PA+E2BoScs/KIYj3z
X-Google-Smtp-Source: AGHT+IHgudviSXYq1CP2Yu7LsilBi31p9qBrKTKMR9mJt50c7JTQOIHG1wopZI3eK/DSZup7vFFQbcWFVMeq
X-Received: by 2002:a05:6602:4c8a:b0:7d5:e8d5:f04c with SMTP id
 eu10-20020a0566024c8a00b007d5e8d5f04cmr5176062iob.9.1712977518893; 
 Fri, 12 Apr 2024 20:05:18 -0700 (PDT)
Received: from postal.iol.unh.edu (postal.iol.unh.edu. [132.177.123.84])
 by smtp-relay.gmail.com with ESMTPS id
 s4-20020a5eaa04000000b007d0c05abd35sm264522ioe.16.2024.04.12.20.05.18
 (version=TLS1_2 cipher=ECDHE-ECDSA-AES128-GCM-SHA256 bits=128/128);
 Fri, 12 Apr 2024 20:05:18 -0700 (PDT)
X-Relaying-Domain: iol.unh.edu
Date: Fri, 12 Apr 2024 20:05:18 -0700 (PDT)
Message-ID: <6619f66e.5e0a0220.5f978.a6e3SMTPIN_ADDED_MISSING@mx.google.com>
Received: from [172.17.0.4] (unknown [172.18.0.217])
 by postal.iol.unh.edu (Postfix) with ESMTP id 65A70604D420;
 Fri, 12 Apr 2024 23:05:18 -0400 (EDT)
Subject: |SUCCESS| pw139244-139246 [PATCH] [v2,3/3] test/crypto: add QP depth
From: dpdklab@iol.unh.edu
To: Test Report <test-report@dpdk.org>
Cc: dpdk-test-reports@iol.unh.edu
In-Reply-To: <20240412115722.3709194-4-gakhil@marvell.com>
References: <20240412115722.3709194-4-gakhil@marvell.com>
Content-Type: text/plain
X-BeenThere: test-report@dpdk.org
X-Mailman-Version: 2.1.29
Precedence: list
List-Id: automatic DPDK test reports <test-report.dpdk.org>
List-Unsubscribe: <https://mails.dpdk.org/options/test-report>,
 <mailto:test-report-request@dpdk.org?subject=unsubscribe>
List-Archive: <http://mails.dpdk.org/archives/test-report/>
List-Post: <mailto:test-report@dpdk.org>
List-Help: <mailto:test-report-request@dpdk.org?subject=help>
List-Subscribe: <https://mails.dpdk.org/listinfo/test-report>,
 <mailto:test-report-request@dpdk.org?subject=subscribe>
Errors-To: test-report-bounces@dpdk.org

Test-Label: iol-unit-arm64-testing
Test-Status: SUCCESS
http://dpdk.org/patch/139246

_Testing PASS_

Submitter: Akhil Goyal <gakhil@marvell.com>
Date: Friday, April 12 2024 11:57:22 
DPDK git baseline: Repo:dpdk
  Branch: master
  CommitID:e2e546ab5bf5e024986ccb5310ab43982f3bb40c

139244-139246 --> testing pass

Test environment and result as below:

+--------------------------+----------------+--------------+---------------------------+
|       Environment        | dpdk_unit_test | lpm_autotest | cryptodev_sw_zuc_autotest |
+==========================+================+==============+===========================+
| CentOS Stream 9 (ARM)    | PASS           | SKIPPED      | SKIPPED                   |
+--------------------------+----------------+--------------+---------------------------+
| Debian 11 (Buster) (ARM) | PASS           | SKIPPED      | SKIPPED                   |
+--------------------------+----------------+--------------+---------------------------+
| Debian 12 (arm)          | PASS           | SKIPPED      | PASS                      |
+--------------------------+----------------+--------------+---------------------------+
| Fedora 37 (ARM)          | PASS           | SKIPPED      | SKIPPED                   |
+--------------------------+----------------+--------------+---------------------------+
| Fedora 39 (ARM)          | PASS           | SKIPPED      | SKIPPED                   |
+--------------------------+----------------+--------------+---------------------------+
| Fedora 38 (ARM)          | PASS           | SKIPPED      | SKIPPED                   |
+--------------------------+----------------+--------------+---------------------------+
| Ubuntu 20.04 ARM SVE     | SKIPPED        | PASS         | SKIPPED                   |
+--------------------------+----------------+--------------+---------------------------+


CentOS Stream 9 (ARM)
	Kernel: Container Host Kernel
	Compiler: gcc 11.4.1

Debian 11 (Buster) (ARM)
	Kernel: Container Host Kernel
	Compiler: gcc 10.2.1

Debian 12 (arm)
	Kernel: Container Host Kernel
	Compiler: gcc 12.2.0

Fedora 37 (ARM)
	Kernel: Depends on container host
	Compiler: gcc 12.3.1

Fedora 39 (ARM)
	Kernel: Depends on container host
	Compiler: gcc 13.2.1

Fedora 38 (ARM)
	Kernel: Depends on container host
	Compiler: gcc 13.2.1

Ubuntu 20.04 ARM SVE
	Kernel: 5.4.0-167-generic
	Compiler: gcc (Ubuntu 10.5.0-1ubuntu1~20.04) 10.5.0

To view detailed results, visit:
https://lab.dpdk.org/results/dashboard/patchsets/29767/

UNH-IOL DPDK Community Lab

To manage your email subscriptions, visit: 
https://lab.dpdk.org/results/dashboard/preferences/subscriptions/