From mboxrd@z Thu Jan  1 00:00:00 1970
Return-Path: <test-report-bounces@dpdk.org>
Received: from mails.dpdk.org (mails.dpdk.org [217.70.189.124])
	by inbox.dpdk.org (Postfix) with ESMTP id BFF7543E7C
	for <public@inbox.dpdk.org>; Mon, 15 Apr 2024 19:34:33 +0200 (CEST)
Received: from mails.dpdk.org (localhost [127.0.0.1])
	by mails.dpdk.org (Postfix) with ESMTP id BB87C4028B;
	Mon, 15 Apr 2024 19:34:33 +0200 (CEST)
Received: from mail-pf1-f226.google.com (mail-pf1-f226.google.com
 [209.85.210.226])
 by mails.dpdk.org (Postfix) with ESMTP id D38624021E
 for <test-report@dpdk.org>; Mon, 15 Apr 2024 19:34:32 +0200 (CEST)
Received: by mail-pf1-f226.google.com with SMTP id
 d2e1a72fcca58-6ed20fb620fso2850107b3a.2
 for <test-report@dpdk.org>; Mon, 15 Apr 2024 10:34:32 -0700 (PDT)
DKIM-Signature: v=1; a=rsa-sha256; c=relaxed/relaxed;
 d=iol.unh.edu; s=unh-iol; t=1713202472; x=1713807272; darn=dpdk.org;
 h=references:in-reply-to:cc:to:from:subject:message-id:date:from:to
 :cc:subject:date:message-id:reply-to;
 bh=XABfXbeA/7YuJqmR+1LmmPCpw/XHOZp8bjpPh6FVXag=;
 b=K/ISRPgZJwxng3pQpsCJCyOvJp2JjMsBAu+d1KecnyGfHXcSqtcWjVdJfU7wlWY8ev
 gNGVoab1VhMHuvfIMXeOEKJjGx1QzDIDZSGTiVVFixQVx6YlYImrvBzEHJzo3A/t9UDu
 ajTBJVTrVPHqX6JjQ+e3wSpa0aqY8Yq1OY69M=
X-Google-DKIM-Signature: v=1; a=rsa-sha256; c=relaxed/relaxed;
 d=1e100.net; s=20230601; t=1713202472; x=1713807272;
 h=references:in-reply-to:cc:to:from:subject:message-id:date
 :x-gm-message-state:from:to:cc:subject:date:message-id:reply-to;
 bh=XABfXbeA/7YuJqmR+1LmmPCpw/XHOZp8bjpPh6FVXag=;
 b=MY3ko6DoE70QsE6FhyeJFCYlhFfL8l9hMjMX9KlPGml4oG6vgVI5LDRMW+O3FmjmSq
 TQ71lIvg48QM0RIUVGkHtODfGFBToC0V/yEknMriTok4KMylYX6HSayfLl8nmDEoCrkQ
 IoqueVSF+LzB69WQXyaOH1xHmVOzQSoopOmEOTIhCHphzDYrmuX5yr0kQPdoID7n7lld
 cXceMkrrb60z5LwAEGwIjR2RHIqODeEat6Jmegu42sbzDdoivD7TaCTh49Z7qYeA0nOb
 7XFcFvIRB+Y8pLE/jBVIrnRjTEtK/5Xitl2oMUw4fMCm/93O7YJBcxgRy7z7UxDVLVWk
 AGyw==
X-Gm-Message-State: AOJu0YytfjvBUTMfq2DgmOWipWNTgUdlcKsmjXpoAgDSdPFSdiHVTmPf
 0SJSbbLIVM6Px9cr8ei6G7UwYJaSbcWVGmnwl77EDH5LNw1gM/LN3wPb7b3FN1y7JBTeonB4oU7
 VVjBBbwNq5+6AV32bPcjh2O4tIfwKc+hC1WHXeRTCCzWN4zjYQ+WpqySI
X-Google-Smtp-Source: AGHT+IHmhyvPk/uAkE487cw1Rq7qxZq3Y2//M20+vbIrYR7YN9xUB/b//P2IotaBfbi2szMoXg/GXok4vuSz
X-Received: by 2002:a05:6a20:d706:b0:1aa:220a:d2a4 with SMTP id
 iz6-20020a056a20d70600b001aa220ad2a4mr2361918pzb.53.1713202472023; 
 Mon, 15 Apr 2024 10:34:32 -0700 (PDT)
Received: from postal.iol.unh.edu (postal.iol.unh.edu.
 [2606:4100:3880:1234::84]) by smtp-relay.gmail.com with ESMTPS id
 y40-20020a056a00182800b006ed2f947414sm818116pfa.14.2024.04.15.10.34.31
 (version=TLS1_2 cipher=ECDHE-ECDSA-AES128-GCM-SHA256 bits=128/128);
 Mon, 15 Apr 2024 10:34:32 -0700 (PDT)
X-Relaying-Domain: iol.unh.edu
Date: Mon, 15 Apr 2024 10:34:32 -0700 (PDT)
Message-ID: <661d6528.050a0220.8e64b.5c5dSMTPIN_ADDED_MISSING@mx.google.com>
Received: from [172.21.0.6] (unknown [172.18.0.240])
 by postal.iol.unh.edu (Postfix) with ESMTP id 1E217604D420;
 Mon, 15 Apr 2024 13:34:31 -0400 (EDT)
Subject: |SUCCESS| pw139292-139291 [PATCH] [v4,2/2] buildtools: when building
From: dpdklab@iol.unh.edu
To: Test Report <test-report@dpdk.org>
Cc: dpdk-test-reports@iol.unh.edu
In-Reply-To: <1713199543-30038-3-git-send-email-roretzla@linux.microsoft.com>
References: <1713199543-30038-3-git-send-email-roretzla@linux.microsoft.com>
Content-Type: text/plain
X-BeenThere: test-report@dpdk.org
X-Mailman-Version: 2.1.29
Precedence: list
List-Id: automatic DPDK test reports <test-report.dpdk.org>
List-Unsubscribe: <https://mails.dpdk.org/options/test-report>,
 <mailto:test-report-request@dpdk.org?subject=unsubscribe>
List-Archive: <http://mails.dpdk.org/archives/test-report/>
List-Post: <mailto:test-report@dpdk.org>
List-Help: <mailto:test-report-request@dpdk.org?subject=help>
List-Subscribe: <https://mails.dpdk.org/listinfo/test-report>,
 <mailto:test-report-request@dpdk.org?subject=subscribe>
Errors-To: test-report-bounces@dpdk.org

Test-Label: iol-compile-amd64-testing
Test-Status: SUCCESS
http://dpdk.org/patch/139291

_Testing PASS_

Submitter: Tyler Retzlaff <roretzla@linux.microsoft.com>
Date: Monday, April 15 2024 16:45:43 
DPDK git baseline: Repo:dpdk
  Branch: master
  CommitID:e2e546ab5bf5e024986ccb5310ab43982f3bb40c

139292-139291 --> testing pass

Test environment and result as below:

+---------------------+--------------------+----------------------+-------------------+
|     Environment     | dpdk_meson_compile | dpdk_mingw64_compile | dpdk_msvc_compile |
+=====================+====================+======================+===================+
| FreeBSD 13.2        | PASS               | SKIPPED              | SKIPPED           |
+---------------------+--------------------+----------------------+-------------------+
| CentOS Stream 9     | PASS               | SKIPPED              | SKIPPED           |
+---------------------+--------------------+----------------------+-------------------+
| CentOS Stream 8     | PASS               | SKIPPED              | SKIPPED           |
+---------------------+--------------------+----------------------+-------------------+
| Windows Server 2022 | PASS               | PASS                 | PASS              |
+---------------------+--------------------+----------------------+-------------------+
| Debian Bullseye     | PASS               | SKIPPED              | SKIPPED           |
+---------------------+--------------------+----------------------+-------------------+
| Fedora 37           | PASS               | SKIPPED              | SKIPPED           |
+---------------------+--------------------+----------------------+-------------------+
| Debian 12           | PASS               | SKIPPED              | SKIPPED           |
+---------------------+--------------------+----------------------+-------------------+
| Ubuntu 20.04        | PASS               | SKIPPED              | SKIPPED           |
+---------------------+--------------------+----------------------+-------------------+
| Ubuntu 22.04        | PASS               | SKIPPED              | SKIPPED           |
+---------------------+--------------------+----------------------+-------------------+
| openSUSE Leap 15    | PASS               | SKIPPED              | SKIPPED           |
+---------------------+--------------------+----------------------+-------------------+
| RHEL8               | PASS               | SKIPPED              | SKIPPED           |
+---------------------+--------------------+----------------------+-------------------+
| Windows Server 2019 | SKIPPED            | PASS                 | SKIPPED           |
+---------------------+--------------------+----------------------+-------------------+


FreeBSD 13.2
	Kernel: 13.2
	Compiler: clang 14.0.5

CentOS Stream 9
	Kernel: 5.4.0-167-generic
	Compiler: gcc 11.4.1 20230605

CentOS Stream 8
	Kernel: 5.4.0-167-generic
	Compiler: gcc 8.5.0 20210514

Windows Server 2022
	Kernel: 10.0.20348.2031
	Compiler: clang 15.0.7, gcc 8.1.0 (MinGW), and MSVC VS 17.9

Debian Bullseye
	Kernel: 5.4.0-167-generic
	Compiler: gcc 10.2.1-6

Fedora 37
	Kernel: Depends on container host system
	Compiler: gcc 12.3.1

Debian 12
	Kernel: Container Host Kernel
	Compiler: gcc 10.2.1

Ubuntu 20.04
	Kernel: 5.4.0-167-generic
	Compiler: gcc 9.4.0-1ubuntu1~20.04.1

Ubuntu 22.04
	Kernel: 5.4.0-167-generic
	Compiler: gcc 11.4.0

openSUSE Leap 15
	Kernel: 5.4.0-167-generic
	Compiler: gcc 7.5.0

RHEL8
	Kernel: 5.4.0-167-generic
	Compiler: gcc 8.5.0 20210514 (Red Hat 8.5.0-20)

Windows Server 2019
	Kernel: 10.0.17763
	Compiler: clang 14.0 and gcc 8.1.0 (MinGW)

To view detailed results, visit:
https://lab.dpdk.org/results/dashboard/patchsets/29779/

UNH-IOL DPDK Community Lab

To manage your email subscriptions, visit: 
https://lab.dpdk.org/results/dashboard/preferences/subscriptions/