From mboxrd@z Thu Jan  1 00:00:00 1970
Return-Path: <test-report-bounces@dpdk.org>
Received: from mails.dpdk.org (mails.dpdk.org [217.70.189.124])
	by inbox.dpdk.org (Postfix) with ESMTP id 1CFB143E7C
	for <public@inbox.dpdk.org>; Mon, 15 Apr 2024 19:43:56 +0200 (CEST)
Received: from mails.dpdk.org (localhost [127.0.0.1])
	by mails.dpdk.org (Postfix) with ESMTP id 190914028B;
	Mon, 15 Apr 2024 19:43:56 +0200 (CEST)
Received: from mail-pl1-f227.google.com (mail-pl1-f227.google.com
 [209.85.214.227])
 by mails.dpdk.org (Postfix) with ESMTP id 3DE814021E
 for <test-report@dpdk.org>; Mon, 15 Apr 2024 19:43:55 +0200 (CEST)
Received: by mail-pl1-f227.google.com with SMTP id
 d9443c01a7336-1e424bd30fbso27213895ad.0
 for <test-report@dpdk.org>; Mon, 15 Apr 2024 10:43:55 -0700 (PDT)
DKIM-Signature: v=1; a=rsa-sha256; c=relaxed/relaxed;
 d=iol.unh.edu; s=unh-iol; t=1713203034; x=1713807834; darn=dpdk.org;
 h=references:in-reply-to:cc:to:from:subject:message-id:date:from:to
 :cc:subject:date:message-id:reply-to;
 bh=2ErMdFnJCMymWL2MXawUIMI8PR7H+9kqgFlCR6MYnDY=;
 b=PtbQw2zpaEVMDu188I1vdRg/0E0cReNYOrVWV2SCxuCP7tnoL0yKINEKo7qUINJ3so
 MBGhJ5VUakl4j8NiZsSgEgyH3s4EbLBmlq++cRJaDRv4C9mtaGuLH01/BBNHBe5ows+F
 ft7XoGppWdd3zGR4joRaH7mxFRW2U3mNKkWps=
X-Google-DKIM-Signature: v=1; a=rsa-sha256; c=relaxed/relaxed;
 d=1e100.net; s=20230601; t=1713203034; x=1713807834;
 h=references:in-reply-to:cc:to:from:subject:message-id:date
 :x-gm-message-state:from:to:cc:subject:date:message-id:reply-to;
 bh=2ErMdFnJCMymWL2MXawUIMI8PR7H+9kqgFlCR6MYnDY=;
 b=rqGJpFL0WC8J9+aVBq2ivJ1Bs49jCkw89h6yrTZkh4WoPSgR1Zuo8wWZzgUzRirF0C
 PsioNkXtnDgiUV28651e+cKGd028FHCMUKyIZ0Y8lqfW9h5qPzLMmI1ssIs2KsCwS86G
 9rk/K4qXbNe2Ku4pNYW4vLCOqZ6iFC1sKcBlR9Cfq8Dc9Ad81zmLA1hgAac3BN4IGRBC
 extoLqwu7SEoFz+zECfThvaMzfFPY4Dd14uExDk7KE/GCJUl0YTGjgXJMMlKvDy+yJC3
 0Db68apWHNZcMGicKww1++W1YzoGI1kk6Da81Fqqz1UY+xCL6eVeQHzGWyd0vAEcSaFb
 dyow==
X-Gm-Message-State: AOJu0YyunN5Q1oYeJjaBRqNWHQ+iy/pAEU7VtRBl9W2azcEFdBMdgmbU
 zW6tOkFnixkGB/AGdKPlQ8az0B6FLYyEwlET31keZvBIksus6biSkI1mO7TormYaV316G5wosdB
 FFkxw32K5QymsmtSbMiu2YR6tskzELoyn/BGiX1rIm849h9F5kfPuDil7
X-Google-Smtp-Source: AGHT+IF3F8IfpIMf4Vl10rjNWv4DdvlKPpZWFImkDmLPGVx0feKvJ80R150PQtrCayUt6J0wheo266B2qS8X
X-Received: by 2002:a17:902:ce88:b0:1dc:7bc:d025 with SMTP id
 f8-20020a170902ce8800b001dc07bcd025mr15214277plg.4.1713203034571; 
 Mon, 15 Apr 2024 10:43:54 -0700 (PDT)
Received: from postal.iol.unh.edu (postal.iol.unh.edu.
 [2606:4100:3880:1234::84]) by smtp-relay.gmail.com with ESMTPS id
 iy2-20020a170903130200b001e25dab19d8sm381210plb.111.2024.04.15.10.43.54
 (version=TLS1_2 cipher=ECDHE-ECDSA-AES128-GCM-SHA256 bits=128/128);
 Mon, 15 Apr 2024 10:43:54 -0700 (PDT)
X-Relaying-Domain: iol.unh.edu
Date: Mon, 15 Apr 2024 10:43:54 -0700 (PDT)
Message-ID: <661d675a.170a0220.3567b.0078SMTPIN_ADDED_MISSING@mx.google.com>
Received: from [172.17.0.3] (unknown [172.18.0.217])
 by postal.iol.unh.edu (Postfix) with ESMTP id E4EA0604D420;
 Mon, 15 Apr 2024 13:43:53 -0400 (EDT)
Subject: |SUCCESS| pw139292-139291 [PATCH] [v4,2/2] buildtools: when building
From: dpdklab@iol.unh.edu
To: Test Report <test-report@dpdk.org>
Cc: dpdk-test-reports@iol.unh.edu
In-Reply-To: <1713199543-30038-3-git-send-email-roretzla@linux.microsoft.com>
References: <1713199543-30038-3-git-send-email-roretzla@linux.microsoft.com>
Content-Type: text/plain
X-BeenThere: test-report@dpdk.org
X-Mailman-Version: 2.1.29
Precedence: list
List-Id: automatic DPDK test reports <test-report.dpdk.org>
List-Unsubscribe: <https://mails.dpdk.org/options/test-report>,
 <mailto:test-report-request@dpdk.org?subject=unsubscribe>
List-Archive: <http://mails.dpdk.org/archives/test-report/>
List-Post: <mailto:test-report@dpdk.org>
List-Help: <mailto:test-report-request@dpdk.org?subject=help>
List-Subscribe: <https://mails.dpdk.org/listinfo/test-report>,
 <mailto:test-report-request@dpdk.org?subject=subscribe>
Errors-To: test-report-bounces@dpdk.org

Test-Label: iol-abi-testing
Test-Status: SUCCESS
http://dpdk.org/patch/139291

_Testing PASS_

Submitter: Tyler Retzlaff <roretzla@linux.microsoft.com>
Date: Monday, April 15 2024 16:45:43 
DPDK git baseline: Repo:dpdk
  Branch: master
  CommitID:e2e546ab5bf5e024986ccb5310ab43982f3bb40c

139292-139291 --> testing pass

Test environment and result as below:

+------------------+----------+
|   Environment    | abi_test |
+==================+==========+
| Debian Bullseye  | PASS     |
+------------------+----------+
| Debian 12        | PASS     |
+------------------+----------+
| Fedora 39        | PASS     |
+------------------+----------+
| CentOS Stream 8  | PASS     |
+------------------+----------+
| RHEL8            | PASS     |
+------------------+----------+
| openSUSE Leap 15 | PASS     |
+------------------+----------+
| Fedora 38        | PASS     |
+------------------+----------+
| CentOS Stream 9  | PASS     |
+------------------+----------+
| Ubuntu 22.04     | PASS     |
+------------------+----------+
| Fedora 37        | PASS     |
+------------------+----------+


Debian Bullseye
	Kernel: 5.4.0-167-generic
	Compiler: gcc 10.2.1-6

Debian 12
	Kernel: Container Host Kernel
	Compiler: gcc 10.2.1

Fedora 39
	Kernel: Depends on container host
	Compiler: gcc 13.2.1

CentOS Stream 8
	Kernel: 5.4.0-167-generic
	Compiler: gcc 8.5.0 20210514

RHEL8
	Kernel: 5.4.0-167-generic
	Compiler: gcc 8.5.0 20210514 (Red Hat 8.5.0-20)

openSUSE Leap 15
	Kernel: 5.4.0-167-generic
	Compiler: gcc 7.5.0

Fedora 38
	Kernel: Depends on container host
	Compiler: gcc 13.2.1

CentOS Stream 9
	Kernel: 5.4.0-167-generic
	Compiler: gcc 11.4.1 20230605

Ubuntu 22.04
	Kernel: 5.4.0-167-generic
	Compiler: gcc 11.4.0

Fedora 37
	Kernel: Depends on container host system
	Compiler: gcc 12.3.1

To view detailed results, visit:
https://lab.dpdk.org/results/dashboard/patchsets/29779/

UNH-IOL DPDK Community Lab

To manage your email subscriptions, visit: 
https://lab.dpdk.org/results/dashboard/preferences/subscriptions/