From mboxrd@z Thu Jan 1 00:00:00 1970 Return-Path: Received: from mails.dpdk.org (mails.dpdk.org [217.70.189.124]) by inbox.dpdk.org (Postfix) with ESMTP id E67CA43E7C for ; Mon, 15 Apr 2024 19:54:26 +0200 (CEST) Received: from mails.dpdk.org (localhost [127.0.0.1]) by mails.dpdk.org (Postfix) with ESMTP id E28644028B; Mon, 15 Apr 2024 19:54:26 +0200 (CEST) Received: from mail-pl1-f225.google.com (mail-pl1-f225.google.com [209.85.214.225]) by mails.dpdk.org (Postfix) with ESMTP id 330E14021E for ; Mon, 15 Apr 2024 19:54:26 +0200 (CEST) Received: by mail-pl1-f225.google.com with SMTP id d9443c01a7336-1e3ff14f249so26946725ad.1 for ; Mon, 15 Apr 2024 10:54:26 -0700 (PDT) DKIM-Signature: v=1; a=rsa-sha256; c=relaxed/relaxed; d=iol.unh.edu; s=unh-iol; t=1713203665; x=1713808465; darn=dpdk.org; h=references:in-reply-to:cc:to:from:subject:message-id:date:from:to :cc:subject:date:message-id:reply-to; bh=4a5kD+WMsfR9Im0aapTiTfGnNMKtBaaTV9PS6iHrCOE=; b=TqHxHwMQbVzxuusIKAZ9+fL/ZCLVNp5D9waJcgT1qJ9Zm6++VSAw066IPhVhPZ5qZk fNnG4yC51+zDfkKHgkm+bw0ZPToFN/QG5FrqdqJ6cL5vcIFxXV7G0T3Xf5S+QBjU7OS2 xO9penTwQz2I/Y3nVgXXLggCxI8Apsnlv1W8k= X-Google-DKIM-Signature: v=1; a=rsa-sha256; c=relaxed/relaxed; d=1e100.net; s=20230601; t=1713203665; x=1713808465; h=references:in-reply-to:cc:to:from:subject:message-id:date :x-gm-message-state:from:to:cc:subject:date:message-id:reply-to; bh=4a5kD+WMsfR9Im0aapTiTfGnNMKtBaaTV9PS6iHrCOE=; b=XkIFmaTyVMo3vlP4Em8GIdhgXLbf/XbCdZGnhmhyJDiXy07NeU3es+3afir/Dxvpl3 rPJY2l8BiuzXeY6fFHxII2fKU/zuMGNkaZArW/wliLIKJCNcdlUq5enREpfHzzB9st02 Hyy+HSqju0TpnWeW1oLK5iju7X/t3G7GB6XtiVsKvnjpTiQA/XzfSdKT7lf+p92FeqXX HDNBBoOygMUqhTlGNLulqJj0X0LB41KKObM3Y2cCnq6UUgHLsjcsblpEyxiZ9olWkfyB hn/nfY6132rWB0z8kdkCNatvDbZXF4Jhfw640UVAzMZpgKC9iPPd+/Xf0LnruMyecz2C lnZQ== X-Gm-Message-State: AOJu0Yw7qDZ3+ulwB+AlNJ4pbv3kxoT/cL+V60kNQE1tJV2bMjXeR+Io L+dzDb3yqDUix7pCneVeapikzsi8DF3lUPp4/zOotZfYQbkXS18+IPyYOiWjmHPjJuSokAA3Qr9 QR8vBqbLepsJC6dQq/FRdxMsGbpCD+XEF3x+RUtRh X-Google-Smtp-Source: AGHT+IFpDY3/sXT8sP4WAzmfmux/cNbnrMyTxlS2aLdve9hpxla/beb0kkDg1Wnb19gQ0PeJdS+18YmEYCOz X-Received: by 2002:a17:903:120c:b0:1e0:c0b9:589e with SMTP id l12-20020a170903120c00b001e0c0b9589emr513671plh.25.1713203665458; Mon, 15 Apr 2024 10:54:25 -0700 (PDT) Received: from postal.iol.unh.edu (postal.iol.unh.edu. [132.177.123.84]) by smtp-relay.gmail.com with ESMTPS id kf13-20020a17090305cd00b001e0b4e91a31sm396616plb.24.2024.04.15.10.54.25 (version=TLS1_2 cipher=ECDHE-ECDSA-AES128-GCM-SHA256 bits=128/128); Mon, 15 Apr 2024 10:54:25 -0700 (PDT) X-Relaying-Domain: iol.unh.edu Date: Mon, 15 Apr 2024 10:54:25 -0700 (PDT) Message-ID: <661d69d1.170a0220.26851.1324SMTPIN_ADDED_MISSING@mx.google.com> Received: from [172.21.0.6] (unknown [172.18.0.240]) by postal.iol.unh.edu (Postfix) with ESMTP id E50BF604D420; Mon, 15 Apr 2024 13:54:24 -0400 (EDT) Subject: |SUCCESS| pw139292-139291 [PATCH] [v4,2/2] buildtools: when building From: dpdklab@iol.unh.edu To: Test Report Cc: dpdk-test-reports@iol.unh.edu In-Reply-To: <1713199543-30038-3-git-send-email-roretzla@linux.microsoft.com> References: <1713199543-30038-3-git-send-email-roretzla@linux.microsoft.com> Content-Type: text/plain X-BeenThere: test-report@dpdk.org X-Mailman-Version: 2.1.29 Precedence: list List-Id: automatic DPDK test reports List-Unsubscribe: , List-Archive: List-Post: List-Help: List-Subscribe: , Errors-To: test-report-bounces@dpdk.org Test-Label: iol-compile-arm64-testing Test-Status: SUCCESS http://dpdk.org/patch/139291 _Testing PASS_ Submitter: Tyler Retzlaff Date: Monday, April 15 2024 16:45:43 DPDK git baseline: Repo:dpdk Branch: master CommitID:e2e546ab5bf5e024986ccb5310ab43982f3bb40c 139292-139291 --> testing pass Test environment and result as below: +----------------------------------------+--------------------+ | Environment | dpdk_meson_compile | +========================================+====================+ | Debian 12 with MUSDK | PASS | +----------------------------------------+--------------------+ | Ubuntu 20.04 ARM SVE | PASS | +----------------------------------------+--------------------+ | Fedora 39 (ARM) | PASS | +----------------------------------------+--------------------+ | Fedora 38 (ARM) | PASS | +----------------------------------------+--------------------+ | Fedora 37 (ARM) | PASS | +----------------------------------------+--------------------+ | CentOS Stream 9 (ARM) | PASS | +----------------------------------------+--------------------+ | Ubuntu 20.04 ARM Clang Cross Compile | PASS | +----------------------------------------+--------------------+ | Ubuntu 20.04 ARM GCC Cross Compile | PASS | +----------------------------------------+--------------------+ | Ubuntu 20.04 (ARM) | PASS | +----------------------------------------+--------------------+ | Debian 12 (arm) | PASS | +----------------------------------------+--------------------+ | Ubuntu 20.04 aarch32 GCC Cross Compile | PASS | +----------------------------------------+--------------------+ | Debian 11 (Buster) (ARM) | PASS | +----------------------------------------+--------------------+ Debian 12 with MUSDK Kernel: Container Host Kernel Compiler: gcc 12.2.0 Ubuntu 20.04 ARM SVE Kernel: 5.4.0-167-generic Compiler: gcc (Ubuntu 10.5.0-1ubuntu1~20.04) 10.5.0 Fedora 39 (ARM) Kernel: Depends on container host Compiler: gcc 13.2.1 Fedora 38 (ARM) Kernel: Depends on container host Compiler: gcc 13.2.1 Fedora 37 (ARM) Kernel: Depends on container host Compiler: gcc 12.3.1 CentOS Stream 9 (ARM) Kernel: Container Host Kernel Compiler: gcc 11.4.1 Ubuntu 20.04 ARM Clang Cross Compile Kernel: 5.4.0-72-generic Compiler: clang 10.0.0-4ubuntu1 Ubuntu 20.04 ARM GCC Cross Compile Kernel: 5.4.0-167-generic Compiler: aarch64-linux-gnu-gcc (Ubuntu 9.4.0-1ubuntu1~20.04.2) 9.4.0 Ubuntu 20.04 (ARM) Kernel: Container Host Kernel Compiler: gcc 9.4.0 Debian 12 (arm) Kernel: Container Host Kernel Compiler: gcc 12.2.0 Ubuntu 20.04 aarch32 GCC Cross Compile Kernel: 5.4.0-167-generic Compiler: gcc 9.4.0 Debian 11 (Buster) (ARM) Kernel: Container Host Kernel Compiler: gcc 10.2.1 To view detailed results, visit: https://lab.dpdk.org/results/dashboard/patchsets/29779/ UNH-IOL DPDK Community Lab To manage your email subscriptions, visit: https://lab.dpdk.org/results/dashboard/preferences/subscriptions/