From mboxrd@z Thu Jan  1 00:00:00 1970
Return-Path: <test-report-bounces@dpdk.org>
Received: from mails.dpdk.org (mails.dpdk.org [217.70.189.124])
	by inbox.dpdk.org (Postfix) with ESMTP id 12DD343E7C
	for <public@inbox.dpdk.org>; Mon, 15 Apr 2024 19:57:08 +0200 (CEST)
Received: from mails.dpdk.org (localhost [127.0.0.1])
	by mails.dpdk.org (Postfix) with ESMTP id 0C4CB4028B;
	Mon, 15 Apr 2024 19:57:08 +0200 (CEST)
Received: from mail-pf1-f226.google.com (mail-pf1-f226.google.com
 [209.85.210.226])
 by mails.dpdk.org (Postfix) with ESMTP id 91BFF4021E
 for <test-report@dpdk.org>; Mon, 15 Apr 2024 19:57:06 +0200 (CEST)
Received: by mail-pf1-f226.google.com with SMTP id
 d2e1a72fcca58-6eff9dc1821so1129440b3a.3
 for <test-report@dpdk.org>; Mon, 15 Apr 2024 10:57:06 -0700 (PDT)
DKIM-Signature: v=1; a=rsa-sha256; c=relaxed/relaxed;
 d=iol.unh.edu; s=unh-iol; t=1713203826; x=1713808626; darn=dpdk.org;
 h=references:in-reply-to:cc:to:from:subject:message-id:date:from:to
 :cc:subject:date:message-id:reply-to;
 bh=2ErMdFnJCMymWL2MXawUIMI8PR7H+9kqgFlCR6MYnDY=;
 b=ilm5E342KCo19zQbi6CwAjmjgcL3+o8EpBC1131aFAgUK2ATK3+LDyi0HzDKEs5Ttg
 qvKhGlRhP4hcp2AtsqwGKt2vo0gTsLzBow23sXJUZ64on484cDcyP0AFvCsEIZ/piCwY
 Orp3xXfXlGRrPCSeO4XJe0VBfMKuMik40dgj0=
X-Google-DKIM-Signature: v=1; a=rsa-sha256; c=relaxed/relaxed;
 d=1e100.net; s=20230601; t=1713203826; x=1713808626;
 h=references:in-reply-to:cc:to:from:subject:message-id:date
 :x-gm-message-state:from:to:cc:subject:date:message-id:reply-to;
 bh=2ErMdFnJCMymWL2MXawUIMI8PR7H+9kqgFlCR6MYnDY=;
 b=IU/byvbqBF0AJDE+Ix4wuVaz2jnDSP4fZWAxtmYsf2tIczUQcgHj150cBpCuMNIuHt
 7O/1JHLxbVylkG3PEpLrcxGpS8H2RU0A3i9nAsu/+O+NcfvxrNMKJVZEoVcl5arFPTYD
 yri/S3Q3zSorWTLb4SiyUxpGVhtKMI9vL5xrOQPoKe5dsIkoHZAzVWFZwtqg2WySCLPp
 +ruHFh9xV6+6+eoJDcAXR6DJZ2QxwGcCe9+O1Vpp4gZbttMCuKotYChtt+qcTONJCSC3
 35HUxdTW0yIPrPahmzB+xAQuBxp459fwmgpjoeDkM0wEN7Nh++hzCyFBL6tK2DfTz+3k
 fnRQ==
X-Gm-Message-State: AOJu0YzxWl8w2KES2E/Uk/4m1nzmmfHuhmD976y+7S+22q9fIs25JEbD
 uQ+6lIDzJ0VDH/epze0CkSIE03LG8+gBP9i38eCtC+YaNIJVJz6fppHqzlSQ16FdTtxMimw3q4v
 f6m3vlpeSyWq5SiPift2w5WOFnZ2aGD4T9k00aasb
X-Google-Smtp-Source: AGHT+IGJdpdp4nCe8/tAMzBbi1SBQ/9+UfP4z06XkSIMEB1fk172xWtU7QZsORs2vQD2i24PWgjpbuBd53y3
X-Received: by 2002:a05:6a20:96c1:b0:1a9:694b:cf28 with SMTP id
 hq1-20020a056a2096c100b001a9694bcf28mr8423811pzc.28.1713203825726; 
 Mon, 15 Apr 2024 10:57:05 -0700 (PDT)
Received: from postal.iol.unh.edu (postal.iol.unh.edu. [132.177.123.84])
 by smtp-relay.gmail.com with ESMTPS id
 le16-20020a056a004fd000b006eceb49e232sm784809pfb.4.2024.04.15.10.57.05
 (version=TLS1_2 cipher=ECDHE-ECDSA-AES128-GCM-SHA256 bits=128/128);
 Mon, 15 Apr 2024 10:57:05 -0700 (PDT)
X-Relaying-Domain: iol.unh.edu
Date: Mon, 15 Apr 2024 10:57:05 -0700 (PDT)
Message-ID: <661d6a71.050a0220.5950b.38f1SMTPIN_ADDED_MISSING@mx.google.com>
Received: from [172.21.0.6] (unknown [172.18.0.240])
 by postal.iol.unh.edu (Postfix) with ESMTP id E4C30604D420;
 Mon, 15 Apr 2024 13:57:04 -0400 (EDT)
Subject: |SUCCESS| pw139292-139291 [PATCH] [v4,2/2] buildtools: when building
From: dpdklab@iol.unh.edu
To: Test Report <test-report@dpdk.org>
Cc: dpdk-test-reports@iol.unh.edu
In-Reply-To: <1713199543-30038-3-git-send-email-roretzla@linux.microsoft.com>
References: <1713199543-30038-3-git-send-email-roretzla@linux.microsoft.com>
Content-Type: text/plain
X-BeenThere: test-report@dpdk.org
X-Mailman-Version: 2.1.29
Precedence: list
List-Id: automatic DPDK test reports <test-report.dpdk.org>
List-Unsubscribe: <https://mails.dpdk.org/options/test-report>,
 <mailto:test-report-request@dpdk.org?subject=unsubscribe>
List-Archive: <http://mails.dpdk.org/archives/test-report/>
List-Post: <mailto:test-report@dpdk.org>
List-Help: <mailto:test-report-request@dpdk.org?subject=help>
List-Subscribe: <https://mails.dpdk.org/listinfo/test-report>,
 <mailto:test-report-request@dpdk.org?subject=subscribe>
Errors-To: test-report-bounces@dpdk.org

Test-Label: iol-abi-testing
Test-Status: SUCCESS
http://dpdk.org/patch/139291

_Testing PASS_

Submitter: Tyler Retzlaff <roretzla@linux.microsoft.com>
Date: Monday, April 15 2024 16:45:43 
DPDK git baseline: Repo:dpdk
  Branch: master
  CommitID:e2e546ab5bf5e024986ccb5310ab43982f3bb40c

139292-139291 --> testing pass

Test environment and result as below:

+------------------+----------+
|   Environment    | abi_test |
+==================+==========+
| Debian Bullseye  | PASS     |
+------------------+----------+
| Debian 12        | PASS     |
+------------------+----------+
| Fedora 39        | PASS     |
+------------------+----------+
| CentOS Stream 8  | PASS     |
+------------------+----------+
| RHEL8            | PASS     |
+------------------+----------+
| openSUSE Leap 15 | PASS     |
+------------------+----------+
| Fedora 38        | PASS     |
+------------------+----------+
| CentOS Stream 9  | PASS     |
+------------------+----------+
| Ubuntu 22.04     | PASS     |
+------------------+----------+
| Fedora 37        | PASS     |
+------------------+----------+


Debian Bullseye
	Kernel: 5.4.0-167-generic
	Compiler: gcc 10.2.1-6

Debian 12
	Kernel: Container Host Kernel
	Compiler: gcc 10.2.1

Fedora 39
	Kernel: Depends on container host
	Compiler: gcc 13.2.1

CentOS Stream 8
	Kernel: 5.4.0-167-generic
	Compiler: gcc 8.5.0 20210514

RHEL8
	Kernel: 5.4.0-167-generic
	Compiler: gcc 8.5.0 20210514 (Red Hat 8.5.0-20)

openSUSE Leap 15
	Kernel: 5.4.0-167-generic
	Compiler: gcc 7.5.0

Fedora 38
	Kernel: Depends on container host
	Compiler: gcc 13.2.1

CentOS Stream 9
	Kernel: 5.4.0-167-generic
	Compiler: gcc 11.4.1 20230605

Ubuntu 22.04
	Kernel: 5.4.0-167-generic
	Compiler: gcc 11.4.0

Fedora 37
	Kernel: Depends on container host system
	Compiler: gcc 12.3.1

To view detailed results, visit:
https://lab.dpdk.org/results/dashboard/patchsets/29779/

UNH-IOL DPDK Community Lab

To manage your email subscriptions, visit: 
https://lab.dpdk.org/results/dashboard/preferences/subscriptions/