From mboxrd@z Thu Jan  1 00:00:00 1970
Return-Path: <test-report-bounces@dpdk.org>
Received: from mails.dpdk.org (mails.dpdk.org [217.70.189.124])
	by inbox.dpdk.org (Postfix) with ESMTP id 4335243E7D
	for <public@inbox.dpdk.org>; Mon, 15 Apr 2024 20:01:09 +0200 (CEST)
Received: from mails.dpdk.org (localhost [127.0.0.1])
	by mails.dpdk.org (Postfix) with ESMTP id 3FCDE4028B;
	Mon, 15 Apr 2024 20:01:09 +0200 (CEST)
Received: from mail-io1-f99.google.com (mail-io1-f99.google.com
 [209.85.166.99]) by mails.dpdk.org (Postfix) with ESMTP id 51F3C4021E
 for <test-report@dpdk.org>; Mon, 15 Apr 2024 20:01:08 +0200 (CEST)
Received: by mail-io1-f99.google.com with SMTP id
 ca18e2360f4ac-7d6ad896c6dso134975439f.1
 for <test-report@dpdk.org>; Mon, 15 Apr 2024 11:01:08 -0700 (PDT)
DKIM-Signature: v=1; a=rsa-sha256; c=relaxed/relaxed;
 d=iol.unh.edu; s=unh-iol; t=1713204067; x=1713808867; darn=dpdk.org;
 h=references:in-reply-to:cc:to:from:subject:message-id:date:from:to
 :cc:subject:date:message-id:reply-to;
 bh=2ErMdFnJCMymWL2MXawUIMI8PR7H+9kqgFlCR6MYnDY=;
 b=XoBoRacIpmqSwE1JXeVvWGaf2dD7h6sbaFQAQQDU1iLTQssQGE0CJYLmUR1+svvBiK
 PMSU/BpR3QUFj0Agt+fdDxOIJjCZo3pgtL3vm/2hWNfRYwdvFsOtIshx1OWKxkW+GNQi
 wPNKPn99x73Xx94Jhi1u+jNcHVye+aGoLs1o8=
X-Google-DKIM-Signature: v=1; a=rsa-sha256; c=relaxed/relaxed;
 d=1e100.net; s=20230601; t=1713204067; x=1713808867;
 h=references:in-reply-to:cc:to:from:subject:message-id:date
 :x-gm-message-state:from:to:cc:subject:date:message-id:reply-to;
 bh=2ErMdFnJCMymWL2MXawUIMI8PR7H+9kqgFlCR6MYnDY=;
 b=PQv9guFyTmYYcTIPraDHLoJpK33XI1MOOXYprRRk4zMyGlD6h6uVgyXpNWmM55qhj+
 RjfIaMx/ycS3i9SVdCFZBS8eQgok76P4SxF4nfqE/F3NaVs5mda9cpNrlKpQuX/19SvO
 GWExY896nCkateGJWz8/ZzKfnaLGtNxG40HsnREJdzCSgD77iK0gez4ZU0PbVlY0g8jy
 sIkX4tvf0sfgOBvy6KhkFisT69ni7vAnQsyyiTVygR4a/tu+Xahcd8gqYvCvluFcPklv
 XJrjzY57t5n7YIf7cMEhDbi+TvqEtRWy7P7GLqFRiKff+guDdcmmMByZvMbvK9bfzM09
 2oPQ==
X-Gm-Message-State: AOJu0YxoZhxMScwTcN+geTYjZJmCUz5LEOlwKUeCCssGxBe3tfA5irZH
 D5mlf/G3auDQ7vSx4Pj27aQIAudSE/JFhowIpss8NfPJIH9ZymTy0c2BlAGkr/dl7GroSKgsVjv
 uqhMvK/2aOLyUl+EzDMyIoZPYdTcoTFs79MADz361
X-Google-Smtp-Source: AGHT+IGtCTEf6GxFK3HET3QAGAJmM6pTG8bDTMCnUJROZjnaYvQgAh4mheGX6M65Ty5Ok5gBlRMX8ZUSnxEM
X-Received: by 2002:a05:6602:3983:b0:7d0:8cff:cff3 with SMTP id
 bw3-20020a056602398300b007d08cffcff3mr16629862iob.8.1713204066136; 
 Mon, 15 Apr 2024 11:01:06 -0700 (PDT)
Received: from postal.iol.unh.edu (postal.iol.unh.edu. [132.177.123.84])
 by smtp-relay.gmail.com with ESMTPS id
 hb2-20020a0566386c0200b0047f15268b1bsm516265jab.11.2024.04.15.11.01.06
 (version=TLS1_2 cipher=ECDHE-ECDSA-AES128-GCM-SHA256 bits=128/128);
 Mon, 15 Apr 2024 11:01:06 -0700 (PDT)
X-Relaying-Domain: iol.unh.edu
Date: Mon, 15 Apr 2024 11:01:06 -0700 (PDT)
Message-ID: <661d6b62.050a0220.70a3e.7ea7SMTPIN_ADDED_MISSING@mx.google.com>
Received: from [172.17.0.2] (unknown [172.18.0.217])
 by postal.iol.unh.edu (Postfix) with ESMTP id 96F54604D420;
 Mon, 15 Apr 2024 14:01:05 -0400 (EDT)
Subject: |SUCCESS| pw139292-139291 [PATCH] [v4,2/2] buildtools: when building
From: dpdklab@iol.unh.edu
To: Test Report <test-report@dpdk.org>
Cc: dpdk-test-reports@iol.unh.edu
In-Reply-To: <1713199543-30038-3-git-send-email-roretzla@linux.microsoft.com>
References: <1713199543-30038-3-git-send-email-roretzla@linux.microsoft.com>
Content-Type: text/plain
X-BeenThere: test-report@dpdk.org
X-Mailman-Version: 2.1.29
Precedence: list
List-Id: automatic DPDK test reports <test-report.dpdk.org>
List-Unsubscribe: <https://mails.dpdk.org/options/test-report>,
 <mailto:test-report-request@dpdk.org?subject=unsubscribe>
List-Archive: <http://mails.dpdk.org/archives/test-report/>
List-Post: <mailto:test-report@dpdk.org>
List-Help: <mailto:test-report-request@dpdk.org?subject=help>
List-Subscribe: <https://mails.dpdk.org/listinfo/test-report>,
 <mailto:test-report-request@dpdk.org?subject=subscribe>
Errors-To: test-report-bounces@dpdk.org

Test-Label: iol-abi-testing
Test-Status: SUCCESS
http://dpdk.org/patch/139291

_Testing PASS_

Submitter: Tyler Retzlaff <roretzla@linux.microsoft.com>
Date: Monday, April 15 2024 16:45:43 
DPDK git baseline: Repo:dpdk
  Branch: master
  CommitID:e2e546ab5bf5e024986ccb5310ab43982f3bb40c

139292-139291 --> testing pass

Test environment and result as below:

+------------------+----------+
|   Environment    | abi_test |
+==================+==========+
| Debian Bullseye  | PASS     |
+------------------+----------+
| Debian 12        | PASS     |
+------------------+----------+
| Fedora 39        | PASS     |
+------------------+----------+
| CentOS Stream 8  | PASS     |
+------------------+----------+
| RHEL8            | PASS     |
+------------------+----------+
| openSUSE Leap 15 | PASS     |
+------------------+----------+
| Fedora 38        | PASS     |
+------------------+----------+
| CentOS Stream 9  | PASS     |
+------------------+----------+
| Ubuntu 22.04     | PASS     |
+------------------+----------+
| Fedora 37        | PASS     |
+------------------+----------+


Debian Bullseye
	Kernel: 5.4.0-167-generic
	Compiler: gcc 10.2.1-6

Debian 12
	Kernel: Container Host Kernel
	Compiler: gcc 10.2.1

Fedora 39
	Kernel: Depends on container host
	Compiler: gcc 13.2.1

CentOS Stream 8
	Kernel: 5.4.0-167-generic
	Compiler: gcc 8.5.0 20210514

RHEL8
	Kernel: 5.4.0-167-generic
	Compiler: gcc 8.5.0 20210514 (Red Hat 8.5.0-20)

openSUSE Leap 15
	Kernel: 5.4.0-167-generic
	Compiler: gcc 7.5.0

Fedora 38
	Kernel: Depends on container host
	Compiler: gcc 13.2.1

CentOS Stream 9
	Kernel: 5.4.0-167-generic
	Compiler: gcc 11.4.1 20230605

Ubuntu 22.04
	Kernel: 5.4.0-167-generic
	Compiler: gcc 11.4.0

Fedora 37
	Kernel: Depends on container host system
	Compiler: gcc 12.3.1

To view detailed results, visit:
https://lab.dpdk.org/results/dashboard/patchsets/29779/

UNH-IOL DPDK Community Lab

To manage your email subscriptions, visit: 
https://lab.dpdk.org/results/dashboard/preferences/subscriptions/