From mboxrd@z Thu Jan  1 00:00:00 1970
Return-Path: <test-report-bounces@dpdk.org>
Received: from mails.dpdk.org (mails.dpdk.org [217.70.189.124])
	by inbox.dpdk.org (Postfix) with ESMTP id 3231D43E7D
	for <public@inbox.dpdk.org>; Mon, 15 Apr 2024 21:01:33 +0200 (CEST)
Received: from mails.dpdk.org (localhost [127.0.0.1])
	by mails.dpdk.org (Postfix) with ESMTP id 2CE894028B;
	Mon, 15 Apr 2024 21:01:33 +0200 (CEST)
Received: from mail-il1-f228.google.com (mail-il1-f228.google.com
 [209.85.166.228])
 by mails.dpdk.org (Postfix) with ESMTP id 66AAB4021E
 for <test-report@dpdk.org>; Mon, 15 Apr 2024 21:01:32 +0200 (CEST)
Received: by mail-il1-f228.google.com with SMTP id
 e9e14a558f8ab-36a3af91497so16558565ab.0
 for <test-report@dpdk.org>; Mon, 15 Apr 2024 12:01:32 -0700 (PDT)
DKIM-Signature: v=1; a=rsa-sha256; c=relaxed/relaxed;
 d=iol.unh.edu; s=unh-iol; t=1713207692; x=1713812492; darn=dpdk.org;
 h=references:in-reply-to:cc:to:from:subject:message-id:date:from:to
 :cc:subject:date:message-id:reply-to;
 bh=K8L0RyQwbpyEVpoNaeQnjbk6ZuHka5ws8n2xiUUzw/Q=;
 b=VCs+sqL4wn+sFQuPNQzfzw4xi9FoxzQ+IuNp3dMXbPk9OF/9jMroPBsVw2brrINkZQ
 jaBySSMBsaozUGNo90BACGMQpkv49m/od38V3Xg5C2KMC+4Q39Vvkq8LnE74kmJZvYRw
 4+R8sJq7xBy9rA6urBYj4FQpNSj6NCXSK62Os=
X-Google-DKIM-Signature: v=1; a=rsa-sha256; c=relaxed/relaxed;
 d=1e100.net; s=20230601; t=1713207692; x=1713812492;
 h=references:in-reply-to:cc:to:from:subject:message-id:date
 :x-gm-message-state:from:to:cc:subject:date:message-id:reply-to;
 bh=K8L0RyQwbpyEVpoNaeQnjbk6ZuHka5ws8n2xiUUzw/Q=;
 b=WuxGIKUFbpEZI5m3WEGBFJ23fle6/zStCux51g3YFC36lU267tpgK4MHgmBWeLrSmw
 gGbHCxne+24ToMmN9ZjmWt5WL0IyQx+uSbGLuseUtaRhVqYh2/GYcBJHUA+CF08SGdwf
 YXwtR+p28NLzVBRu7YtagcTTKfu2QpkhWQ+DHrH0ZI/KOovcdFwzqyq2XrCnAHVfNZ5z
 cN+Oe901fd4IIG8emKRrmRwhx6AerVJmzArBjpF05lDGRZwQClFpZDLlqvZ/wsIgstJw
 fRNxNa0oiDHACpCNfB/2YPX7ggQPg76sSJ0XzIGUA9X4l7tG4CjSjXgkMffWz8/IEX6e
 LmLQ==
X-Gm-Message-State: AOJu0YwE4jRTSj3TuWiIMevjVeZLtaS0K9bRgT8Wj0qCDBgUKWYsMEg3
 1NEUv4YKdSEHc5/qD/+44KCdoHgHukdOF40KqzpWeii6AdT2emCpFXIfHqq7CHDc+V8lzkADFWu
 pkw5SZwci06ZQK0TKu2su+Q3rzd8XfMwOj+ataQMt
X-Google-Smtp-Source: AGHT+IFcKKKQkEEKHVYasuC3yrD9JjOYtQdHBG7elBaZsUTkogX2Dy0kb7B1P5THnJyh+YwEat2qErrPm0RD
X-Received: by 2002:a05:6e02:2142:b0:368:96a2:f759 with SMTP id
 d2-20020a056e02214200b0036896a2f759mr14085900ilv.13.1713207691823; 
 Mon, 15 Apr 2024 12:01:31 -0700 (PDT)
Received: from postal.iol.unh.edu (postal.iol.unh.edu. [132.177.123.84])
 by smtp-relay.gmail.com with ESMTPS id
 kw13-20020a056638930d00b004827b78b623sm511246jab.82.2024.04.15.12.01.31
 (version=TLS1_2 cipher=ECDHE-ECDSA-AES128-GCM-SHA256 bits=128/128);
 Mon, 15 Apr 2024 12:01:31 -0700 (PDT)
X-Relaying-Domain: iol.unh.edu
Date: Mon, 15 Apr 2024 12:01:31 -0700 (PDT)
Message-ID: <661d798b.050a0220.88fa.6fbaSMTPIN_ADDED_MISSING@mx.google.com>
Received: from [172.17.0.2] (unknown [172.18.0.217])
 by postal.iol.unh.edu (Postfix) with ESMTP id 4344E604A958;
 Mon, 15 Apr 2024 15:01:31 -0400 (EDT)
Subject: |SUCCESS| pw139283-139290 [PATCH] [8/8] dma/odm: add remaining ops
From: dpdklab@iol.unh.edu
To: Test Report <test-report@dpdk.org>
Cc: dpdk-test-reports@iol.unh.edu
In-Reply-To: <20240415153159.86-9-anoobj@marvell.com>
References: <20240415153159.86-9-anoobj@marvell.com>
Content-Type: text/plain
X-BeenThere: test-report@dpdk.org
X-Mailman-Version: 2.1.29
Precedence: list
List-Id: automatic DPDK test reports <test-report.dpdk.org>
List-Unsubscribe: <https://mails.dpdk.org/options/test-report>,
 <mailto:test-report-request@dpdk.org?subject=unsubscribe>
List-Archive: <http://mails.dpdk.org/archives/test-report/>
List-Post: <mailto:test-report@dpdk.org>
List-Help: <mailto:test-report-request@dpdk.org?subject=help>
List-Subscribe: <https://mails.dpdk.org/listinfo/test-report>,
 <mailto:test-report-request@dpdk.org?subject=subscribe>
Errors-To: test-report-bounces@dpdk.org

Test-Label: iol-unit-arm64-testing
Test-Status: SUCCESS
http://dpdk.org/patch/139290

_Testing PASS_

Submitter: Anoob Joseph <anoobj@marvell.com>
Date: Monday, April 15 2024 15:31:59 
DPDK git baseline: Repo:dpdk
  Branch: master
  CommitID:e2e546ab5bf5e024986ccb5310ab43982f3bb40c

139283-139290 --> testing pass

Test environment and result as below:

+--------------------------+---------------------------+------------------------------+--------------+----------------+
|       Environment        | cryptodev_sw_zuc_autotest | cryptodev_sw_snow3g_autotest | lpm_autotest | dpdk_unit_test |
+==========================+===========================+==============================+==============+================+
| Debian 12 (arm)          | PASS                      | PASS                         | SKIPPED      | PASS           |
+--------------------------+---------------------------+------------------------------+--------------+----------------+
| Ubuntu 20.04 ARM SVE     | SKIPPED                   | SKIPPED                      | PASS         | SKIPPED        |
+--------------------------+---------------------------+------------------------------+--------------+----------------+
| Debian 11 (Buster) (ARM) | SKIPPED                   | SKIPPED                      | SKIPPED      | PASS           |
+--------------------------+---------------------------+------------------------------+--------------+----------------+
| CentOS Stream 9 (ARM)    | SKIPPED                   | SKIPPED                      | SKIPPED      | PASS           |
+--------------------------+---------------------------+------------------------------+--------------+----------------+
| Fedora 37 (ARM)          | SKIPPED                   | SKIPPED                      | SKIPPED      | PASS           |
+--------------------------+---------------------------+------------------------------+--------------+----------------+
| Fedora 38 (ARM)          | SKIPPED                   | SKIPPED                      | SKIPPED      | PASS           |
+--------------------------+---------------------------+------------------------------+--------------+----------------+
| Fedora 39 (ARM)          | SKIPPED                   | SKIPPED                      | SKIPPED      | PASS           |
+--------------------------+---------------------------+------------------------------+--------------+----------------+
| Ubuntu 20.04 (ARM)       | SKIPPED                   | SKIPPED                      | SKIPPED      | PASS           |
+--------------------------+---------------------------+------------------------------+--------------+----------------+


Debian 12 (arm)
	Kernel: Container Host Kernel
	Compiler: gcc 12.2.0

Ubuntu 20.04 ARM SVE
	Kernel: 5.4.0-167-generic
	Compiler: gcc (Ubuntu 10.5.0-1ubuntu1~20.04) 10.5.0

Debian 11 (Buster) (ARM)
	Kernel: Container Host Kernel
	Compiler: gcc 10.2.1

CentOS Stream 9 (ARM)
	Kernel: Container Host Kernel
	Compiler: gcc 11.4.1

Fedora 37 (ARM)
	Kernel: Depends on container host
	Compiler: gcc 12.3.1

Fedora 38 (ARM)
	Kernel: Depends on container host
	Compiler: gcc 13.2.1

Fedora 39 (ARM)
	Kernel: Depends on container host
	Compiler: gcc 13.2.1

Ubuntu 20.04 (ARM)
	Kernel: Container Host Kernel
	Compiler: gcc 9.4.0

To view detailed results, visit:
https://lab.dpdk.org/results/dashboard/patchsets/29778/

UNH-IOL DPDK Community Lab

To manage your email subscriptions, visit: 
https://lab.dpdk.org/results/dashboard/preferences/subscriptions/