From mboxrd@z Thu Jan  1 00:00:00 1970
Return-Path: <test-report-bounces@dpdk.org>
Received: from mails.dpdk.org (mails.dpdk.org [217.70.189.124])
	by inbox.dpdk.org (Postfix) with ESMTP id 3E87043E7D
	for <public@inbox.dpdk.org>; Mon, 15 Apr 2024 21:50:36 +0200 (CEST)
Received: from mails.dpdk.org (localhost [127.0.0.1])
	by mails.dpdk.org (Postfix) with ESMTP id 1550340293;
	Mon, 15 Apr 2024 21:50:36 +0200 (CEST)
Received: from mail-yb1-f226.google.com (mail-yb1-f226.google.com
 [209.85.219.226])
 by mails.dpdk.org (Postfix) with ESMTP id 153444027E
 for <test-report@dpdk.org>; Mon, 15 Apr 2024 21:50:35 +0200 (CEST)
Received: by mail-yb1-f226.google.com with SMTP id
 3f1490d57ef6-dc6cbe1ac75so2804937276.1
 for <test-report@dpdk.org>; Mon, 15 Apr 2024 12:50:35 -0700 (PDT)
DKIM-Signature: v=1; a=rsa-sha256; c=relaxed/relaxed;
 d=iol.unh.edu; s=unh-iol; t=1713210634; x=1713815434; darn=dpdk.org;
 h=references:in-reply-to:cc:to:from:subject:message-id:date:from:to
 :cc:subject:date:message-id:reply-to;
 bh=00yFpY5CDQi/mVti+aw5AMzQVOMywTeClUKAFZ658N4=;
 b=PdOOBFKMhluuI6nuAKTN0xKbUXy6nfPEGfuKpwjInlgYXQAtH85b2HWaCxvRxOyK6t
 4TE+PGcUG+Mt/I2PBtjyzWGA8VtI7A73lbzePR2eMrQ0RkB/fISbx/koscQXJEFwqYG7
 WC9U+f0BNFAU2GfnUenFE7sAuNmbeZUFVwgnM=
X-Google-DKIM-Signature: v=1; a=rsa-sha256; c=relaxed/relaxed;
 d=1e100.net; s=20230601; t=1713210634; x=1713815434;
 h=references:in-reply-to:cc:to:from:subject:message-id:date
 :x-gm-message-state:from:to:cc:subject:date:message-id:reply-to;
 bh=00yFpY5CDQi/mVti+aw5AMzQVOMywTeClUKAFZ658N4=;
 b=VXq/Jw+9217HL1PkXKCEpBnEdNwB8L8ILPkhSkjAsxhRKQzgKo0t1McuzEB9Et0/4k
 VjLgNpdGftsCyELBN7qD0huVuwtNx8nm0MI3+f9IGjeZosOU38a6RioZex5Ogftvhyib
 Pny/wAcg7d4rPvFP3eorTw0UdL9VfOrSg2olNpFOM2VE87gR+XDZHFxrCJF8xyRE887c
 l3SErFnJDSx0/4l0TUePoIud+2VaB9vBM1p371XUgmuYdHI2BnGWK1IDmFJlAYHruIIO
 O+bPml8/RHSIaCYovNzlcZGF6txFSgy0cYBaWl/S0GSA7a5Vk+qCPl+HKkOE+5z+sn80
 MsEw==
X-Gm-Message-State: AOJu0YzQy9/IxKLPIS2TwjGTjd2vrnW93QPzpxOUK2aC4QJxFqymGUNI
 EYn1kW1KHABYpJ//kOvD12TLeSkVbGIT+Xa2KvscxvuQ9Z6Wpp9eOg6bIH5UUZAcKqwKnPZ8Z/0
 17dvn5ZdgLRM0YYYAlOlJJLcRUvxHTS1vlVEEfJ+5cHHcW65OWI0Xip3I
X-Google-Smtp-Source: AGHT+IG7lgu6wSBesh//z43qh41LozpcZOeEmCF9OqeZ5J3pkVSiex3RREdAk9Owl1+qQK9PwE+QRUj5Gmcm
X-Received: by 2002:a25:2087:0:b0:dcf:a42b:7e2b with SMTP id
 g129-20020a252087000000b00dcfa42b7e2bmr678069ybg.3.1713210634418; 
 Mon, 15 Apr 2024 12:50:34 -0700 (PDT)
Received: from postal.iol.unh.edu (postal.iol.unh.edu.
 [2606:4100:3880:1234::84]) by smtp-relay.gmail.com with ESMTPS id
 w206-20020a0dd4d7000000b00614a68332e4sm807460ywd.42.2024.04.15.12.50.34
 (version=TLS1_2 cipher=ECDHE-ECDSA-AES128-GCM-SHA256 bits=128/128);
 Mon, 15 Apr 2024 12:50:34 -0700 (PDT)
X-Relaying-Domain: iol.unh.edu
Date: Mon, 15 Apr 2024 12:50:34 -0700 (PDT)
Message-ID: <661d850a.0d0a0220.5db05.a697SMTPIN_ADDED_MISSING@mx.google.com>
Received: from [172.17.0.2] (unknown [172.18.0.217])
 by postal.iol.unh.edu (Postfix) with ESMTP id 0CCAF604A958;
 Mon, 15 Apr 2024 15:50:34 -0400 (EDT)
Subject: |SUCCESS| pw139283-139290 [PATCH] [8/8] dma/odm: add remaining ops
From: dpdklab@iol.unh.edu
To: Test Report <test-report@dpdk.org>
Cc: dpdk-test-reports@iol.unh.edu
In-Reply-To: <20240415153159.86-9-anoobj@marvell.com>
References: <20240415153159.86-9-anoobj@marvell.com>
Content-Type: text/plain
X-BeenThere: test-report@dpdk.org
X-Mailman-Version: 2.1.29
Precedence: list
List-Id: automatic DPDK test reports <test-report.dpdk.org>
List-Unsubscribe: <https://mails.dpdk.org/options/test-report>,
 <mailto:test-report-request@dpdk.org?subject=unsubscribe>
List-Archive: <http://mails.dpdk.org/archives/test-report/>
List-Post: <mailto:test-report@dpdk.org>
List-Help: <mailto:test-report-request@dpdk.org?subject=help>
List-Subscribe: <https://mails.dpdk.org/listinfo/test-report>,
 <mailto:test-report-request@dpdk.org?subject=subscribe>
Errors-To: test-report-bounces@dpdk.org

Test-Label: iol-compile-arm64-testing
Test-Status: SUCCESS
http://dpdk.org/patch/139290

_Testing PASS_

Submitter: Anoob Joseph <anoobj@marvell.com>
Date: Monday, April 15 2024 15:31:59 
DPDK git baseline: Repo:dpdk
  Branch: master
  CommitID:e2e546ab5bf5e024986ccb5310ab43982f3bb40c

139283-139290 --> testing pass

Test environment and result as below:

+----------------------------------------+--------------------+
|              Environment               | dpdk_meson_compile |
+========================================+====================+
| Ubuntu 20.04 ARM SVE                   | PASS               |
+----------------------------------------+--------------------+
| Debian 12 with MUSDK                   | PASS               |
+----------------------------------------+--------------------+
| Ubuntu 20.04 ARM Clang Cross Compile   | PASS               |
+----------------------------------------+--------------------+
| Fedora 39 (ARM)                        | PASS               |
+----------------------------------------+--------------------+
| Fedora 38 (ARM)                        | PASS               |
+----------------------------------------+--------------------+
| Ubuntu 20.04 aarch32 GCC Cross Compile | PASS               |
+----------------------------------------+--------------------+
| Ubuntu 20.04 ARM GCC Cross Compile     | PASS               |
+----------------------------------------+--------------------+
| Fedora 37 (ARM)                        | PASS               |
+----------------------------------------+--------------------+
| Debian 11 (Buster) (ARM)               | PASS               |
+----------------------------------------+--------------------+
| Ubuntu 20.04 (ARM)                     | PASS               |
+----------------------------------------+--------------------+
| Debian 12 (arm)                        | PASS               |
+----------------------------------------+--------------------+
| CentOS Stream 9 (ARM)                  | PASS               |
+----------------------------------------+--------------------+
| Fedora 38 (ARM Clang)                  | PASS               |
+----------------------------------------+--------------------+
| Fedora 39 (ARM Clang)                  | PASS               |
+----------------------------------------+--------------------+


Ubuntu 20.04 ARM SVE
	Kernel: 5.4.0-167-generic
	Compiler: gcc (Ubuntu 10.5.0-1ubuntu1~20.04) 10.5.0

Debian 12 with MUSDK
	Kernel: Container Host Kernel
	Compiler: gcc 12.2.0

Ubuntu 20.04 ARM Clang Cross Compile
	Kernel: 5.4.0-72-generic
	Compiler: clang 10.0.0-4ubuntu1

Fedora 39 (ARM)
	Kernel: Depends on container host
	Compiler: gcc 13.2.1

Fedora 38 (ARM)
	Kernel: Depends on container host
	Compiler: gcc 13.2.1

Ubuntu 20.04 aarch32 GCC Cross Compile
	Kernel: 5.4.0-167-generic
	Compiler: gcc 9.4.0

Ubuntu 20.04 ARM GCC Cross Compile
	Kernel: 5.4.0-167-generic
	Compiler: aarch64-linux-gnu-gcc (Ubuntu 9.4.0-1ubuntu1~20.04.2) 9.4.0

Fedora 37 (ARM)
	Kernel: Depends on container host
	Compiler: gcc 12.3.1

Debian 11 (Buster) (ARM)
	Kernel: Container Host Kernel
	Compiler: gcc 10.2.1

Ubuntu 20.04 (ARM)
	Kernel: Container Host Kernel
	Compiler: gcc 9.4.0

Debian 12 (arm)
	Kernel: Container Host Kernel
	Compiler: gcc 12.2.0

CentOS Stream 9 (ARM)
	Kernel: Container Host Kernel
	Compiler: gcc 11.4.1

Fedora 38 (ARM Clang)
	Kernel: Depends on container host
	Compiler: clang 16.0.6

Fedora 39 (ARM Clang)
	Kernel: Depends on container host
	Compiler: clang 17.0.6

To view detailed results, visit:
https://lab.dpdk.org/results/dashboard/patchsets/29778/

UNH-IOL DPDK Community Lab

To manage your email subscriptions, visit: 
https://lab.dpdk.org/results/dashboard/preferences/subscriptions/