From mboxrd@z Thu Jan  1 00:00:00 1970
Return-Path: <test-report-bounces@dpdk.org>
Received: from mails.dpdk.org (mails.dpdk.org [217.70.189.124])
	by inbox.dpdk.org (Postfix) with ESMTP id 9E58A43E7E
	for <public@inbox.dpdk.org>; Mon, 15 Apr 2024 23:43:30 +0200 (CEST)
Received: from mails.dpdk.org (localhost [127.0.0.1])
	by mails.dpdk.org (Postfix) with ESMTP id 9A88040281;
	Mon, 15 Apr 2024 23:43:30 +0200 (CEST)
Received: from mail-yb1-f227.google.com (mail-yb1-f227.google.com
 [209.85.219.227])
 by mails.dpdk.org (Postfix) with ESMTP id 26BC14027E
 for <test-report@dpdk.org>; Mon, 15 Apr 2024 23:43:29 +0200 (CEST)
Received: by mail-yb1-f227.google.com with SMTP id
 3f1490d57ef6-dc25e12cc63so4409038276.0
 for <test-report@dpdk.org>; Mon, 15 Apr 2024 14:43:29 -0700 (PDT)
DKIM-Signature: v=1; a=rsa-sha256; c=relaxed/relaxed;
 d=iol.unh.edu; s=unh-iol; t=1713217408; x=1713822208; darn=dpdk.org;
 h=references:in-reply-to:cc:to:from:subject:message-id:date:from:to
 :cc:subject:date:message-id:reply-to;
 bh=821SN2iysIIZ+kkzFLzIQdVp6UzH/4Zj8pj0xGKiTqA=;
 b=KiNa2tF1OJe37H+n6kYi0z2GFmlal3rbhaZFMuxFieye+UXvjE+wbc416ltnsMZiaL
 Xd4WfJoIM6irylj/MAVKrg+GuGkJHK5JKeqcuOButn/8+P3FGoj95RKicaQweBZl0yxy
 DCFYhrnCLLu1dMK23wSeTODfFs4dy8443WJg4=
X-Google-DKIM-Signature: v=1; a=rsa-sha256; c=relaxed/relaxed;
 d=1e100.net; s=20230601; t=1713217408; x=1713822208;
 h=references:in-reply-to:cc:to:from:subject:message-id:date
 :x-gm-message-state:from:to:cc:subject:date:message-id:reply-to;
 bh=821SN2iysIIZ+kkzFLzIQdVp6UzH/4Zj8pj0xGKiTqA=;
 b=iKmV1gyz+K39cOg2lruEOirNXGfjSf7knVM6qcbyHa+f0lmQpsjLWm/GhXR8XmJ7zz
 Q8TUhzz4cdE69iZicuazooCEDVxPC6NXfUN4ePeYzbhW1Ow1kL3Tncl6cpPMlfsX3a6w
 xTQZnqRRRSUgMuRthAczZxgRByETFfaj+iaOHP82smnQZ2STprjXgXLBmHoYVCmupkJw
 jMneBfKOiPaJuwaWeh8bYYF+9jdqKJNPLfBHtJubvb4o/v7vRCNwS/qXaGh3pZB7jM17
 XCM6npAFPNdrl8e/IOg2p8jEqNFWmk9ahEbLLwxTFTEoTZ/Wg0ubwu2xYJ0fYFTURQLm
 lf5Q==
X-Gm-Message-State: AOJu0YzK4Fp8Dugh5Sb8O85Ln5nUFKjyRjcAMiQh9J7x/7BKJ2x5SkF6
 PgY51OV5GhFZCUBGffPViBgRkg4YU4ok3ATNUpUwjwtmAPhhRvgXMSgtYd3/4uzlvyhJRXzaSa1
 OeMk+/dTQZ+87dUcUmV7sqIn8HfxKTZ+v3UAr74h8Av5wqwNgFVgdbkyJ
X-Google-Smtp-Source: AGHT+IG82jUvfRl3mgNGZx433RcvcF2pXMQQjQOs8hSonjlp8nWEghDp54YR+ypfbxmFbl7HFIS1FR393IbT
X-Received: by 2002:a25:4903:0:b0:dcc:97c:5754 with SMTP id
 w3-20020a254903000000b00dcc097c5754mr182664yba.5.1713217408600; 
 Mon, 15 Apr 2024 14:43:28 -0700 (PDT)
Received: from postal.iol.unh.edu (postal.iol.unh.edu.
 [2606:4100:3880:1234::84]) by smtp-relay.gmail.com with ESMTPS id
 dh9-20020a056902200900b00dcf59d26e55sm628772ybb.12.2024.04.15.14.43.28
 (version=TLS1_2 cipher=ECDHE-ECDSA-AES128-GCM-SHA256 bits=128/128);
 Mon, 15 Apr 2024 14:43:28 -0700 (PDT)
X-Relaying-Domain: iol.unh.edu
Date: Mon, 15 Apr 2024 14:43:28 -0700 (PDT)
Message-ID: <661d9f80.050a0220.8f42e.c619SMTPIN_ADDED_MISSING@mx.google.com>
Received: from [172.21.0.6] (unknown [172.18.0.240])
 by postal.iol.unh.edu (Postfix) with ESMTP id 4060E604A958;
 Mon, 15 Apr 2024 17:43:28 -0400 (EDT)
Subject: |SUCCESS| pw139294-139293 [PATCH] [v5,2/2] buildtools: when building
From: dpdklab@iol.unh.edu
To: Test Report <test-report@dpdk.org>
Cc: dpdk-test-reports@iol.unh.edu
In-Reply-To: <1713201168-2233-3-git-send-email-roretzla@linux.microsoft.com>
References: <1713201168-2233-3-git-send-email-roretzla@linux.microsoft.com>
Content-Type: text/plain
X-BeenThere: test-report@dpdk.org
X-Mailman-Version: 2.1.29
Precedence: list
List-Id: automatic DPDK test reports <test-report.dpdk.org>
List-Unsubscribe: <https://mails.dpdk.org/options/test-report>,
 <mailto:test-report-request@dpdk.org?subject=unsubscribe>
List-Archive: <http://mails.dpdk.org/archives/test-report/>
List-Post: <mailto:test-report@dpdk.org>
List-Help: <mailto:test-report-request@dpdk.org?subject=help>
List-Subscribe: <https://mails.dpdk.org/listinfo/test-report>,
 <mailto:test-report-request@dpdk.org?subject=subscribe>
Errors-To: test-report-bounces@dpdk.org

Test-Label: iol-compile-arm64-testing
Test-Status: SUCCESS
http://dpdk.org/patch/139293

_Testing PASS_

Submitter: Tyler Retzlaff <roretzla@linux.microsoft.com>
Date: Monday, April 15 2024 17:12:48 
DPDK git baseline: Repo:dpdk
  Branch: master
  CommitID:e2e546ab5bf5e024986ccb5310ab43982f3bb40c

139294-139293 --> testing pass

Test environment and result as below:

+----------------------------------------+--------------------+
|              Environment               | dpdk_meson_compile |
+========================================+====================+
| Ubuntu 20.04 ARM SVE                   | PASS               |
+----------------------------------------+--------------------+
| Debian 12 with MUSDK                   | PASS               |
+----------------------------------------+--------------------+
| Ubuntu 20.04 aarch32 GCC Cross Compile | PASS               |
+----------------------------------------+--------------------+
| Ubuntu 20.04 ARM GCC Cross Compile     | PASS               |
+----------------------------------------+--------------------+
| Fedora 37 (ARM)                        | PASS               |
+----------------------------------------+--------------------+
| Fedora 38 (ARM)                        | PASS               |
+----------------------------------------+--------------------+
| Ubuntu 20.04 (ARM)                     | PASS               |
+----------------------------------------+--------------------+
| Debian 12 (arm)                        | PASS               |
+----------------------------------------+--------------------+
| Debian 11 (Buster) (ARM)               | PASS               |
+----------------------------------------+--------------------+
| Fedora 39 (ARM)                        | PASS               |
+----------------------------------------+--------------------+
| CentOS Stream 9 (ARM)                  | PASS               |
+----------------------------------------+--------------------+


Ubuntu 20.04 ARM SVE
	Kernel: 5.4.0-167-generic
	Compiler: gcc (Ubuntu 10.5.0-1ubuntu1~20.04) 10.5.0

Debian 12 with MUSDK
	Kernel: Container Host Kernel
	Compiler: gcc 12.2.0

Ubuntu 20.04 aarch32 GCC Cross Compile
	Kernel: 5.4.0-167-generic
	Compiler: gcc 9.4.0

Ubuntu 20.04 ARM GCC Cross Compile
	Kernel: 5.4.0-167-generic
	Compiler: aarch64-linux-gnu-gcc (Ubuntu 9.4.0-1ubuntu1~20.04.2) 9.4.0

Fedora 37 (ARM)
	Kernel: Depends on container host
	Compiler: gcc 12.3.1

Fedora 38 (ARM)
	Kernel: Depends on container host
	Compiler: gcc 13.2.1

Ubuntu 20.04 (ARM)
	Kernel: Container Host Kernel
	Compiler: gcc 9.4.0

Debian 12 (arm)
	Kernel: Container Host Kernel
	Compiler: gcc 12.2.0

Debian 11 (Buster) (ARM)
	Kernel: Container Host Kernel
	Compiler: gcc 10.2.1

Fedora 39 (ARM)
	Kernel: Depends on container host
	Compiler: gcc 13.2.1

CentOS Stream 9 (ARM)
	Kernel: Container Host Kernel
	Compiler: gcc 11.4.1

To view detailed results, visit:
https://lab.dpdk.org/results/dashboard/patchsets/29780/

UNH-IOL DPDK Community Lab

To manage your email subscriptions, visit: 
https://lab.dpdk.org/results/dashboard/preferences/subscriptions/