From mboxrd@z Thu Jan  1 00:00:00 1970
Return-Path: <test-report-bounces@dpdk.org>
Received: from mails.dpdk.org (mails.dpdk.org [217.70.189.124])
	by inbox.dpdk.org (Postfix) with ESMTP id B4D6B43E7E
	for <public@inbox.dpdk.org>; Mon, 15 Apr 2024 23:43:41 +0200 (CEST)
Received: from mails.dpdk.org (localhost [127.0.0.1])
	by mails.dpdk.org (Postfix) with ESMTP id B042A40281;
	Mon, 15 Apr 2024 23:43:41 +0200 (CEST)
Received: from mail-io1-f97.google.com (mail-io1-f97.google.com
 [209.85.166.97]) by mails.dpdk.org (Postfix) with ESMTP id 12C2A4027E
 for <test-report@dpdk.org>; Mon, 15 Apr 2024 23:43:41 +0200 (CEST)
Received: by mail-io1-f97.google.com with SMTP id
 ca18e2360f4ac-7d9858066ebso57941839f.0
 for <test-report@dpdk.org>; Mon, 15 Apr 2024 14:43:41 -0700 (PDT)
DKIM-Signature: v=1; a=rsa-sha256; c=relaxed/relaxed;
 d=iol.unh.edu; s=unh-iol; t=1713217420; x=1713822220; darn=dpdk.org;
 h=references:in-reply-to:cc:to:from:subject:message-id:date:from:to
 :cc:subject:date:message-id:reply-to;
 bh=821SN2iysIIZ+kkzFLzIQdVp6UzH/4Zj8pj0xGKiTqA=;
 b=b8nIH9V9ExEO+qFyFBYu+otcwuKVHLQNflkIvfQq+v6qZ+IkE82+PiqqvI40PAg+6A
 MHFyeiUxFVhhaQwxocp0rwfDVHDPj9wkOWaQHHa012+f+8JlCzO+M6L0vuZd26mbKlKk
 xb3+j4b9umHtz4UbfRyqN1sSHjnC3tMw+W/tk=
X-Google-DKIM-Signature: v=1; a=rsa-sha256; c=relaxed/relaxed;
 d=1e100.net; s=20230601; t=1713217420; x=1713822220;
 h=references:in-reply-to:cc:to:from:subject:message-id:date
 :x-gm-message-state:from:to:cc:subject:date:message-id:reply-to;
 bh=821SN2iysIIZ+kkzFLzIQdVp6UzH/4Zj8pj0xGKiTqA=;
 b=Jcc4reGe5wfRl/m0qizaYUVzSztx94PzpUlUElrJbsmU2zfWhCjb/pcjlk5v61+zph
 VWfytpb1dbgeYbB37OrBs0AG0Xog0N2GcFo7TqWuCEItzO7saodLDYK2cZpfI89P7sNL
 o+BgUUcZCKpDEMOT446Fs1F8BcVVa0nT96ceaA9G0TLe4NA7gIbJmE30CYmPBGEX1Q2f
 cw8vhSHN+hAkwg2R3MDpK5SaUTpno0wnJ6Tc6aAonhSMOSr1CkgQNbpzkspTD034VrMB
 IZ1M0HkEki62miQuoAO/CDE5M4M/qCoyV3NsLs1VHvdoNKUlf2ns0AHqYKrYHRHMt0X2
 i5BQ==
X-Gm-Message-State: AOJu0YxLpEcyaqvjQyvHhuJpfqgizFgV9rhmov6FfAa//lohYPvBfZnC
 ocHGJC0Y9DnshZoaEKV/nYEZwxD/UDF7MfqfzlLF9EsXuC1R522/jfmplJeDAE1omiiZaxfpYoh
 H6aL//aQ3fpwQaGhFdJ4NqSUKQsiZ3w43kxzJtTV2Rf8STO3YotJp8XYq
X-Google-Smtp-Source: AGHT+IFWQ8NTOMBH6/jnOZAwC2Z5fPcwChbQ/NXOuAWVhUlkFlV0yLeDpJJJBleQkLsYltkW1gdNz2Bp9lk5
X-Received: by 2002:a05:6602:3943:b0:7d6:3ecd:f07f with SMTP id
 bt3-20020a056602394300b007d63ecdf07fmr15187075iob.18.1713217420462; 
 Mon, 15 Apr 2024 14:43:40 -0700 (PDT)
Received: from postal.iol.unh.edu (postal.iol.unh.edu.
 [2606:4100:3880:1234::84]) by smtp-relay.gmail.com with ESMTPS id
 bc14-20020a0566383cce00b00482f631a3aasm318407jab.50.2024.04.15.14.43.40
 (version=TLS1_2 cipher=ECDHE-ECDSA-AES128-GCM-SHA256 bits=128/128);
 Mon, 15 Apr 2024 14:43:40 -0700 (PDT)
X-Relaying-Domain: iol.unh.edu
Date: Mon, 15 Apr 2024 14:43:40 -0700 (PDT)
Message-ID: <661d9f8c.050a0220.fe632.ede4SMTPIN_ADDED_MISSING@mx.google.com>
Received: from [172.21.0.6] (unknown [172.18.0.240])
 by postal.iol.unh.edu (Postfix) with ESMTP id 1A9E8604A958;
 Mon, 15 Apr 2024 17:43:40 -0400 (EDT)
Subject: |SUCCESS| pw139294-139293 [PATCH] [v5,2/2] buildtools: when building
From: dpdklab@iol.unh.edu
To: Test Report <test-report@dpdk.org>
Cc: dpdk-test-reports@iol.unh.edu
In-Reply-To: <1713201168-2233-3-git-send-email-roretzla@linux.microsoft.com>
References: <1713201168-2233-3-git-send-email-roretzla@linux.microsoft.com>
Content-Type: text/plain
X-BeenThere: test-report@dpdk.org
X-Mailman-Version: 2.1.29
Precedence: list
List-Id: automatic DPDK test reports <test-report.dpdk.org>
List-Unsubscribe: <https://mails.dpdk.org/options/test-report>,
 <mailto:test-report-request@dpdk.org?subject=unsubscribe>
List-Archive: <http://mails.dpdk.org/archives/test-report/>
List-Post: <mailto:test-report@dpdk.org>
List-Help: <mailto:test-report-request@dpdk.org?subject=help>
List-Subscribe: <https://mails.dpdk.org/listinfo/test-report>,
 <mailto:test-report-request@dpdk.org?subject=subscribe>
Errors-To: test-report-bounces@dpdk.org

Test-Label: iol-compile-arm64-testing
Test-Status: SUCCESS
http://dpdk.org/patch/139293

_Testing PASS_

Submitter: Tyler Retzlaff <roretzla@linux.microsoft.com>
Date: Monday, April 15 2024 17:12:48 
DPDK git baseline: Repo:dpdk
  Branch: master
  CommitID:e2e546ab5bf5e024986ccb5310ab43982f3bb40c

139294-139293 --> testing pass

Test environment and result as below:

+----------------------------------------+--------------------+
|              Environment               | dpdk_meson_compile |
+========================================+====================+
| Ubuntu 20.04 ARM SVE                   | PASS               |
+----------------------------------------+--------------------+
| Debian 12 with MUSDK                   | PASS               |
+----------------------------------------+--------------------+
| Ubuntu 20.04 aarch32 GCC Cross Compile | PASS               |
+----------------------------------------+--------------------+
| Ubuntu 20.04 ARM GCC Cross Compile     | PASS               |
+----------------------------------------+--------------------+
| Fedora 37 (ARM)                        | PASS               |
+----------------------------------------+--------------------+
| Fedora 38 (ARM)                        | PASS               |
+----------------------------------------+--------------------+
| Ubuntu 20.04 (ARM)                     | PASS               |
+----------------------------------------+--------------------+
| Debian 12 (arm)                        | PASS               |
+----------------------------------------+--------------------+
| Debian 11 (Buster) (ARM)               | PASS               |
+----------------------------------------+--------------------+
| Fedora 39 (ARM)                        | PASS               |
+----------------------------------------+--------------------+
| CentOS Stream 9 (ARM)                  | PASS               |
+----------------------------------------+--------------------+


Ubuntu 20.04 ARM SVE
	Kernel: 5.4.0-167-generic
	Compiler: gcc (Ubuntu 10.5.0-1ubuntu1~20.04) 10.5.0

Debian 12 with MUSDK
	Kernel: Container Host Kernel
	Compiler: gcc 12.2.0

Ubuntu 20.04 aarch32 GCC Cross Compile
	Kernel: 5.4.0-167-generic
	Compiler: gcc 9.4.0

Ubuntu 20.04 ARM GCC Cross Compile
	Kernel: 5.4.0-167-generic
	Compiler: aarch64-linux-gnu-gcc (Ubuntu 9.4.0-1ubuntu1~20.04.2) 9.4.0

Fedora 37 (ARM)
	Kernel: Depends on container host
	Compiler: gcc 12.3.1

Fedora 38 (ARM)
	Kernel: Depends on container host
	Compiler: gcc 13.2.1

Ubuntu 20.04 (ARM)
	Kernel: Container Host Kernel
	Compiler: gcc 9.4.0

Debian 12 (arm)
	Kernel: Container Host Kernel
	Compiler: gcc 12.2.0

Debian 11 (Buster) (ARM)
	Kernel: Container Host Kernel
	Compiler: gcc 10.2.1

Fedora 39 (ARM)
	Kernel: Depends on container host
	Compiler: gcc 13.2.1

CentOS Stream 9 (ARM)
	Kernel: Container Host Kernel
	Compiler: gcc 11.4.1

To view detailed results, visit:
https://lab.dpdk.org/results/dashboard/patchsets/29780/

UNH-IOL DPDK Community Lab

To manage your email subscriptions, visit: 
https://lab.dpdk.org/results/dashboard/preferences/subscriptions/