From mboxrd@z Thu Jan  1 00:00:00 1970
Return-Path: <test-report-bounces@dpdk.org>
Received: from mails.dpdk.org (mails.dpdk.org [217.70.189.124])
	by inbox.dpdk.org (Postfix) with ESMTP id 5819C43E7F
	for <public@inbox.dpdk.org>; Tue, 16 Apr 2024 00:24:48 +0200 (CEST)
Received: from mails.dpdk.org (localhost [127.0.0.1])
	by mails.dpdk.org (Postfix) with ESMTP id 4AC0C4026C;
	Tue, 16 Apr 2024 00:24:48 +0200 (CEST)
Received: from mail-pf1-f227.google.com (mail-pf1-f227.google.com
 [209.85.210.227])
 by mails.dpdk.org (Postfix) with ESMTP id F01964021E
 for <test-report@dpdk.org>; Tue, 16 Apr 2024 00:24:40 +0200 (CEST)
Received: by mail-pf1-f227.google.com with SMTP id
 d2e1a72fcca58-6ed04c91c46so3952445b3a.0
 for <test-report@dpdk.org>; Mon, 15 Apr 2024 15:24:40 -0700 (PDT)
DKIM-Signature: v=1; a=rsa-sha256; c=relaxed/relaxed;
 d=iol.unh.edu; s=unh-iol; t=1713219880; x=1713824680; darn=dpdk.org;
 h=references:in-reply-to:cc:to:from:subject:message-id:date:from:to
 :cc:subject:date:message-id:reply-to;
 bh=+YQ4dVJCMt1dGqa4b7s6wGX84DQiX+FbkN4q7CEOiMo=;
 b=QHZLDpzvJVe1Y69MAsciHk28mpfvJqw+e81xfdgBoP191g7neM1bDPnFMTROOAVoBp
 JBinb/Rd0oRGpQw7ZRhQHLr5OXCARkElvP33yWSXQarSdVaDfifccEp42qYtHhTkGmAF
 u1oekNzg7in+U9o7O+K0RzsyVz/WnLo1rZ0Ak=
X-Google-DKIM-Signature: v=1; a=rsa-sha256; c=relaxed/relaxed;
 d=1e100.net; s=20230601; t=1713219880; x=1713824680;
 h=references:in-reply-to:cc:to:from:subject:message-id:date
 :x-gm-message-state:from:to:cc:subject:date:message-id:reply-to;
 bh=+YQ4dVJCMt1dGqa4b7s6wGX84DQiX+FbkN4q7CEOiMo=;
 b=qeBV2PUjk2mGswEupYa40E+Rk4b+PNBONyyBASM3xCx2IqDPLLVcTsd3priB8MWbl6
 YufYN+sVyU902Q8hpiVGcptWV0Rn1fy+7EVGQ7ALvHrnUuN+kVrIgocUOSScrFo+xl58
 9Lvi529/0OU5hXGK6vWpAr9zNZxS5yBRp3reOF9R/PDk5NwPvfuRpWLNlNQjIVxqfgsl
 F8H/lPizreZjgHe0/EvPCBWA8lCLqfAqaBLHUMUInR4aAfKZU8Nw6prlk+0u5qlfcoeJ
 lYN+WUYzfahWaXwH+VCKewM1n1duVBq44CuPmGKp3vLAjJCa7+wTF9yxfMh3td5ETqNb
 UYuQ==
X-Gm-Message-State: AOJu0Yxc/UajUZ/pIFZ2XDgnZYxdYtC0ULuY0wd+gV7xCafWqvz2EBaA
 ngSO6wMWRzo/3zwYdddjilBpWB0DlJn5lvbuyI+xDOlY2gWxbTBZCR6tREzSheCT61RTUr9Rgjn
 dhPNV+687y1IMMU7s0arIwdkEl9f9TdiliHtu/deW
X-Google-Smtp-Source: AGHT+IHXjfLlofOh7yZFjB6f+mlYq4DzlbN6tedyl/MRLw+IsyStq81Rj7Kuxvwn5fEoovE5xCErKDVqLjgb
X-Received: by 2002:a05:6a20:3a87:b0:1a9:3cf2:508d with SMTP id
 d7-20020a056a203a8700b001a93cf2508dmr11103577pzh.38.1713219880204; 
 Mon, 15 Apr 2024 15:24:40 -0700 (PDT)
Received: from postal.iol.unh.edu (postal.iol.unh.edu. [132.177.123.84])
 by smtp-relay.gmail.com with ESMTPS id
 f12-20020a056a00238c00b006eae2d6d242sm837691pfc.9.2024.04.15.15.24.40
 (version=TLS1_2 cipher=ECDHE-ECDSA-AES128-GCM-SHA256 bits=128/128);
 Mon, 15 Apr 2024 15:24:40 -0700 (PDT)
X-Relaying-Domain: iol.unh.edu
Date: Mon, 15 Apr 2024 15:24:40 -0700 (PDT)
Message-ID: <661da928.050a0220.4e09d.60c4SMTPIN_ADDED_MISSING@mx.google.com>
Received: from [172.17.0.3] (unknown [172.18.0.217])
 by postal.iol.unh.edu (Postfix) with ESMTP id 6638F604A958;
 Mon, 15 Apr 2024 18:24:39 -0400 (EDT)
Subject: |SUCCESS| pw139294-139293 [PATCH] [v5,2/2] buildtools: when building
From: dpdklab@iol.unh.edu
To: Test Report <test-report@dpdk.org>
Cc: dpdk-test-reports@iol.unh.edu
In-Reply-To: <1713201168-2233-3-git-send-email-roretzla@linux.microsoft.com>
References: <1713201168-2233-3-git-send-email-roretzla@linux.microsoft.com>
Content-Type: text/plain
X-BeenThere: test-report@dpdk.org
X-Mailman-Version: 2.1.29
Precedence: list
List-Id: automatic DPDK test reports <test-report.dpdk.org>
List-Unsubscribe: <https://mails.dpdk.org/options/test-report>,
 <mailto:test-report-request@dpdk.org?subject=unsubscribe>
List-Archive: <http://mails.dpdk.org/archives/test-report/>
List-Post: <mailto:test-report@dpdk.org>
List-Help: <mailto:test-report-request@dpdk.org?subject=help>
List-Subscribe: <https://mails.dpdk.org/listinfo/test-report>,
 <mailto:test-report-request@dpdk.org?subject=subscribe>
Errors-To: test-report-bounces@dpdk.org

Test-Label: iol-unit-amd64-testing
Test-Status: SUCCESS
http://dpdk.org/patch/139293

_Testing PASS_

Submitter: Tyler Retzlaff <roretzla@linux.microsoft.com>
Date: Monday, April 15 2024 17:12:48 
DPDK git baseline: Repo:dpdk
  Branch: master
  CommitID:e2e546ab5bf5e024986ccb5310ab43982f3bb40c

139294-139293 --> testing pass

Test environment and result as below:

+---------------------+----------------+
|     Environment     | dpdk_unit_test |
+=====================+================+
| Fedora 37           | PASS           |
+---------------------+----------------+
| CentOS Stream 9     | PASS           |
+---------------------+----------------+
| Debian 12           | PASS           |
+---------------------+----------------+
| CentOS Stream 8     | PASS           |
+---------------------+----------------+
| Debian Bullseye     | PASS           |
+---------------------+----------------+
| Windows Server 2019 | PASS           |
+---------------------+----------------+
| Fedora 39           | PASS           |
+---------------------+----------------+
| Fedora 38           | PASS           |
+---------------------+----------------+
| openSUSE Leap 15    | PASS           |
+---------------------+----------------+
| RHEL8               | PASS           |
+---------------------+----------------+
| Ubuntu 20.04        | PASS           |
+---------------------+----------------+
| Ubuntu 22.04        | PASS           |
+---------------------+----------------+


Fedora 37
	Kernel: Depends on container host system
	Compiler: gcc 12.3.1

CentOS Stream 9
	Kernel: 5.4.0-167-generic
	Compiler: gcc 11.4.1 20230605

Debian 12
	Kernel: Container Host Kernel
	Compiler: gcc 10.2.1

CentOS Stream 8
	Kernel: 5.4.0-167-generic
	Compiler: gcc 8.5.0 20210514

Debian Bullseye
	Kernel: 5.4.0-167-generic
	Compiler: gcc 10.2.1-6

Windows Server 2019
	Kernel: 10.0.17763
	Compiler: clang 14.0 and gcc 8.1.0 (MinGW)

Fedora 39
	Kernel: Depends on container host
	Compiler: clang 17.0.6

Fedora 38
	Kernel: Depends on container host
	Compiler: gcc 13.2.1

openSUSE Leap 15
	Kernel: 5.4.0-167-generic
	Compiler: gcc 7.5.0

RHEL8
	Kernel: 5.4.0-167-generic
	Compiler: gcc 8.5.0 20210514 (Red Hat 8.5.0-20)

Ubuntu 20.04
	Kernel: 5.4.0-167-generic
	Compiler: gcc 9.4.0-1ubuntu1~20.04.1

Ubuntu 22.04
	Kernel: 5.4.0-167-generic
	Compiler: gcc 11.4.0

To view detailed results, visit:
https://lab.dpdk.org/results/dashboard/patchsets/29780/

UNH-IOL DPDK Community Lab

To manage your email subscriptions, visit: 
https://lab.dpdk.org/results/dashboard/preferences/subscriptions/