From mboxrd@z Thu Jan  1 00:00:00 1970
Return-Path: <test-report-bounces@dpdk.org>
Received: from mails.dpdk.org (mails.dpdk.org [217.70.189.124])
	by inbox.dpdk.org (Postfix) with ESMTP id 0967443E80
	for <public@inbox.dpdk.org>; Tue, 16 Apr 2024 03:17:50 +0200 (CEST)
Received: from mails.dpdk.org (localhost [127.0.0.1])
	by mails.dpdk.org (Postfix) with ESMTP id EF8654028B;
	Tue, 16 Apr 2024 03:17:49 +0200 (CEST)
Received: from mail-qv1-f98.google.com (mail-qv1-f98.google.com
 [209.85.219.98]) by mails.dpdk.org (Postfix) with ESMTP id 969A84027F
 for <test-report@dpdk.org>; Tue, 16 Apr 2024 03:17:48 +0200 (CEST)
Received: by mail-qv1-f98.google.com with SMTP id
 6a1803df08f44-69b5a87505cso12235876d6.2
 for <test-report@dpdk.org>; Mon, 15 Apr 2024 18:17:48 -0700 (PDT)
DKIM-Signature: v=1; a=rsa-sha256; c=relaxed/relaxed;
 d=iol.unh.edu; s=unh-iol; t=1713230268; x=1713835068; darn=dpdk.org;
 h=references:in-reply-to:cc:to:from:subject:message-id:date:from:to
 :cc:subject:date:message-id:reply-to;
 bh=rp65mZgXtVHPmIPIeVfN/vTw594e6iWDaFTECCCcZeE=;
 b=fAbDZ375TbG/5wvi7XY+HSE3SoQHcONzxBF2LfHlXqNynObawbfLs+WG/B7PA2kLlv
 saKFXgpyCWnP4rimPR8QglsfThSmJzqp/+eyJ7drd/Ih4gU0E5IJN6Lkg2bJWSNEeaVd
 TJ+TXeKADLPIsVnaQDbhwtU/zyIunDcANF5Ic=
X-Google-DKIM-Signature: v=1; a=rsa-sha256; c=relaxed/relaxed;
 d=1e100.net; s=20230601; t=1713230268; x=1713835068;
 h=references:in-reply-to:cc:to:from:subject:message-id:date
 :x-gm-message-state:from:to:cc:subject:date:message-id:reply-to;
 bh=rp65mZgXtVHPmIPIeVfN/vTw594e6iWDaFTECCCcZeE=;
 b=akU0Ouv7e4D3i6RBzD73cPivQ13ZqFUlN0PrSN6gTGt2jaX3jTxy5nu5lZPkXm94iU
 AF5xXevaXcv2wlygJN2T80T8IBOxRt33Rou5J/HSOuDkOCT23m2Saeciy1DiCNCrMUSL
 RWRER31ebSJd4SV5WEB9JZ5Uzo6VrvBM5VSoInJm46h18z6ItRwgcZriqgULJ5QaZ+Zt
 YXKxNebhQdGPA5I+8cR4UHYSsfrw9+z7mxNp+mK2T1xsg9YYaymR/D02nWW9c89f0C4a
 5rz0X8AH9cOdEgAOY9vxc4RGq9ksRMjkDKvKRao5Ucgdy7V3yL+qOSqpghMqLR9n/jEK
 Xr+A==
X-Gm-Message-State: AOJu0YwdE/kQqbMOx1b04PZrurEHRb0zdotnc3pNigZE+oEZL5ygipVd
 XlWIeO6VHnzlg952O+VZhK4zvxv0qRckR9b7+rasssMsxH3iQzA1x0L1e77Em/J8va1+X6H0X1x
 Aq4VFZZ0Q3O0FislqdvtfwQfE6303I2JR2K3GiDTN
X-Google-Smtp-Source: AGHT+IFOxhLxUozkG7XCiAyej5BeXhqmzyfTUlQEl3JfTJxqZwv1loFAOk4xQ9TM+loX3KAKUxyFcipiwSXl
X-Received: by 2002:a05:6214:517:b0:699:23e4:8ec8 with SMTP id
 px23-20020a056214051700b0069923e48ec8mr10398503qvb.57.1713230267974; 
 Mon, 15 Apr 2024 18:17:47 -0700 (PDT)
Received: from postal.iol.unh.edu (postal.iol.unh.edu. [132.177.123.84])
 by smtp-relay.gmail.com with ESMTPS id
 gs6-20020a056214226600b0069b475b0179sm926785qvb.41.2024.04.15.18.17.47
 (version=TLS1_2 cipher=ECDHE-ECDSA-AES128-GCM-SHA256 bits=128/128);
 Mon, 15 Apr 2024 18:17:47 -0700 (PDT)
X-Relaying-Domain: iol.unh.edu
Date: Mon, 15 Apr 2024 18:17:47 -0700 (PDT)
Message-ID: <661dd1bb.050a0220.c7637.e1ebSMTPIN_ADDED_MISSING@mx.google.com>
Received: from [172.17.0.3] (unknown [172.18.0.217])
 by postal.iol.unh.edu (Postfix) with ESMTP id AA895604A958;
 Mon, 15 Apr 2024 21:17:47 -0400 (EDT)
Subject: |SUCCESS| pw139297-139378 [PATCH] [v2,83/83] bus/dpaa: move alignmen
From: dpdklab@iol.unh.edu
To: Test Report <test-report@dpdk.org>
Cc: dpdk-test-reports@iol.unh.edu
In-Reply-To: <1713211485-9021-84-git-send-email-roretzla@linux.microsoft.com>
References: <1713211485-9021-84-git-send-email-roretzla@linux.microsoft.com>
Content-Type: text/plain
X-BeenThere: test-report@dpdk.org
X-Mailman-Version: 2.1.29
Precedence: list
List-Id: automatic DPDK test reports <test-report.dpdk.org>
List-Unsubscribe: <https://mails.dpdk.org/options/test-report>,
 <mailto:test-report-request@dpdk.org?subject=unsubscribe>
List-Archive: <http://mails.dpdk.org/archives/test-report/>
List-Post: <mailto:test-report@dpdk.org>
List-Help: <mailto:test-report-request@dpdk.org?subject=help>
List-Subscribe: <https://mails.dpdk.org/listinfo/test-report>,
 <mailto:test-report-request@dpdk.org?subject=subscribe>
Errors-To: test-report-bounces@dpdk.org

Test-Label: iol-abi-testing
Test-Status: SUCCESS
http://dpdk.org/patch/139378

_Testing PASS_

Submitter: Tyler Retzlaff <roretzla@linux.microsoft.com>
Date: Monday, April 15 2024 20:04:45 
DPDK git baseline: Repo:dpdk
  Branch: master
  CommitID:e2e546ab5bf5e024986ccb5310ab43982f3bb40c

139297-139378 --> testing pass

Test environment and result as below:

+------------------+----------+
|   Environment    | abi_test |
+==================+==========+
| Fedora 37        | PASS     |
+------------------+----------+
| Debian Bullseye  | PASS     |
+------------------+----------+
| Fedora 38        | PASS     |
+------------------+----------+
| CentOS Stream 8  | PASS     |
+------------------+----------+
| Fedora 39        | PASS     |
+------------------+----------+
| openSUSE Leap 15 | PASS     |
+------------------+----------+
| Debian 12        | PASS     |
+------------------+----------+
| CentOS Stream 9  | PASS     |
+------------------+----------+
| Ubuntu 22.04     | PASS     |
+------------------+----------+
| RHEL8            | PASS     |
+------------------+----------+


Fedora 37
	Kernel: Depends on container host system
	Compiler: gcc 12.3.1

Debian Bullseye
	Kernel: 5.4.0-167-generic
	Compiler: gcc 10.2.1-6

Fedora 38
	Kernel: Depends on container host
	Compiler: clang 16.0.6

CentOS Stream 8
	Kernel: 5.4.0-167-generic
	Compiler: gcc 8.5.0 20210514

Fedora 39
	Kernel: Depends on container host
	Compiler: gcc 13.2.1

openSUSE Leap 15
	Kernel: 5.4.0-167-generic
	Compiler: gcc 7.5.0

Debian 12
	Kernel: Container Host Kernel
	Compiler: gcc 10.2.1

CentOS Stream 9
	Kernel: 5.4.0-167-generic
	Compiler: gcc 11.4.1 20230605

Ubuntu 22.04
	Kernel: 5.4.0-167-generic
	Compiler: gcc 11.4.0

RHEL8
	Kernel: 5.4.0-167-generic
	Compiler: gcc 8.5.0 20210514 (Red Hat 8.5.0-20)

To view detailed results, visit:
https://lab.dpdk.org/results/dashboard/patchsets/29782/

UNH-IOL DPDK Community Lab

To manage your email subscriptions, visit: 
https://lab.dpdk.org/results/dashboard/preferences/subscriptions/