From mboxrd@z Thu Jan  1 00:00:00 1970
Return-Path: <test-report-bounces@dpdk.org>
Received: from mails.dpdk.org (mails.dpdk.org [217.70.189.124])
	by inbox.dpdk.org (Postfix) with ESMTP id 1555C43E80
	for <public@inbox.dpdk.org>; Tue, 16 Apr 2024 03:53:58 +0200 (CEST)
Received: from mails.dpdk.org (localhost [127.0.0.1])
	by mails.dpdk.org (Postfix) with ESMTP id DEDDB4028B;
	Tue, 16 Apr 2024 03:53:57 +0200 (CEST)
Received: from mail-yb1-f226.google.com (mail-yb1-f226.google.com
 [209.85.219.226])
 by mails.dpdk.org (Postfix) with ESMTP id 8A9484027F
 for <test-report@dpdk.org>; Tue, 16 Apr 2024 03:53:56 +0200 (CEST)
Received: by mail-yb1-f226.google.com with SMTP id
 3f1490d57ef6-d9b9adaf291so3891012276.1
 for <test-report@dpdk.org>; Mon, 15 Apr 2024 18:53:56 -0700 (PDT)
DKIM-Signature: v=1; a=rsa-sha256; c=relaxed/relaxed;
 d=iol.unh.edu; s=unh-iol; t=1713232436; x=1713837236; darn=dpdk.org;
 h=references:in-reply-to:cc:to:from:subject:message-id:date:from:to
 :cc:subject:date:message-id:reply-to;
 bh=rp65mZgXtVHPmIPIeVfN/vTw594e6iWDaFTECCCcZeE=;
 b=a0LiIgGK5Vg+qKFI3vU6robzNWyDScvu5CR1lFu/+8jw4hVcLxyDGAX4Yj4aLQSXYw
 EPA7xFn5Qzilc6nb+F+umURAJcesV52XUCAiDbCOiVq9TBnrRENWWlFyh59HXU6rMKI+
 5nuiQFRuEz9DyCcOseCv+LvfDO6+mVmkfyCp0=
X-Google-DKIM-Signature: v=1; a=rsa-sha256; c=relaxed/relaxed;
 d=1e100.net; s=20230601; t=1713232436; x=1713837236;
 h=references:in-reply-to:cc:to:from:subject:message-id:date
 :x-gm-message-state:from:to:cc:subject:date:message-id:reply-to;
 bh=rp65mZgXtVHPmIPIeVfN/vTw594e6iWDaFTECCCcZeE=;
 b=frwGndnUVGWboa5tJZfANKemAR1Ljs8GTmNgztZ8KynMlH8TX5plF7DyxIxnE/m8i3
 qkORfajnwelVXPap9vKNmHhDHbvOf2PIoElXdR25ZlvSQ5JbfJ5tM2vdy8suiTNQRPHW
 K0WUznoOt0k+vzCi/Xije33OCxexxli6M4L4NMoNx3ODX9BW2d/Q+sgzRmfJi6y6i9JV
 oNoqPd1Nub8OQBXG364G/0LHP/jwvTGnJQOsgIVO6ZyOnvqadlYvn2DPNMsX93N3CZ0Z
 umI9IpEFqmmklSKwPHTcT3qrANUaioKcj/Wc3e1y077+U0YT2TIRDF12s420iM8bby3x
 hl2g==
X-Gm-Message-State: AOJu0YzSX6c4xcwEQgdjJ+t55tn8BSrY65r598lCSgmV53HJXAcBU/+B
 J71fMKXLRkDz03Mk0/w1BFEq14VHkQWvBYf75fA7xJOT01z2hK8s4/+ONbBNSlKbhgE8ZHZ8UgW
 F0LtENymuCNlagHOyrm7jKtzUbh1AIW+2mHz4wm7A
X-Google-Smtp-Source: AGHT+IHDxaAULLQzkGv93Yh/DNtLyXL8/cZ94uI8mY5t56JpK1A3mCaYB9mLvHC6ppsdZtn687E/9nCPXesS
X-Received: by 2002:a25:ba45:0:b0:dd0:1276:c2d1 with SMTP id
 z5-20020a25ba45000000b00dd01276c2d1mr8749734ybj.35.1713232435853; 
 Mon, 15 Apr 2024 18:53:55 -0700 (PDT)
Received: from postal.iol.unh.edu (postal.iol.unh.edu. [132.177.123.84])
 by smtp-relay.gmail.com with ESMTPS id
 gw1-20020a0562140f0100b00695d2f2f3e9sm897100qvb.22.2024.04.15.18.53.55
 (version=TLS1_2 cipher=ECDHE-ECDSA-AES128-GCM-SHA256 bits=128/128);
 Mon, 15 Apr 2024 18:53:55 -0700 (PDT)
X-Relaying-Domain: iol.unh.edu
Date: Mon, 15 Apr 2024 18:53:55 -0700 (PDT)
Message-ID: <661dda33.050a0220.e9c50.c12dSMTPIN_ADDED_MISSING@mx.google.com>
Received: from [172.21.0.6] (unknown [172.18.0.240])
 by postal.iol.unh.edu (Postfix) with ESMTP id 836C1604A958;
 Mon, 15 Apr 2024 21:53:55 -0400 (EDT)
Subject: |SUCCESS| pw139297-139378 [PATCH] [v2,83/83] bus/dpaa: move alignmen
From: dpdklab@iol.unh.edu
To: Test Report <test-report@dpdk.org>
Cc: dpdk-test-reports@iol.unh.edu
In-Reply-To: <1713211485-9021-84-git-send-email-roretzla@linux.microsoft.com>
References: <1713211485-9021-84-git-send-email-roretzla@linux.microsoft.com>
Content-Type: text/plain
X-BeenThere: test-report@dpdk.org
X-Mailman-Version: 2.1.29
Precedence: list
List-Id: automatic DPDK test reports <test-report.dpdk.org>
List-Unsubscribe: <https://mails.dpdk.org/options/test-report>,
 <mailto:test-report-request@dpdk.org?subject=unsubscribe>
List-Archive: <http://mails.dpdk.org/archives/test-report/>
List-Post: <mailto:test-report@dpdk.org>
List-Help: <mailto:test-report-request@dpdk.org?subject=help>
List-Subscribe: <https://mails.dpdk.org/listinfo/test-report>,
 <mailto:test-report-request@dpdk.org?subject=subscribe>
Errors-To: test-report-bounces@dpdk.org

Test-Label: iol-abi-testing
Test-Status: SUCCESS
http://dpdk.org/patch/139378

_Testing PASS_

Submitter: Tyler Retzlaff <roretzla@linux.microsoft.com>
Date: Monday, April 15 2024 20:04:45 
DPDK git baseline: Repo:dpdk
  Branch: master
  CommitID:e2e546ab5bf5e024986ccb5310ab43982f3bb40c

139297-139378 --> testing pass

Test environment and result as below:

+------------------+----------+
|   Environment    | abi_test |
+==================+==========+
| Fedora 37        | PASS     |
+------------------+----------+
| Debian Bullseye  | PASS     |
+------------------+----------+
| Fedora 38        | PASS     |
+------------------+----------+
| CentOS Stream 8  | PASS     |
+------------------+----------+
| Fedora 39        | PASS     |
+------------------+----------+
| openSUSE Leap 15 | PASS     |
+------------------+----------+
| Debian 12        | PASS     |
+------------------+----------+
| CentOS Stream 9  | PASS     |
+------------------+----------+
| Ubuntu 22.04     | PASS     |
+------------------+----------+
| RHEL8            | PASS     |
+------------------+----------+


Fedora 37
	Kernel: Depends on container host system
	Compiler: gcc 12.3.1

Debian Bullseye
	Kernel: 5.4.0-167-generic
	Compiler: gcc 10.2.1-6

Fedora 38
	Kernel: Depends on container host
	Compiler: clang 16.0.6

CentOS Stream 8
	Kernel: 5.4.0-167-generic
	Compiler: gcc 8.5.0 20210514

Fedora 39
	Kernel: Depends on container host
	Compiler: gcc 13.2.1

openSUSE Leap 15
	Kernel: 5.4.0-167-generic
	Compiler: gcc 7.5.0

Debian 12
	Kernel: Container Host Kernel
	Compiler: gcc 10.2.1

CentOS Stream 9
	Kernel: 5.4.0-167-generic
	Compiler: gcc 11.4.1 20230605

Ubuntu 22.04
	Kernel: 5.4.0-167-generic
	Compiler: gcc 11.4.0

RHEL8
	Kernel: 5.4.0-167-generic
	Compiler: gcc 8.5.0 20210514 (Red Hat 8.5.0-20)

To view detailed results, visit:
https://lab.dpdk.org/results/dashboard/patchsets/29782/

UNH-IOL DPDK Community Lab

To manage your email subscriptions, visit: 
https://lab.dpdk.org/results/dashboard/preferences/subscriptions/