From mboxrd@z Thu Jan  1 00:00:00 1970
Return-Path: <test-report-bounces@dpdk.org>
Received: from mails.dpdk.org (mails.dpdk.org [217.70.189.124])
	by inbox.dpdk.org (Postfix) with ESMTP id 02AA343E80
	for <public@inbox.dpdk.org>; Tue, 16 Apr 2024 03:58:25 +0200 (CEST)
Received: from mails.dpdk.org (localhost [127.0.0.1])
	by mails.dpdk.org (Postfix) with ESMTP id F24074028B;
	Tue, 16 Apr 2024 03:58:24 +0200 (CEST)
Received: from mail-oa1-f99.google.com (mail-oa1-f99.google.com
 [209.85.160.99]) by mails.dpdk.org (Postfix) with ESMTP id 657B14027F
 for <test-report@dpdk.org>; Tue, 16 Apr 2024 03:58:23 +0200 (CEST)
Received: by mail-oa1-f99.google.com with SMTP id
 586e51a60fabf-2343ae31a9bso1563771fac.1
 for <test-report@dpdk.org>; Mon, 15 Apr 2024 18:58:23 -0700 (PDT)
DKIM-Signature: v=1; a=rsa-sha256; c=relaxed/relaxed;
 d=iol.unh.edu; s=unh-iol; t=1713232702; x=1713837502; darn=dpdk.org;
 h=references:in-reply-to:cc:to:from:subject:message-id:date:from:to
 :cc:subject:date:message-id:reply-to;
 bh=SW+wgyEjlbzZ6f2/T+wsgme4UMljsx2RW/CaQaiZaDs=;
 b=Nq14ntRfDLc3oFbTn7Y3k+jeXiM3E5/veTQPlqYXcYk4qmyeWRV8C9+sSFSlep9ONR
 OhY8KF0liIiRd6/h/cIAv9lyLnFgFiio5EYTcluiM4nkSXltYQX5/OkJbbzPDXWBEeTj
 Ox0L0m4o6yCkC5QraG/Tj8HOR7JpugTSBuyCc=
X-Google-DKIM-Signature: v=1; a=rsa-sha256; c=relaxed/relaxed;
 d=1e100.net; s=20230601; t=1713232702; x=1713837502;
 h=references:in-reply-to:cc:to:from:subject:message-id:date
 :x-gm-message-state:from:to:cc:subject:date:message-id:reply-to;
 bh=SW+wgyEjlbzZ6f2/T+wsgme4UMljsx2RW/CaQaiZaDs=;
 b=oU3l4HivkEcTdq60ViG+WhYwp36KEQuxRs7XEtEHsJeLa8Iwdv2JdckHgBEOhdf5Hu
 gcNjibrZgET69Aj68d2KFmldbSfE7DsGM50fZJkz92vfD1Qcyk5JSz0OmE3diPHLdsQK
 MjmcCcFy4UfIclv5tRSZ7eJri9OAjqqIb1zFR8JdXsz6H2KGbP5NKTej6k8iqWKefTx0
 EZGN3S2tV53DdK8bGKcGCHfWoRVdAc27yEEk8QCY4nk5OeyY8iyDufpcKicl+SsnL2AY
 /Ex75AP/rdFH/I2f4iQDnVbM+dup8UtQ7NJ+zuu7mMH8U9CCS3Chb1MLDKlDailq+HQl
 u+XQ==
X-Gm-Message-State: AOJu0YwKlesy8wEdfI2uTw/xLdCVkxWR1arhKueEHc8P7tUx6PRwYekf
 mQ4E9dLDsV9M5ZNeL/w22Fo4fOOM6bqlDvY09ec2pg98zu3xOCjde3inaLDQQNp03RVK5sgs0i4
 SHcIs8gK3WXKyD57x68TFvuHBptpE8DP9HKeYwLxlvBhxNW9pZ9Tw0MFy
X-Google-Smtp-Source: AGHT+IG87/RTeb/4LcmQyBXGL23vbdVJBGryUw7cpcn1cYsnlHiTByt2IlscgIbCj1fICGwL0WWyTKYSRkip
X-Received: by 2002:a05:6870:f683:b0:22e:7e8c:1f8f with SMTP id
 el3-20020a056870f68300b0022e7e8c1f8fmr13385359oab.51.1713232702731; 
 Mon, 15 Apr 2024 18:58:22 -0700 (PDT)
Received: from postal.iol.unh.edu (postal.iol.unh.edu.
 [2606:4100:3880:1234::84]) by smtp-relay.gmail.com with ESMTPS id
 lm7-20020a056a003c8700b006e8f8db204fsm874826pfb.2.2024.04.15.18.58.22
 (version=TLS1_2 cipher=ECDHE-ECDSA-AES128-GCM-SHA256 bits=128/128);
 Mon, 15 Apr 2024 18:58:22 -0700 (PDT)
X-Relaying-Domain: iol.unh.edu
Date: Mon, 15 Apr 2024 18:58:22 -0700 (PDT)
Message-ID: <661ddb3e.050a0220.0eb2.785aSMTPIN_ADDED_MISSING@mx.google.com>
Received: from [172.17.0.5] (unknown [172.18.0.217])
 by postal.iol.unh.edu (Postfix) with ESMTP id BF732604A958;
 Mon, 15 Apr 2024 21:58:21 -0400 (EDT)
Subject: |SUCCESS| pw139297-139378 [PATCH] [v2,83/83] bus/dpaa: move alignmen
From: dpdklab@iol.unh.edu
To: Test Report <test-report@dpdk.org>
Cc: dpdk-test-reports@iol.unh.edu
In-Reply-To: <1713211485-9021-84-git-send-email-roretzla@linux.microsoft.com>
References: <1713211485-9021-84-git-send-email-roretzla@linux.microsoft.com>
Content-Type: text/plain
X-BeenThere: test-report@dpdk.org
X-Mailman-Version: 2.1.29
Precedence: list
List-Id: automatic DPDK test reports <test-report.dpdk.org>
List-Unsubscribe: <https://mails.dpdk.org/options/test-report>,
 <mailto:test-report-request@dpdk.org?subject=unsubscribe>
List-Archive: <http://mails.dpdk.org/archives/test-report/>
List-Post: <mailto:test-report@dpdk.org>
List-Help: <mailto:test-report-request@dpdk.org?subject=help>
List-Subscribe: <https://mails.dpdk.org/listinfo/test-report>,
 <mailto:test-report-request@dpdk.org?subject=subscribe>
Errors-To: test-report-bounces@dpdk.org

Test-Label: iol-compile-arm64-testing
Test-Status: SUCCESS
http://dpdk.org/patch/139378

_Testing PASS_

Submitter: Tyler Retzlaff <roretzla@linux.microsoft.com>
Date: Monday, April 15 2024 20:04:45 
DPDK git baseline: Repo:dpdk
  Branch: master
  CommitID:e2e546ab5bf5e024986ccb5310ab43982f3bb40c

139297-139378 --> testing pass

Test environment and result as below:

+----------------------------------------+--------------------+
|              Environment               | dpdk_meson_compile |
+========================================+====================+
| Ubuntu 20.04 ARM SVE                   | PASS               |
+----------------------------------------+--------------------+
| Debian 12 with MUSDK                   | PASS               |
+----------------------------------------+--------------------+
| Ubuntu 20.04 aarch32 GCC Cross Compile | PASS               |
+----------------------------------------+--------------------+
| Ubuntu 20.04 ARM Clang Cross Compile   | PASS               |
+----------------------------------------+--------------------+


Ubuntu 20.04 ARM SVE
	Kernel: 5.4.0-167-generic
	Compiler: gcc (Ubuntu 10.5.0-1ubuntu1~20.04) 10.5.0

Debian 12 with MUSDK
	Kernel: Container Host Kernel
	Compiler: gcc 12.2.0

Ubuntu 20.04 aarch32 GCC Cross Compile
	Kernel: 5.4.0-167-generic
	Compiler: gcc 9.4.0

Ubuntu 20.04 ARM Clang Cross Compile
	Kernel: 5.4.0-72-generic
	Compiler: clang 10.0.0-4ubuntu1

To view detailed results, visit:
https://lab.dpdk.org/results/dashboard/patchsets/29782/

UNH-IOL DPDK Community Lab

To manage your email subscriptions, visit: 
https://lab.dpdk.org/results/dashboard/preferences/subscriptions/