From mboxrd@z Thu Jan  1 00:00:00 1970
Return-Path: <test-report-bounces@dpdk.org>
Received: from mails.dpdk.org (mails.dpdk.org [217.70.189.124])
	by inbox.dpdk.org (Postfix) with ESMTP id 01D8C43E81
	for <public@inbox.dpdk.org>; Tue, 16 Apr 2024 04:03:46 +0200 (CEST)
Received: from mails.dpdk.org (localhost [127.0.0.1])
	by mails.dpdk.org (Postfix) with ESMTP id E3E0140608;
	Tue, 16 Apr 2024 04:03:45 +0200 (CEST)
Received: from mail-io1-f99.google.com (mail-io1-f99.google.com
 [209.85.166.99]) by mails.dpdk.org (Postfix) with ESMTP id 18A424028B
 for <test-report@dpdk.org>; Tue, 16 Apr 2024 04:03:28 +0200 (CEST)
Received: by mail-io1-f99.google.com with SMTP id
 ca18e2360f4ac-7d9858066ebso65792939f.0
 for <test-report@dpdk.org>; Mon, 15 Apr 2024 19:03:28 -0700 (PDT)
DKIM-Signature: v=1; a=rsa-sha256; c=relaxed/relaxed;
 d=iol.unh.edu; s=unh-iol; t=1713233007; x=1713837807; darn=dpdk.org;
 h=references:in-reply-to:cc:to:from:subject:message-id:date:from:to
 :cc:subject:date:message-id:reply-to;
 bh=obFaE77WyF+fw6qNWxHTeeTy4GyObMTgS7MV9DjLDbs=;
 b=FDtS6AIW+TBlYRhdSO740QE1EjK7yybHKRKz8BMLZL46iA8wbpWnBE9OoNlQASIkNb
 8r9A6utInn9jh8+99P6vYD14zjEfOBTfdjW6RXI+dsAKos3NAxfmwNPrM9U6BWwuNRXv
 +duu/7FYZ+Fpi+6+Nb1Cb8thvxg+wLCFF1GyA=
X-Google-DKIM-Signature: v=1; a=rsa-sha256; c=relaxed/relaxed;
 d=1e100.net; s=20230601; t=1713233007; x=1713837807;
 h=references:in-reply-to:cc:to:from:subject:message-id:date
 :x-gm-message-state:from:to:cc:subject:date:message-id:reply-to;
 bh=obFaE77WyF+fw6qNWxHTeeTy4GyObMTgS7MV9DjLDbs=;
 b=EKSemIiThbdEcGNwtd+7rywD38Av4hGjyRIgWp3eqE9t77ZfDSmR05+KJJTuw+gLqd
 0al7nBZ3OvXTiJVMExu0S6O+fY2xZo8iCqMqbOCte8xG/gyEckiWHbZrprr+qGZOBuAS
 OCwmrKe/dgry538V0AHGiWhGPq9Du468uqyhJyHel5G5YSO4Co4r9oFM7jcZf9tPWRdN
 gfocQOgb8c6ZoIoaQBfhAo8fwmdFnXwiuA9Pi27FLMkbUBaxVg3Ry1YhDe5qhyDL3eSZ
 biB/QTz3vAxzMZ9hcxTMxthpxLPyjIgQf7/D8gcPGecizEmtehjGlvrLjlD8Lms6m1eG
 hKew==
X-Gm-Message-State: AOJu0Yywsm0GFA9kaM0dAS//MbcWYWkGmI0cvU6F1CBe9IKVsGd6PMaN
 QJET9k8oNaLS7Kmbs7/DhUobTwKyzyRL90ehkdD1GOH/rLEV8FW1hJbGafWDhadZK9Api7VgUf0
 Dr6MQBja/nDX3V4w6dYRi9BNiI45OrKf5ISw3tfYI
X-Google-Smtp-Source: AGHT+IFNrKriG+ziG2RD54oCaQo2EHSjBefQpGOwvIaa2ZqIe+S3jJv36FuhMvkWX5mOFFL0wHA8ePW9fEjy
X-Received: by 2002:a05:6602:1c5:b0:7d6:bf30:a3f with SMTP id
 w5-20020a05660201c500b007d6bf300a3fmr11687058iot.14.1713233007453; 
 Mon, 15 Apr 2024 19:03:27 -0700 (PDT)
Received: from postal.iol.unh.edu (postal.iol.unh.edu. [132.177.123.84])
 by smtp-relay.gmail.com with ESMTPS id
 s18-20020a056638219200b0047f1440892dsm532511jaj.44.2024.04.15.19.03.27
 (version=TLS1_2 cipher=ECDHE-ECDSA-AES128-GCM-SHA256 bits=128/128);
 Mon, 15 Apr 2024 19:03:27 -0700 (PDT)
X-Relaying-Domain: iol.unh.edu
Date: Mon, 15 Apr 2024 19:03:27 -0700 (PDT)
Message-ID: <661ddc6f.050a0220.93051.7da7SMTPIN_ADDED_MISSING@mx.google.com>
Received: from [172.17.0.4] (unknown [172.18.0.217])
 by postal.iol.unh.edu (Postfix) with ESMTP id CD7F2604A958;
 Mon, 15 Apr 2024 22:03:26 -0400 (EDT)
Subject: |SUCCESS| pw139297-139378 [PATCH] [v2,83/83] bus/dpaa: move alignmen
From: dpdklab@iol.unh.edu
To: Test Report <test-report@dpdk.org>
Cc: dpdk-test-reports@iol.unh.edu
In-Reply-To: <1713211485-9021-84-git-send-email-roretzla@linux.microsoft.com>
References: <1713211485-9021-84-git-send-email-roretzla@linux.microsoft.com>
Content-Type: text/plain
X-BeenThere: test-report@dpdk.org
X-Mailman-Version: 2.1.29
Precedence: list
List-Id: automatic DPDK test reports <test-report.dpdk.org>
List-Unsubscribe: <https://mails.dpdk.org/options/test-report>,
 <mailto:test-report-request@dpdk.org?subject=unsubscribe>
List-Archive: <http://mails.dpdk.org/archives/test-report/>
List-Post: <mailto:test-report@dpdk.org>
List-Help: <mailto:test-report-request@dpdk.org?subject=help>
List-Subscribe: <https://mails.dpdk.org/listinfo/test-report>,
 <mailto:test-report-request@dpdk.org?subject=subscribe>
Errors-To: test-report-bounces@dpdk.org

Test-Label: iol-unit-amd64-testing
Test-Status: SUCCESS
http://dpdk.org/patch/139378

_Testing PASS_

Submitter: Tyler Retzlaff <roretzla@linux.microsoft.com>
Date: Monday, April 15 2024 20:04:45 
DPDK git baseline: Repo:dpdk
  Branch: master
  CommitID:e2e546ab5bf5e024986ccb5310ab43982f3bb40c

139297-139378 --> testing pass

Test environment and result as below:

+------------------+----------------+
|   Environment    | dpdk_unit_test |
+==================+================+
| RHEL8            | PASS           |
+------------------+----------------+
| Debian Bullseye  | PASS           |
+------------------+----------------+
| CentOS Stream 8  | PASS           |
+------------------+----------------+
| Debian 12        | PASS           |
+------------------+----------------+
| Fedora 37        | PASS           |
+------------------+----------------+
| CentOS Stream 9  | PASS           |
+------------------+----------------+
| Fedora 38        | PASS           |
+------------------+----------------+
| Fedora 39        | PASS           |
+------------------+----------------+
| openSUSE Leap 15 | PASS           |
+------------------+----------------+
| Ubuntu 22.04     | PASS           |
+------------------+----------------+
| Ubuntu 20.04     | PASS           |
+------------------+----------------+


RHEL8
	Kernel: 5.4.0-167-generic
	Compiler: gcc 8.5.0 20210514 (Red Hat 8.5.0-20)

Debian Bullseye
	Kernel: 5.4.0-167-generic
	Compiler: gcc 10.2.1-6

CentOS Stream 8
	Kernel: 5.4.0-167-generic
	Compiler: gcc 8.5.0 20210514

Debian 12
	Kernel: Container Host Kernel
	Compiler: gcc 10.2.1

Fedora 37
	Kernel: Depends on container host system
	Compiler: gcc 12.3.1

CentOS Stream 9
	Kernel: 5.4.0-167-generic
	Compiler: gcc 11.4.1 20230605

Fedora 38
	Kernel: Depends on container host
	Compiler: gcc 13.2.1

Fedora 39
	Kernel: Depends on container host
	Compiler: gcc 13.2.1

openSUSE Leap 15
	Kernel: 5.4.0-167-generic
	Compiler: gcc 7.5.0

Ubuntu 22.04
	Kernel: 5.4.0-167-generic
	Compiler: gcc 11.4.0

Ubuntu 20.04
	Kernel: 5.4.0-167-generic
	Compiler: gcc 9.4.0-1ubuntu1~20.04.1

To view detailed results, visit:
https://lab.dpdk.org/results/dashboard/patchsets/29782/

UNH-IOL DPDK Community Lab

To manage your email subscriptions, visit: 
https://lab.dpdk.org/results/dashboard/preferences/subscriptions/