From mboxrd@z Thu Jan  1 00:00:00 1970
Return-Path: <test-report-bounces@dpdk.org>
Received: from mails.dpdk.org (mails.dpdk.org [217.70.189.124])
	by inbox.dpdk.org (Postfix) with ESMTP id 22EC343E81
	for <public@inbox.dpdk.org>; Tue, 16 Apr 2024 04:09:15 +0200 (CEST)
Received: from mails.dpdk.org (localhost [127.0.0.1])
	by mails.dpdk.org (Postfix) with ESMTP id 5416040684;
	Tue, 16 Apr 2024 04:09:14 +0200 (CEST)
Received: from mail-yb1-f226.google.com (mail-yb1-f226.google.com
 [209.85.219.226])
 by mails.dpdk.org (Postfix) with ESMTP id 8EA0F4027F
 for <test-report@dpdk.org>; Tue, 16 Apr 2024 04:08:15 +0200 (CEST)
Received: by mail-yb1-f226.google.com with SMTP id
 3f1490d57ef6-ddda842c399so4102376276.3
 for <test-report@dpdk.org>; Mon, 15 Apr 2024 19:08:15 -0700 (PDT)
DKIM-Signature: v=1; a=rsa-sha256; c=relaxed/relaxed;
 d=iol.unh.edu; s=unh-iol; t=1713233295; x=1713838095; darn=dpdk.org;
 h=references:in-reply-to:cc:to:from:subject:message-id:date:from:to
 :cc:subject:date:message-id:reply-to;
 bh=GDqNWohygJDPX+xTIRrWGDgftX4q+JhL1JBz7w8I/pw=;
 b=R5rN1ESyE/H/DTTh0zE5glyxV2mg9RqhCHehE/i9ukgDBopOHb1JMFpSE6sHH4FBLd
 nFsJ0HevsDTdTbN6nBimKkoHPwlh/Bmj/ddshjeAQego9G/wBXRoCo/g5DUDD/QXo9J9
 6LdlQOygDxyqZzNPAONAgpot7rcT/bPLPWFE0=
X-Google-DKIM-Signature: v=1; a=rsa-sha256; c=relaxed/relaxed;
 d=1e100.net; s=20230601; t=1713233295; x=1713838095;
 h=references:in-reply-to:cc:to:from:subject:message-id:date
 :x-gm-message-state:from:to:cc:subject:date:message-id:reply-to;
 bh=GDqNWohygJDPX+xTIRrWGDgftX4q+JhL1JBz7w8I/pw=;
 b=t12fYaeXTER/UIe5cUsqKfIaLONp6b+RwlDqhJ9akHRjy8UWGVKpMsSuRpZKXPOfmb
 AoZjbQ3dVts8Vdqe+4A7wINTcn02I6ffsrU//v3jqmN3lU1J9ha1EfSBebGlttc/J6eI
 tpz0wJEWGIviH4ZPpo+iUzrgPDEt6UwMO/ng3m7ISgEbM1XuftprWW9dnnYh7LU/jUVc
 gCtDmXaiI3Qu/GW5Ka3QgSlSJs7o5kRMYCQJShjqwYac9ypyCrT5B9yxLXtDsBwEbaq8
 EpZ0Adfi0+u39Gn5v84hX/yjO1YeoSORt30IW2zr40koYksDGtRM9knMWpGBxHnfFajS
 Z4Tg==
X-Gm-Message-State: AOJu0YyO4fCeiQvphks4Lcm8f5f/8v9/Mn287sBusUo4chaVidswjcRV
 m3jYSJwfFcwkgTnhr8yeb093EBFIM4ELqdVFoS7G3ko1Ikc2a3z2s7UjSwBom502yT8a1j+AYkc
 WThhs10F+Lai/OtmR7SNIp6ecqnZKfabEZpfjn3uuafhrFQQerNpQQCpa
X-Google-Smtp-Source: AGHT+IF4gN/9IvGPr/96ndHjM/9hGbCJW/jh+Dmovj/5izKq2CUq09K86cstiTUrBgmDIGZzRscLZytDInmB
X-Received: by 2002:a25:8686:0:b0:dc6:9d35:f9aa with SMTP id
 z6-20020a258686000000b00dc69d35f9aamr12173489ybk.19.1713233294949; 
 Mon, 15 Apr 2024 19:08:14 -0700 (PDT)
Received: from postal.iol.unh.edu (postal.iol.unh.edu.
 [2606:4100:3880:1234::84]) by smtp-relay.gmail.com with ESMTPS id
 t10-20020ad45bca000000b00698f530704bsm889017qvt.21.2024.04.15.19.08.14
 (version=TLS1_2 cipher=ECDHE-ECDSA-AES128-GCM-SHA256 bits=128/128);
 Mon, 15 Apr 2024 19:08:14 -0700 (PDT)
X-Relaying-Domain: iol.unh.edu
Date: Mon, 15 Apr 2024 19:08:14 -0700 (PDT)
Message-ID: <661ddd8e.d40a0220.fedf7.bc0dSMTPIN_ADDED_MISSING@mx.google.com>
Received: from [172.21.0.7] (unknown [172.18.0.240])
 by postal.iol.unh.edu (Postfix) with ESMTP id A2AED604A958;
 Mon, 15 Apr 2024 22:08:14 -0400 (EDT)
Subject: |SUCCESS| pw139297-139378 [PATCH] [v2,83/83] bus/dpaa: move alignmen
From: dpdklab@iol.unh.edu
To: Test Report <test-report@dpdk.org>
Cc: dpdk-test-reports@iol.unh.edu
In-Reply-To: <1713211485-9021-84-git-send-email-roretzla@linux.microsoft.com>
References: <1713211485-9021-84-git-send-email-roretzla@linux.microsoft.com>
Content-Type: text/plain
X-BeenThere: test-report@dpdk.org
X-Mailman-Version: 2.1.29
Precedence: list
List-Id: automatic DPDK test reports <test-report.dpdk.org>
List-Unsubscribe: <https://mails.dpdk.org/options/test-report>,
 <mailto:test-report-request@dpdk.org?subject=unsubscribe>
List-Archive: <http://mails.dpdk.org/archives/test-report/>
List-Post: <mailto:test-report@dpdk.org>
List-Help: <mailto:test-report-request@dpdk.org?subject=help>
List-Subscribe: <https://mails.dpdk.org/listinfo/test-report>,
 <mailto:test-report-request@dpdk.org?subject=subscribe>
Errors-To: test-report-bounces@dpdk.org

Test-Label: iol-unit-arm64-testing
Test-Status: SUCCESS
http://dpdk.org/patch/139378

_Testing PASS_

Submitter: Tyler Retzlaff <roretzla@linux.microsoft.com>
Date: Monday, April 15 2024 20:04:45 
DPDK git baseline: Repo:dpdk
  Branch: master
  CommitID:e2e546ab5bf5e024986ccb5310ab43982f3bb40c

139297-139378 --> testing pass

Test environment and result as below:

+--------------------------+----------------+--------------+
|       Environment        | dpdk_unit_test | lpm_autotest |
+==========================+================+==============+
| Debian 11 (Buster) (ARM) | PASS           | SKIPPED      |
+--------------------------+----------------+--------------+
| CentOS Stream 9 (ARM)    | PASS           | SKIPPED      |
+--------------------------+----------------+--------------+
| Fedora 38 (ARM)          | PASS           | SKIPPED      |
+--------------------------+----------------+--------------+
| Debian 12 (arm)          | PASS           | SKIPPED      |
+--------------------------+----------------+--------------+
| Ubuntu 20.04 ARM SVE     | SKIPPED        | PASS         |
+--------------------------+----------------+--------------+


Debian 11 (Buster) (ARM)
	Kernel: Container Host Kernel
	Compiler: gcc 10.2.1

CentOS Stream 9 (ARM)
	Kernel: Container Host Kernel
	Compiler: gcc 11.4.1

Fedora 38 (ARM)
	Kernel: Depends on container host
	Compiler: gcc 13.2.1

Debian 12 (arm)
	Kernel: Container Host Kernel
	Compiler: gcc 12.2.0

Ubuntu 20.04 ARM SVE
	Kernel: 5.4.0-167-generic
	Compiler: gcc (Ubuntu 10.5.0-1ubuntu1~20.04) 10.5.0

To view detailed results, visit:
https://lab.dpdk.org/results/dashboard/patchsets/29782/

UNH-IOL DPDK Community Lab

To manage your email subscriptions, visit: 
https://lab.dpdk.org/results/dashboard/preferences/subscriptions/