From mboxrd@z Thu Jan  1 00:00:00 1970
Return-Path: <test-report-bounces@dpdk.org>
Received: from mails.dpdk.org (mails.dpdk.org [217.70.189.124])
	by inbox.dpdk.org (Postfix) with ESMTP id 5581A43E81
	for <public@inbox.dpdk.org>; Tue, 16 Apr 2024 04:13:08 +0200 (CEST)
Received: from mails.dpdk.org (localhost [127.0.0.1])
	by mails.dpdk.org (Postfix) with ESMTP id 0A699402C4;
	Tue, 16 Apr 2024 04:13:08 +0200 (CEST)
Received: from mail-oo1-f98.google.com (mail-oo1-f98.google.com
 [209.85.161.98]) by mails.dpdk.org (Postfix) with ESMTP id 24A934027F
 for <test-report@dpdk.org>; Tue, 16 Apr 2024 04:11:50 +0200 (CEST)
Received: by mail-oo1-f98.google.com with SMTP id
 006d021491bc7-5aa4a1246b1so2566005eaf.3
 for <test-report@dpdk.org>; Mon, 15 Apr 2024 19:11:50 -0700 (PDT)
DKIM-Signature: v=1; a=rsa-sha256; c=relaxed/relaxed;
 d=iol.unh.edu; s=unh-iol; t=1713233509; x=1713838309; darn=dpdk.org;
 h=references:in-reply-to:cc:to:from:subject:message-id:date:from:to
 :cc:subject:date:message-id:reply-to;
 bh=kkyq2pkxGyJjGciqQnKULdxD9Una07IZ73Tk9sqniHg=;
 b=PVrE7JGyvcsC87Ccsk+VDSjXjVoM5smBIUsERhhkrdHvFS+aRIXM/KAWkskUxR2rfQ
 Ic/46jXRq/yWYXPIk0TuzjeErBYhtZEeO6X8ap373LLn5h2aaDW6yFX570Jj0GfjW8eZ
 6Ry9wzz7Xn4ByQxGTuTwEmUL/1IkHnTu7FbRo=
X-Google-DKIM-Signature: v=1; a=rsa-sha256; c=relaxed/relaxed;
 d=1e100.net; s=20230601; t=1713233509; x=1713838309;
 h=references:in-reply-to:cc:to:from:subject:message-id:date
 :x-gm-message-state:from:to:cc:subject:date:message-id:reply-to;
 bh=kkyq2pkxGyJjGciqQnKULdxD9Una07IZ73Tk9sqniHg=;
 b=BJ6yKfQTNYSP4lLJlXA1onEFIYVXDGPUnUOYSGSonPIl3xz9tkA5ug/xMGfd1EvI+u
 tec/cv/UGcV0uMsWoEp5IUok8kaIR402YJNnhllxz9PaF9nuLwKhYUX3bCcy9Ra2Nz1y
 Uv4y63BYEg7BwlJczz+xCYRXrmnCLUljdYIp1k5Xd0xfiw918OO4TkhvOwMd4TYEnZX7
 5f9mkUSzxMLychmAQv3jYP7XwdV1C21zddt1tuHg79VlqlIBkQENKT8pe0XOYy80O+IU
 n039em8jUgZH/IpVAUtiec8jZzaWDC/DDakzQHyHNIoHVLKrkFvvMZsqIDwqjuW9LUmT
 Isdg==
X-Gm-Message-State: AOJu0Yz5zxJovEBRcVbCpx5xWueomAC0jpBkc/Z/Ic0obXZXgCWzxyHi
 oKFHsuEswpxw9++NHlXUvuS+XcTyOMPa/2FQ72tmiDmEj+8+JplqHVU+bnuOVv/NhHDYJrbSYS4
 4HEcOjTpPmuPFZ18wLEo/CRZUjF0sO6zJNuCpWwLYYbiPqUtmqOfhMNWm
X-Google-Smtp-Source: AGHT+IFqGf49JszR3l4jmxRFWSQnkaR0ndc+VIA107XdEW+L0YtIBYGt44P9LXK8Z/Vg/tq/NteZF9ImCfsa
X-Received: by 2002:a05:6820:a08:b0:5aa:5057:4eca with SMTP id
 ch8-20020a0568200a0800b005aa50574ecamr12005574oob.0.1713233509537; 
 Mon, 15 Apr 2024 19:11:49 -0700 (PDT)
Received: from postal.iol.unh.edu (postal.iol.unh.edu.
 [2606:4100:3880:1234::84]) by smtp-relay.gmail.com with ESMTPS id
 e85-20020a4a5558000000b005a56c2df31fsm967714oob.18.2024.04.15.19.11.49
 (version=TLS1_2 cipher=ECDHE-ECDSA-AES128-GCM-SHA256 bits=128/128);
 Mon, 15 Apr 2024 19:11:49 -0700 (PDT)
X-Relaying-Domain: iol.unh.edu
Date: Mon, 15 Apr 2024 19:11:49 -0700 (PDT)
Message-ID: <661dde65.4a0a0220.12d90.1f95SMTPIN_ADDED_MISSING@mx.google.com>
Received: from [172.21.0.6] (unknown [172.18.0.240])
 by postal.iol.unh.edu (Postfix) with ESMTP id 0F883604A958;
 Mon, 15 Apr 2024 22:11:49 -0400 (EDT)
Subject: |SUCCESS| pw139297-139378 [PATCH] [v2,83/83] bus/dpaa: move alignmen
From: dpdklab@iol.unh.edu
To: Test Report <test-report@dpdk.org>
Cc: dpdk-test-reports@iol.unh.edu
In-Reply-To: <1713211485-9021-84-git-send-email-roretzla@linux.microsoft.com>
References: <1713211485-9021-84-git-send-email-roretzla@linux.microsoft.com>
Content-Type: text/plain
X-BeenThere: test-report@dpdk.org
X-Mailman-Version: 2.1.29
Precedence: list
List-Id: automatic DPDK test reports <test-report.dpdk.org>
List-Unsubscribe: <https://mails.dpdk.org/options/test-report>,
 <mailto:test-report-request@dpdk.org?subject=unsubscribe>
List-Archive: <http://mails.dpdk.org/archives/test-report/>
List-Post: <mailto:test-report@dpdk.org>
List-Help: <mailto:test-report-request@dpdk.org?subject=help>
List-Subscribe: <https://mails.dpdk.org/listinfo/test-report>,
 <mailto:test-report-request@dpdk.org?subject=subscribe>
Errors-To: test-report-bounces@dpdk.org

Test-Label: iol-unit-arm64-testing
Test-Status: SUCCESS
http://dpdk.org/patch/139378

_Testing PASS_

Submitter: Tyler Retzlaff <roretzla@linux.microsoft.com>
Date: Monday, April 15 2024 20:04:45 
DPDK git baseline: Repo:dpdk
  Branch: master
  CommitID:e2e546ab5bf5e024986ccb5310ab43982f3bb40c

139297-139378 --> testing pass

Test environment and result as below:

+-----------------------------+----------------+--------------+
|         Environment         | dpdk_unit_test | lpm_autotest |
+=============================+================+==============+
| Debian 11 (Buster) (ARM)    | PASS           | SKIPPED      |
+-----------------------------+----------------+--------------+
| CentOS Stream 9 (ARM)       | PASS           | SKIPPED      |
+-----------------------------+----------------+--------------+
| Fedora 38 (ARM)             | PASS           | SKIPPED      |
+-----------------------------+----------------+--------------+
| Debian 12 (arm)             | PASS           | SKIPPED      |
+-----------------------------+----------------+--------------+
| 32-bit Ubuntu 20.04.4 (ARM) | PASS           | SKIPPED      |
+-----------------------------+----------------+--------------+
| Ubuntu 20.04 ARM SVE        | SKIPPED        | PASS         |
+-----------------------------+----------------+--------------+


Debian 11 (Buster) (ARM)
	Kernel: Container Host Kernel
	Compiler: gcc 10.2.1

CentOS Stream 9 (ARM)
	Kernel: Container Host Kernel
	Compiler: gcc 11.4.1

Fedora 38 (ARM)
	Kernel: Depends on container host
	Compiler: gcc 13.2.1

Debian 12 (arm)
	Kernel: Container Host Kernel
	Compiler: gcc 12.2.0

32-bit Ubuntu 20.04.4 (ARM)
	Kernel: 5.4.0-155-generic aarch64
	Compiler: gcc 9.4

Ubuntu 20.04 ARM SVE
	Kernel: 5.4.0-167-generic
	Compiler: gcc (Ubuntu 10.5.0-1ubuntu1~20.04) 10.5.0

To view detailed results, visit:
https://lab.dpdk.org/results/dashboard/patchsets/29782/

UNH-IOL DPDK Community Lab

To manage your email subscriptions, visit: 
https://lab.dpdk.org/results/dashboard/preferences/subscriptions/