From mboxrd@z Thu Jan  1 00:00:00 1970
Return-Path: <test-report-bounces@dpdk.org>
Received: from mails.dpdk.org (mails.dpdk.org [217.70.189.124])
	by inbox.dpdk.org (Postfix) with ESMTP id E533B43E81
	for <public@inbox.dpdk.org>; Tue, 16 Apr 2024 04:15:54 +0200 (CEST)
Received: from mails.dpdk.org (localhost [127.0.0.1])
	by mails.dpdk.org (Postfix) with ESMTP id DE7024028B;
	Tue, 16 Apr 2024 04:15:54 +0200 (CEST)
Received: from mail-io1-f99.google.com (mail-io1-f99.google.com
 [209.85.166.99]) by mails.dpdk.org (Postfix) with ESMTP id 2D54D4027F
 for <test-report@dpdk.org>; Tue, 16 Apr 2024 04:15:46 +0200 (CEST)
Received: by mail-io1-f99.google.com with SMTP id
 ca18e2360f4ac-7d6ad896c6dso152031039f.1
 for <test-report@dpdk.org>; Mon, 15 Apr 2024 19:15:46 -0700 (PDT)
DKIM-Signature: v=1; a=rsa-sha256; c=relaxed/relaxed;
 d=iol.unh.edu; s=unh-iol; t=1713233745; x=1713838545; darn=dpdk.org;
 h=references:in-reply-to:cc:to:from:subject:message-id:date:from:to
 :cc:subject:date:message-id:reply-to;
 bh=ppPwEHzYXzL7+8Kx6dAB+tPC3TsgBompyJuYcQ7AEro=;
 b=FDiTzOqJn7cRRS2SLoOyiMxsxcvYuX25eLeWLv+uUoy3uNPb5d8RCKCrv15FMoUiwT
 oxV9txDxkV3Tv+jRPIhoovaErlh6A+XyJZHr8GQ6n/snH5hoBlT/zg2wjd0QpCbYs+Jx
 s1B4SaDag/fnRRIKyQa8mV8dqsiTLfCjFgT9w=
X-Google-DKIM-Signature: v=1; a=rsa-sha256; c=relaxed/relaxed;
 d=1e100.net; s=20230601; t=1713233745; x=1713838545;
 h=references:in-reply-to:cc:to:from:subject:message-id:date
 :x-gm-message-state:from:to:cc:subject:date:message-id:reply-to;
 bh=ppPwEHzYXzL7+8Kx6dAB+tPC3TsgBompyJuYcQ7AEro=;
 b=nEuIv06O/DHEgUnmydQeF+1y+PJFYiZpHWyfuzAGXUEAmowKQCEwQWdRz2Ai/OmvTD
 gXwsqfMv3ZG6udIVIZ9+1mpi27mXvAryQ4h7e0RZLYxsq7zNmXelldUBQ9wOjyh7OL2q
 JMrRgPNkn0GTkyCmLyA/DAawxFWxlJUfw+FFZ/cXWU+egwJ0KNzlvn4HUEAAYeRTMwMN
 +72x2uEW/yOR2Vsjrd/9yocIY9X6fBrazdD/RFEs3khrgJayPnAkhwuIWT/z8X5r2sjW
 swvuhobGxlu7j+Z3sGmLRXvFDxUuMcSKq5ISzuN0aBDLg+JAPB9vT7m9c3kZCwAN/Ni3
 8VHg==
X-Gm-Message-State: AOJu0Yw/QQA7qBHoLj3zX1kHA7rOCIlkCA8zctvBaT7oXSw6sZm8A4bp
 giGbo4HlPUH5UYe6GqCO6I4bmhS8LUN0BQHSdPn9bOj1SLjo+00Nz+rf0M4MkX83MNgyeZPHYS/
 p7yqCl6W7vh6Mv0EMjt73QpTcAOuG8Yryy0+WjFcZ
X-Google-Smtp-Source: AGHT+IGSezGOiyOCvSpOyTADTAz8YanwdyQEj9OLlyM7VTYQTustfiLPInR6Kw2y9lsgdSym4FsHYA2M0dFc
X-Received: by 2002:a05:6e02:2166:b0:36b:13f5:9140 with SMTP id
 s6-20020a056e02216600b0036b13f59140mr11105730ilv.10.1713233745568; 
 Mon, 15 Apr 2024 19:15:45 -0700 (PDT)
Received: from postal.iol.unh.edu (postal.iol.unh.edu. [132.177.123.84])
 by smtp-relay.gmail.com with ESMTPS id
 w14-20020a056e021a6e00b0036b18c46defsm272631ilv.68.2024.04.15.19.15.45
 (version=TLS1_2 cipher=ECDHE-ECDSA-AES128-GCM-SHA256 bits=128/128);
 Mon, 15 Apr 2024 19:15:45 -0700 (PDT)
X-Relaying-Domain: iol.unh.edu
Date: Mon, 15 Apr 2024 19:15:45 -0700 (PDT)
Message-ID: <661ddf51.050a0220.2ce07.c5faSMTPIN_ADDED_MISSING@mx.google.com>
Received: from [172.21.0.6] (unknown [172.18.0.240])
 by postal.iol.unh.edu (Postfix) with ESMTP id 13D09604A958;
 Mon, 15 Apr 2024 22:15:45 -0400 (EDT)
Subject: |SUCCESS| pw139297-139378 [PATCH] [v2,83/83] bus/dpaa: move alignmen
From: dpdklab@iol.unh.edu
To: Test Report <test-report@dpdk.org>
Cc: dpdk-test-reports@iol.unh.edu
In-Reply-To: <1713211485-9021-84-git-send-email-roretzla@linux.microsoft.com>
References: <1713211485-9021-84-git-send-email-roretzla@linux.microsoft.com>
Content-Type: text/plain
X-BeenThere: test-report@dpdk.org
X-Mailman-Version: 2.1.29
Precedence: list
List-Id: automatic DPDK test reports <test-report.dpdk.org>
List-Unsubscribe: <https://mails.dpdk.org/options/test-report>,
 <mailto:test-report-request@dpdk.org?subject=unsubscribe>
List-Archive: <http://mails.dpdk.org/archives/test-report/>
List-Post: <mailto:test-report@dpdk.org>
List-Help: <mailto:test-report-request@dpdk.org?subject=help>
List-Subscribe: <https://mails.dpdk.org/listinfo/test-report>,
 <mailto:test-report-request@dpdk.org?subject=subscribe>
Errors-To: test-report-bounces@dpdk.org

Test-Label: iol-unit-arm64-testing
Test-Status: SUCCESS
http://dpdk.org/patch/139378

_Testing PASS_

Submitter: Tyler Retzlaff <roretzla@linux.microsoft.com>
Date: Monday, April 15 2024 20:04:45 
DPDK git baseline: Repo:dpdk
  Branch: master
  CommitID:e2e546ab5bf5e024986ccb5310ab43982f3bb40c

139297-139378 --> testing pass

Test environment and result as below:

+-----------------------------+----------------+--------------+
|         Environment         | dpdk_unit_test | lpm_autotest |
+=============================+================+==============+
| Debian 11 (Buster) (ARM)    | PASS           | SKIPPED      |
+-----------------------------+----------------+--------------+
| CentOS Stream 9 (ARM)       | PASS           | SKIPPED      |
+-----------------------------+----------------+--------------+
| Fedora 38 (ARM)             | PASS           | SKIPPED      |
+-----------------------------+----------------+--------------+
| Debian 12 (arm)             | PASS           | SKIPPED      |
+-----------------------------+----------------+--------------+
| 32-bit Ubuntu 20.04.4 (ARM) | PASS           | SKIPPED      |
+-----------------------------+----------------+--------------+
| Fedora 37 (ARM)             | PASS           | SKIPPED      |
+-----------------------------+----------------+--------------+
| Ubuntu 20.04 ARM SVE        | SKIPPED        | PASS         |
+-----------------------------+----------------+--------------+


Debian 11 (Buster) (ARM)
	Kernel: Container Host Kernel
	Compiler: gcc 10.2.1

CentOS Stream 9 (ARM)
	Kernel: Container Host Kernel
	Compiler: gcc 11.4.1

Fedora 38 (ARM)
	Kernel: Depends on container host
	Compiler: gcc 13.2.1

Debian 12 (arm)
	Kernel: Container Host Kernel
	Compiler: gcc 12.2.0

32-bit Ubuntu 20.04.4 (ARM)
	Kernel: 5.4.0-155-generic aarch64
	Compiler: gcc 9.4

Fedora 37 (ARM)
	Kernel: Depends on container host
	Compiler: gcc 12.3.1

Ubuntu 20.04 ARM SVE
	Kernel: 5.4.0-167-generic
	Compiler: gcc (Ubuntu 10.5.0-1ubuntu1~20.04) 10.5.0

To view detailed results, visit:
https://lab.dpdk.org/results/dashboard/patchsets/29782/

UNH-IOL DPDK Community Lab

To manage your email subscriptions, visit: 
https://lab.dpdk.org/results/dashboard/preferences/subscriptions/