From mboxrd@z Thu Jan  1 00:00:00 1970
Return-Path: <test-report-bounces@dpdk.org>
Received: from mails.dpdk.org (mails.dpdk.org [217.70.189.124])
	by inbox.dpdk.org (Postfix) with ESMTP id 6F28043E81
	for <public@inbox.dpdk.org>; Tue, 16 Apr 2024 04:39:25 +0200 (CEST)
Received: from mails.dpdk.org (localhost [127.0.0.1])
	by mails.dpdk.org (Postfix) with ESMTP id 6A8DD4028B;
	Tue, 16 Apr 2024 04:39:25 +0200 (CEST)
Received: from mail-qv1-f99.google.com (mail-qv1-f99.google.com
 [209.85.219.99]) by mails.dpdk.org (Postfix) with ESMTP id EA6764027F
 for <test-report@dpdk.org>; Tue, 16 Apr 2024 04:39:23 +0200 (CEST)
Received: by mail-qv1-f99.google.com with SMTP id
 6a1803df08f44-69b59c10720so15416016d6.3
 for <test-report@dpdk.org>; Mon, 15 Apr 2024 19:39:23 -0700 (PDT)
DKIM-Signature: v=1; a=rsa-sha256; c=relaxed/relaxed;
 d=iol.unh.edu; s=unh-iol; t=1713235163; x=1713839963; darn=dpdk.org;
 h=references:in-reply-to:cc:to:from:subject:message-id:date:from:to
 :cc:subject:date:message-id:reply-to;
 bh=QlASg/R7gm7M+0C8/LgmvpeqxSipxnxpq28fBean5Ec=;
 b=dgp45YX8veAcm6IA12dz21hCpqzg+RDpp0hs0Qk3yTXQ0ngWdc5dkNTeQ5B5xtzcFN
 mMDnA6ZRXpViLL59EZr4Mv7ZLBjTfTqE0ya8fn2cBUFdC7FvaXL11n8g4esmfxI99EBc
 NYs1erpp7+u7tD7k2yTkPIXXcObma879I5t+o=
X-Google-DKIM-Signature: v=1; a=rsa-sha256; c=relaxed/relaxed;
 d=1e100.net; s=20230601; t=1713235163; x=1713839963;
 h=references:in-reply-to:cc:to:from:subject:message-id:date
 :x-gm-message-state:from:to:cc:subject:date:message-id:reply-to;
 bh=QlASg/R7gm7M+0C8/LgmvpeqxSipxnxpq28fBean5Ec=;
 b=anbCyPb+Tn9CdscFTdnE8urGRwlbfmIpCmsSt1q10PGeS1Qef1rBatnN0fByLnPPZx
 6WtLsR8NKGqlxsZXtBFwqG26z0VvmXu8CVcjlo9lOryyT6GT5Rfa3/djJ3JSa9hsFl3J
 SlJb5ycbfSD/jKpUdo5c6YC3SRiPEn18GHCM4BzF5sVbQ2qwjzC6wCfVBF+S5LcOz/kx
 oFCLi2svQSeIQ41cLcatvD3lY6xtf8ZQG7zgXWIzVKmHUQgL+QawQrHOyaFj3X0yLFJ7
 xrZsFd/e+rVG6Qw2c9I32EpvT2+PnT53niPo6Vw+VROe0N/kijOeC7JL7nxu0Pm4eZZD
 BBQw==
X-Gm-Message-State: AOJu0Yx2oZ4UDM2+v7oexm/CZqpvM6boUgM2tlBTlXBAcvQeaN3c11KG
 xxaIs2F0MHeWB/JNx0O4F3qw6rDJ1Yix0tPEcsQQAwvrB23Tpgx4A5sIJ6shFGsuhnoH8+NDW+U
 VJwbWYl5foEKPOOFCchp0y3p8SrJBn1rNfzLQ6IjPXBng3rFNI6OGijuF
X-Google-Smtp-Source: AGHT+IGpe1sLGCSPxqGwtgERAG7NZdNWzzDqffJQsUQwvLo1q0h4WRc5MADO0k/yyj3w4+3Snt5dFpXeE/VI
X-Received: by 2002:a05:6214:2a47:b0:69b:3201:c9c with SMTP id
 jf7-20020a0562142a4700b0069b32010c9cmr15152807qvb.40.1713235163424; 
 Mon, 15 Apr 2024 19:39:23 -0700 (PDT)
Received: from postal.iol.unh.edu (postal.iol.unh.edu.
 [2606:4100:3880:1234::84]) by smtp-relay.gmail.com with ESMTPS id
 fo5-20020ad45f05000000b0069b1c0c7a9csm958500qvb.15.2024.04.15.19.39.23
 (version=TLS1_2 cipher=ECDHE-ECDSA-AES128-GCM-SHA256 bits=128/128);
 Mon, 15 Apr 2024 19:39:23 -0700 (PDT)
X-Relaying-Domain: iol.unh.edu
Date: Mon, 15 Apr 2024 19:39:23 -0700 (PDT)
Message-ID: <661de4db.d40a0220.ed83f.1140SMTPIN_ADDED_MISSING@mx.google.com>
Received: from [172.17.0.4] (unknown [172.18.0.217])
 by postal.iol.unh.edu (Postfix) with ESMTP id 24CB2604A958;
 Mon, 15 Apr 2024 22:39:23 -0400 (EDT)
Subject: |SUCCESS| pw139297-139378 [PATCH] [v2,83/83] bus/dpaa: move alignmen
From: dpdklab@iol.unh.edu
To: Test Report <test-report@dpdk.org>
Cc: dpdk-test-reports@iol.unh.edu
In-Reply-To: <1713211485-9021-84-git-send-email-roretzla@linux.microsoft.com>
References: <1713211485-9021-84-git-send-email-roretzla@linux.microsoft.com>
Content-Type: text/plain
X-BeenThere: test-report@dpdk.org
X-Mailman-Version: 2.1.29
Precedence: list
List-Id: automatic DPDK test reports <test-report.dpdk.org>
List-Unsubscribe: <https://mails.dpdk.org/options/test-report>,
 <mailto:test-report-request@dpdk.org?subject=unsubscribe>
List-Archive: <http://mails.dpdk.org/archives/test-report/>
List-Post: <mailto:test-report@dpdk.org>
List-Help: <mailto:test-report-request@dpdk.org?subject=help>
List-Subscribe: <https://mails.dpdk.org/listinfo/test-report>,
 <mailto:test-report-request@dpdk.org?subject=subscribe>
Errors-To: test-report-bounces@dpdk.org

Test-Label: iol-unit-arm64-testing
Test-Status: SUCCESS
http://dpdk.org/patch/139378

_Testing PASS_

Submitter: Tyler Retzlaff <roretzla@linux.microsoft.com>
Date: Monday, April 15 2024 20:04:45 
DPDK git baseline: Repo:dpdk
  Branch: master
  CommitID:e2e546ab5bf5e024986ccb5310ab43982f3bb40c

139297-139378 --> testing pass

Test environment and result as below:

+-----------------------------+----------------+--------------+
|         Environment         | dpdk_unit_test | lpm_autotest |
+=============================+================+==============+
| Debian 11 (Buster) (ARM)    | PASS           | SKIPPED      |
+-----------------------------+----------------+--------------+
| CentOS Stream 9 (ARM)       | PASS           | SKIPPED      |
+-----------------------------+----------------+--------------+
| Fedora 38 (ARM)             | PASS           | SKIPPED      |
+-----------------------------+----------------+--------------+
| Debian 12 (arm)             | PASS           | SKIPPED      |
+-----------------------------+----------------+--------------+
| 32-bit Ubuntu 20.04.4 (ARM) | PASS           | SKIPPED      |
+-----------------------------+----------------+--------------+
| Fedora 37 (ARM)             | PASS           | SKIPPED      |
+-----------------------------+----------------+--------------+
| Fedora 39 (ARM Clang)       | PASS           | SKIPPED      |
+-----------------------------+----------------+--------------+
| Fedora 39 (ARM)             | PASS           | SKIPPED      |
+-----------------------------+----------------+--------------+
| Ubuntu 20.04 (ARM)          | PASS           | SKIPPED      |
+-----------------------------+----------------+--------------+
| Ubuntu 20.04 ARM SVE        | SKIPPED        | PASS         |
+-----------------------------+----------------+--------------+


Debian 11 (Buster) (ARM)
	Kernel: Container Host Kernel
	Compiler: gcc 10.2.1

CentOS Stream 9 (ARM)
	Kernel: Container Host Kernel
	Compiler: gcc 11.4.1

Fedora 38 (ARM)
	Kernel: Depends on container host
	Compiler: gcc 13.2.1

Debian 12 (arm)
	Kernel: Container Host Kernel
	Compiler: gcc 12.2.0

32-bit Ubuntu 20.04.4 (ARM)
	Kernel: 5.4.0-155-generic aarch64
	Compiler: gcc 9.4

Fedora 37 (ARM)
	Kernel: Depends on container host
	Compiler: gcc 12.3.1

Fedora 39 (ARM Clang)
	Kernel: Depends on container host
	Compiler: clang 17.0.6

Fedora 39 (ARM)
	Kernel: Depends on container host
	Compiler: gcc 13.2.1

Ubuntu 20.04 (ARM)
	Kernel: Container Host Kernel
	Compiler: gcc 9.4.0

Ubuntu 20.04 ARM SVE
	Kernel: 5.4.0-167-generic
	Compiler: gcc (Ubuntu 10.5.0-1ubuntu1~20.04) 10.5.0

To view detailed results, visit:
https://lab.dpdk.org/results/dashboard/patchsets/29782/

UNH-IOL DPDK Community Lab

To manage your email subscriptions, visit: 
https://lab.dpdk.org/results/dashboard/preferences/subscriptions/