From mboxrd@z Thu Jan  1 00:00:00 1970
Return-Path: <test-report-bounces@dpdk.org>
Received: from mails.dpdk.org (mails.dpdk.org [217.70.189.124])
	by inbox.dpdk.org (Postfix) with ESMTP id A901B43E81
	for <public@inbox.dpdk.org>; Tue, 16 Apr 2024 04:59:48 +0200 (CEST)
Received: from mails.dpdk.org (localhost [127.0.0.1])
	by mails.dpdk.org (Postfix) with ESMTP id 9C81C4028B;
	Tue, 16 Apr 2024 04:59:48 +0200 (CEST)
Received: from mail-pg1-f228.google.com (mail-pg1-f228.google.com
 [209.85.215.228])
 by mails.dpdk.org (Postfix) with ESMTP id 6A65B4027F
 for <test-report@dpdk.org>; Tue, 16 Apr 2024 04:59:35 +0200 (CEST)
Received: by mail-pg1-f228.google.com with SMTP id
 41be03b00d2f7-5e4f79007ffso2636693a12.2
 for <test-report@dpdk.org>; Mon, 15 Apr 2024 19:59:35 -0700 (PDT)
DKIM-Signature: v=1; a=rsa-sha256; c=relaxed/relaxed;
 d=iol.unh.edu; s=unh-iol; t=1713236374; x=1713841174; darn=dpdk.org;
 h=references:in-reply-to:cc:to:from:subject:message-id:date:from:to
 :cc:subject:date:message-id:reply-to;
 bh=k2AlbIotbU3foLK/8dSkNe9hpblPxxXNKs9sSwi2j2I=;
 b=Olup2r5n2XIhqeXIMmMCRXVYEaoC3UyqFlY6d1zDW58HHYEziWfYbQXjS64tiNsDjF
 Wd/0G9TfXT/OHyqx83Pw+dA7AipLdL1BZy9DsubYAK32QSmOJZjirGv5GnZautuXu5Ke
 Qqh1mBKD3L0sboQo+RSPyZm2A+/XHBvEoC0R8=
X-Google-DKIM-Signature: v=1; a=rsa-sha256; c=relaxed/relaxed;
 d=1e100.net; s=20230601; t=1713236374; x=1713841174;
 h=references:in-reply-to:cc:to:from:subject:message-id:date
 :x-gm-message-state:from:to:cc:subject:date:message-id:reply-to;
 bh=k2AlbIotbU3foLK/8dSkNe9hpblPxxXNKs9sSwi2j2I=;
 b=GZKVNfPzDEiWGhogc05nhwwh1Ta93iJJQFNNwYQz1KxJIRO5RZqQurmKAPwa6YW5g3
 fhHgtfYf/e7NNKoQUfZs/Ty5llWEOxp3PlzkWMl2WWl56k5wzA7S67lOmMlgtE22DHH9
 hpGmmfvO7F/DSHui6spFi0LBmsM44QjRWAC6zyWnJQAbi1fWkP59AO9HGk3eR72iDme1
 wV4Iwzmfzav+9MioY009oRwpQXV27sH9MArARXSy5fwqlAoDIvV95BtyD43b0ua6ogyB
 LLj73ebx+2Zy3QJ724Z55OPhZeszSkq0lQAn2yHgyHlmht8s0kdOFUrU/7r7R00itjEI
 6Dhw==
X-Gm-Message-State: AOJu0YziC8DIi7t3yQem21xLfLOdX9L9KhAIkLKFgPuS22/wwbc6k47S
 UNYYQQ7NvA5htLZdSQrybPPw8wZ0rQ9Ic0TRdNctuKGWOI/PhDjcbzcM+mRLJWlLjT4ukQQnb6N
 j4doIQoYOV/6tk1IcbFtVfozszvf2kxOLmqzHVffza3Ovo62jO8ueilxO
X-Google-Smtp-Source: AGHT+IE7+IofQoR1MJ5mmgS1HGIgR4N4gEM5gV8PqKtd2A+uJB644cfnGOVmKEOguYd9cZRVjZ29raQ4l8pJ
X-Received: by 2002:a05:6a20:c901:b0:1a9:c2dd:7c9e with SMTP id
 gx1-20020a056a20c90100b001a9c2dd7c9emr11575656pzb.2.1713236374431; 
 Mon, 15 Apr 2024 19:59:34 -0700 (PDT)
Received: from postal.iol.unh.edu (postal.iol.unh.edu.
 [2606:4100:3880:1234::84]) by smtp-relay.gmail.com with ESMTPS id
 kw3-20020a170902f90300b001db5c9dbfccsm439791plb.145.2024.04.15.19.59.34
 (version=TLS1_2 cipher=ECDHE-ECDSA-AES128-GCM-SHA256 bits=128/128);
 Mon, 15 Apr 2024 19:59:34 -0700 (PDT)
X-Relaying-Domain: iol.unh.edu
Date: Mon, 15 Apr 2024 19:59:34 -0700 (PDT)
Message-ID: <661de996.170a0220.fbc1a.3593SMTPIN_ADDED_MISSING@mx.google.com>
Received: from [172.17.0.3] (unknown [172.18.0.217])
 by postal.iol.unh.edu (Postfix) with ESMTP id 9C867604A958;
 Mon, 15 Apr 2024 22:59:33 -0400 (EDT)
Subject: |SUCCESS| pw139297-139378 [PATCH] [v2,83/83] bus/dpaa: move alignmen
From: dpdklab@iol.unh.edu
To: Test Report <test-report@dpdk.org>
Cc: dpdk-test-reports@iol.unh.edu
In-Reply-To: <1713211485-9021-84-git-send-email-roretzla@linux.microsoft.com>
References: <1713211485-9021-84-git-send-email-roretzla@linux.microsoft.com>
Content-Type: text/plain
X-BeenThere: test-report@dpdk.org
X-Mailman-Version: 2.1.29
Precedence: list
List-Id: automatic DPDK test reports <test-report.dpdk.org>
List-Unsubscribe: <https://mails.dpdk.org/options/test-report>,
 <mailto:test-report-request@dpdk.org?subject=unsubscribe>
List-Archive: <http://mails.dpdk.org/archives/test-report/>
List-Post: <mailto:test-report@dpdk.org>
List-Help: <mailto:test-report-request@dpdk.org?subject=help>
List-Subscribe: <https://mails.dpdk.org/listinfo/test-report>,
 <mailto:test-report-request@dpdk.org?subject=subscribe>
Errors-To: test-report-bounces@dpdk.org

Test-Label: iol-compile-arm64-testing
Test-Status: SUCCESS
http://dpdk.org/patch/139378

_Testing PASS_

Submitter: Tyler Retzlaff <roretzla@linux.microsoft.com>
Date: Monday, April 15 2024 20:04:45 
DPDK git baseline: Repo:dpdk
  Branch: master
  CommitID:e2e546ab5bf5e024986ccb5310ab43982f3bb40c

139297-139378 --> testing pass

Test environment and result as below:

+----------------------------------------+--------------------+
|              Environment               | dpdk_meson_compile |
+========================================+====================+
| Ubuntu 20.04 ARM SVE                   | PASS               |
+----------------------------------------+--------------------+
| Debian 12 with MUSDK                   | PASS               |
+----------------------------------------+--------------------+
| Ubuntu 20.04 aarch32 GCC Cross Compile | PASS               |
+----------------------------------------+--------------------+
| Ubuntu 20.04 ARM Clang Cross Compile   | PASS               |
+----------------------------------------+--------------------+
| Fedora 37 (ARM)                        | PASS               |
+----------------------------------------+--------------------+
| Ubuntu 20.04 ARM GCC Cross Compile     | PASS               |
+----------------------------------------+--------------------+
| Fedora 39 (ARM)                        | PASS               |
+----------------------------------------+--------------------+
| Debian 12 (arm)                        | PASS               |
+----------------------------------------+--------------------+
| Fedora 38 (ARM)                        | PASS               |
+----------------------------------------+--------------------+
| Fedora 39 (ARM Clang)                  | PASS               |
+----------------------------------------+--------------------+


Ubuntu 20.04 ARM SVE
	Kernel: 5.4.0-167-generic
	Compiler: gcc (Ubuntu 10.5.0-1ubuntu1~20.04) 10.5.0

Debian 12 with MUSDK
	Kernel: Container Host Kernel
	Compiler: gcc 12.2.0

Ubuntu 20.04 aarch32 GCC Cross Compile
	Kernel: 5.4.0-167-generic
	Compiler: gcc 9.4.0

Ubuntu 20.04 ARM Clang Cross Compile
	Kernel: 5.4.0-72-generic
	Compiler: clang 10.0.0-4ubuntu1

Fedora 37 (ARM)
	Kernel: Depends on container host
	Compiler: gcc 12.3.1

Ubuntu 20.04 ARM GCC Cross Compile
	Kernel: 5.4.0-167-generic
	Compiler: aarch64-linux-gnu-gcc (Ubuntu 9.4.0-1ubuntu1~20.04.2) 9.4.0

Fedora 39 (ARM)
	Kernel: Depends on container host
	Compiler: gcc 13.2.1

Debian 12 (arm)
	Kernel: Container Host Kernel
	Compiler: gcc 12.2.0

Fedora 38 (ARM)
	Kernel: Depends on container host
	Compiler: gcc 13.2.1

Fedora 39 (ARM Clang)
	Kernel: Depends on container host
	Compiler: clang 17.0.6

To view detailed results, visit:
https://lab.dpdk.org/results/dashboard/patchsets/29782/

UNH-IOL DPDK Community Lab

To manage your email subscriptions, visit: 
https://lab.dpdk.org/results/dashboard/preferences/subscriptions/