From mboxrd@z Thu Jan  1 00:00:00 1970
Return-Path: <test-report-bounces@dpdk.org>
Received: from mails.dpdk.org (mails.dpdk.org [217.70.189.124])
	by inbox.dpdk.org (Postfix) with ESMTP id DEC0C43E81
	for <public@inbox.dpdk.org>; Tue, 16 Apr 2024 05:10:39 +0200 (CEST)
Received: from mails.dpdk.org (localhost [127.0.0.1])
	by mails.dpdk.org (Postfix) with ESMTP id D4D7E4028B;
	Tue, 16 Apr 2024 05:10:39 +0200 (CEST)
Received: from mail-qv1-f97.google.com (mail-qv1-f97.google.com
 [209.85.219.97]) by mails.dpdk.org (Postfix) with ESMTP id 726194027F
 for <test-report@dpdk.org>; Tue, 16 Apr 2024 05:10:38 +0200 (CEST)
Received: by mail-qv1-f97.google.com with SMTP id
 6a1803df08f44-69b50b8239fso35251976d6.0
 for <test-report@dpdk.org>; Mon, 15 Apr 2024 20:10:38 -0700 (PDT)
DKIM-Signature: v=1; a=rsa-sha256; c=relaxed/relaxed;
 d=iol.unh.edu; s=unh-iol; t=1713237038; x=1713841838; darn=dpdk.org;
 h=references:in-reply-to:cc:to:from:subject:message-id:date:from:to
 :cc:subject:date:message-id:reply-to;
 bh=mO/yVUkEiTjB0UlS9Asghcd+OLM3EpDIwSDjrcM6kbM=;
 b=OCKg6iW/NAigR93PYp8QbrrZtyH+AjeClrb+qyYRWLqPof2Y5uteYHWWmRYheh3HBV
 IFdKdNXOYf6R/etPkgbgf6FItvOwpnBwPbrfarTSRhEXVFi82gTlELGFg9wYdiJgVLdx
 HInL6VKyhmcTLz1HwyG4sZ/isJtQKcih0YaBU=
X-Google-DKIM-Signature: v=1; a=rsa-sha256; c=relaxed/relaxed;
 d=1e100.net; s=20230601; t=1713237038; x=1713841838;
 h=references:in-reply-to:cc:to:from:subject:message-id:date
 :x-gm-message-state:from:to:cc:subject:date:message-id:reply-to;
 bh=mO/yVUkEiTjB0UlS9Asghcd+OLM3EpDIwSDjrcM6kbM=;
 b=d53OnwVptTpsnLsre7KtciwDdVykPGx3lTszP5J55M1V4qF7GS2Dp98KFz3q7JnZTh
 zjMx51Us8qyn0qzkgu/s8JL/J3SlEo+TLlsA9mFA7DHAGmAHooI9Sn2xTsqZBEiSIgRZ
 /BtFK8gPVoH2d1OEulv4h4OJcGUL7O9OdMYlceRsGDiQQ3PzHIPm7uMR7CxNHnUzbZ0t
 fZKN2jNU+bhm5uG2DZCtaka/gHHW3NVhRYxLLOC73AkypNlpKgTkJZk0hgKciqGS0KbE
 x3C7JA+sqir0qPq85PONnHGoG5uCgFRLj2v6uHhXSsbGdilbXllxa0qVOL6ZhFLnY19F
 Z9Ng==
X-Gm-Message-State: AOJu0YzhdofQPZIZ9yimR+R0OpDMY2/t2GfcZ7InFjPiF5VRkoMzrxZy
 rk8rhZMd4ALujQ+K/Cg0muohSAFnfwmaKc9mq2D2r//aAJb6m3wXWN6OdeTa1tIE5GajC/Ya3vs
 g98iZ3AgkD8G6Gaz7rCe9O5zRoWfiUqa3LoGxXE/qS3lIafYPzNvhwkvj
X-Google-Smtp-Source: AGHT+IF5pC7+AUZfIskhXQm8R5kl9fRTbhDpCYoz8gy79Y6SstiPysmrmXYSXxx97vwk84+sDCxa1iHWBuUh
X-Received: by 2002:a0c:ec45:0:b0:69b:1125:ee9e with SMTP id
 n5-20020a0cec45000000b0069b1125ee9emr2615695qvq.13.1713237037922; 
 Mon, 15 Apr 2024 20:10:37 -0700 (PDT)
Received: from postal.iol.unh.edu (postal.iol.unh.edu.
 [2606:4100:3880:1234::84]) by smtp-relay.gmail.com with ESMTPS id
 jv5-20020a05621429e500b0069b1d94a525sm895786qvb.52.2024.04.15.20.10.37
 (version=TLS1_2 cipher=ECDHE-ECDSA-AES128-GCM-SHA256 bits=128/128);
 Mon, 15 Apr 2024 20:10:37 -0700 (PDT)
X-Relaying-Domain: iol.unh.edu
Date: Mon, 15 Apr 2024 20:10:37 -0700 (PDT)
Message-ID: <661dec2d.050a0220.3515e.abedSMTPIN_ADDED_MISSING@mx.google.com>
Received: from [172.17.0.2] (unknown [172.18.0.217])
 by postal.iol.unh.edu (Postfix) with ESMTP id A2B94604A958;
 Mon, 15 Apr 2024 23:10:37 -0400 (EDT)
Subject: |SUCCESS| pw139297-139378 [PATCH] [v2,83/83] bus/dpaa: move alignmen
From: dpdklab@iol.unh.edu
To: Test Report <test-report@dpdk.org>
Cc: dpdk-test-reports@iol.unh.edu
In-Reply-To: <1713211485-9021-84-git-send-email-roretzla@linux.microsoft.com>
References: <1713211485-9021-84-git-send-email-roretzla@linux.microsoft.com>
Content-Type: text/plain
X-BeenThere: test-report@dpdk.org
X-Mailman-Version: 2.1.29
Precedence: list
List-Id: automatic DPDK test reports <test-report.dpdk.org>
List-Unsubscribe: <https://mails.dpdk.org/options/test-report>,
 <mailto:test-report-request@dpdk.org?subject=unsubscribe>
List-Archive: <http://mails.dpdk.org/archives/test-report/>
List-Post: <mailto:test-report@dpdk.org>
List-Help: <mailto:test-report-request@dpdk.org?subject=help>
List-Subscribe: <https://mails.dpdk.org/listinfo/test-report>,
 <mailto:test-report-request@dpdk.org?subject=subscribe>
Errors-To: test-report-bounces@dpdk.org

Test-Label: iol-unit-arm64-testing
Test-Status: SUCCESS
http://dpdk.org/patch/139378

_Testing PASS_

Submitter: Tyler Retzlaff <roretzla@linux.microsoft.com>
Date: Monday, April 15 2024 20:04:45 
DPDK git baseline: Repo:dpdk
  Branch: master
  CommitID:e2e546ab5bf5e024986ccb5310ab43982f3bb40c

139297-139378 --> testing pass

Test environment and result as below:

+-----------------------------+----------------+--------------+---------------------------+------------------------------+
|         Environment         | dpdk_unit_test | lpm_autotest | cryptodev_sw_zuc_autotest | cryptodev_sw_snow3g_autotest |
+=============================+================+==============+===========================+==============================+
| Debian 11 (Buster) (ARM)    | PASS           | SKIPPED      | SKIPPED                   | SKIPPED                      |
+-----------------------------+----------------+--------------+---------------------------+------------------------------+
| CentOS Stream 9 (ARM)       | PASS           | SKIPPED      | SKIPPED                   | SKIPPED                      |
+-----------------------------+----------------+--------------+---------------------------+------------------------------+
| Fedora 38 (ARM)             | PASS           | SKIPPED      | SKIPPED                   | SKIPPED                      |
+-----------------------------+----------------+--------------+---------------------------+------------------------------+
| Debian 12 (arm)             | PASS           | SKIPPED      | PASS                      | PASS                         |
+-----------------------------+----------------+--------------+---------------------------+------------------------------+
| 32-bit Ubuntu 20.04.4 (ARM) | PASS           | SKIPPED      | SKIPPED                   | SKIPPED                      |
+-----------------------------+----------------+--------------+---------------------------+------------------------------+
| Fedora 37 (ARM)             | PASS           | SKIPPED      | SKIPPED                   | SKIPPED                      |
+-----------------------------+----------------+--------------+---------------------------+------------------------------+
| Fedora 39 (ARM Clang)       | PASS           | SKIPPED      | SKIPPED                   | SKIPPED                      |
+-----------------------------+----------------+--------------+---------------------------+------------------------------+
| Fedora 39 (ARM)             | PASS           | SKIPPED      | SKIPPED                   | SKIPPED                      |
+-----------------------------+----------------+--------------+---------------------------+------------------------------+
| Ubuntu 20.04 (ARM)          | PASS           | SKIPPED      | SKIPPED                   | SKIPPED                      |
+-----------------------------+----------------+--------------+---------------------------+------------------------------+
| Fedora 38 (ARM Clang)       | PASS           | SKIPPED      | SKIPPED                   | SKIPPED                      |
+-----------------------------+----------------+--------------+---------------------------+------------------------------+
| Ubuntu 20.04 ARM SVE        | SKIPPED        | PASS         | SKIPPED                   | SKIPPED                      |
+-----------------------------+----------------+--------------+---------------------------+------------------------------+


Debian 11 (Buster) (ARM)
	Kernel: Container Host Kernel
	Compiler: gcc 10.2.1

CentOS Stream 9 (ARM)
	Kernel: Container Host Kernel
	Compiler: gcc 11.4.1

Fedora 38 (ARM)
	Kernel: Depends on container host
	Compiler: gcc 13.2.1

Debian 12 (arm)
	Kernel: Container Host Kernel
	Compiler: gcc 12.2.0

32-bit Ubuntu 20.04.4 (ARM)
	Kernel: 5.4.0-155-generic aarch64
	Compiler: gcc 9.4

Fedora 37 (ARM)
	Kernel: Depends on container host
	Compiler: gcc 12.3.1

Fedora 39 (ARM Clang)
	Kernel: Depends on container host
	Compiler: clang 17.0.6

Fedora 39 (ARM)
	Kernel: Depends on container host
	Compiler: gcc 13.2.1

Ubuntu 20.04 (ARM)
	Kernel: Container Host Kernel
	Compiler: gcc 9.4.0

Fedora 38 (ARM Clang)
	Kernel: Depends on container host
	Compiler: clang 16.0.6

Ubuntu 20.04 ARM SVE
	Kernel: 5.4.0-167-generic
	Compiler: gcc (Ubuntu 10.5.0-1ubuntu1~20.04) 10.5.0

To view detailed results, visit:
https://lab.dpdk.org/results/dashboard/patchsets/29782/

UNH-IOL DPDK Community Lab

To manage your email subscriptions, visit: 
https://lab.dpdk.org/results/dashboard/preferences/subscriptions/