From mboxrd@z Thu Jan  1 00:00:00 1970
Return-Path: <test-report-bounces@dpdk.org>
Received: from mails.dpdk.org (mails.dpdk.org [217.70.189.124])
	by inbox.dpdk.org (Postfix) with ESMTP id 0BCE543E70
	for <public@inbox.dpdk.org>; Tue, 16 Apr 2024 12:03:28 +0200 (CEST)
Received: from mails.dpdk.org (localhost [127.0.0.1])
	by mails.dpdk.org (Postfix) with ESMTP id 0242E402AE;
	Tue, 16 Apr 2024 12:03:28 +0200 (CEST)
Received: from mail-qt1-f226.google.com (mail-qt1-f226.google.com
 [209.85.160.226])
 by mails.dpdk.org (Postfix) with ESMTP id D8A354029E
 for <test-report@dpdk.org>; Tue, 16 Apr 2024 12:03:23 +0200 (CEST)
Received: by mail-qt1-f226.google.com with SMTP id
 d75a77b69052e-43493745415so19491851cf.1
 for <test-report@dpdk.org>; Tue, 16 Apr 2024 03:03:23 -0700 (PDT)
DKIM-Signature: v=1; a=rsa-sha256; c=relaxed/relaxed;
 d=iol.unh.edu; s=unh-iol; t=1713261803; x=1713866603; darn=dpdk.org;
 h=references:in-reply-to:cc:to:from:subject:message-id:date:from:to
 :cc:subject:date:message-id:reply-to;
 bh=BTMSgebc7p9tl9SzOZ67ChWVxLM/K5AUn4Wt/U3yORo=;
 b=fa4PMqGKyEqR9zhZpKIZN8HK60X0eWi+5AykNxrrHKvpcF1QkTsjeno5JkEqHde4EP
 LeTYA9b1i0Gpdrq1nm1Kz9Fz2ioDwfmTLdYKY8ZsWQvXE2auT+N+M9JYrinyos2hMGdA
 yC0/em6UVKDpZUG9zGFN80mhS32VBUmY3FlpE=
X-Google-DKIM-Signature: v=1; a=rsa-sha256; c=relaxed/relaxed;
 d=1e100.net; s=20230601; t=1713261803; x=1713866603;
 h=references:in-reply-to:cc:to:from:subject:message-id:date
 :x-gm-message-state:from:to:cc:subject:date:message-id:reply-to;
 bh=BTMSgebc7p9tl9SzOZ67ChWVxLM/K5AUn4Wt/U3yORo=;
 b=l+wAjUZFZ967Qo7XcoShZVqdftUNoKZb+fSEBxOu47+M88BxVdleeSYQId8wOREeRg
 vcs/1C7A+/HBmuc9VDYbkSNLlYP9B1KAjuiqFCws5dG/zEKYndkdg/dZrep6/wVmiYgU
 DN/R0X1OTEqwlW/V7vvPs8/ROUyYcp9Ps3DMTIEMGyAemAMQGnPzaDtASJnj+7hnjnUP
 eMAqt9fgdyepY25oZCynugv6R8l4Qc++LECB/wtW7XdiIB6cq11/7XkpHig6E5uiWBoC
 3vjSraSq4yA0H9TYblWvuI4FgQ/Oly3ud6XOdbaymewbWx8toqmrbZ8Gu1GRdlwEDUOf
 t9Lw==
X-Gm-Message-State: AOJu0YwRciZ0DBEz2B6NVWJ6rWzHxNxyBuU6sOTnTx7JhvNNSlmKm1BV
 JeccJKh0/WkDIgACVENzZ2dwJ0H+9mCjGUVSU7GtLD9FGNri1d+pFiBblW32YZzu2DiEK+a1w7P
 +JwrW1pxMmsI2uRleY5b/hVCpOKoCSd5Ro4OH6I11
X-Google-Smtp-Source: AGHT+IGnxFGnOPus/fJexKFIMfnbMYeDVlYYZx5YIsLNSS57hQeY8JS21ePUgmcuHlK16Z9blCEFEGi8Ic70
X-Received: by 2002:ac8:7fca:0:b0:432:ec60:aaf0 with SMTP id
 b10-20020ac87fca000000b00432ec60aaf0mr16234380qtk.34.1713261803336; 
 Tue, 16 Apr 2024 03:03:23 -0700 (PDT)
Received: from postal.iol.unh.edu (postal.iol.unh.edu. [132.177.123.84])
 by smtp-relay.gmail.com with ESMTPS id
 f15-20020ac859cf000000b00436b2264185sm465227qtf.11.2024.04.16.03.03.23
 (version=TLS1_2 cipher=ECDHE-ECDSA-AES128-GCM-SHA256 bits=128/128);
 Tue, 16 Apr 2024 03:03:23 -0700 (PDT)
X-Relaying-Domain: iol.unh.edu
Date: Tue, 16 Apr 2024 03:03:23 -0700 (PDT)
Message-ID: <661e4ceb.c80a0220.a499a.5ff2SMTPIN_ADDED_MISSING@mx.google.com>
Received: from [172.21.0.7] (unknown [172.18.0.240])
 by postal.iol.unh.edu (Postfix) with ESMTP id 0BC11604A958;
 Tue, 16 Apr 2024 06:03:23 -0400 (EDT)
Subject: |SUCCESS| pw139398-139413 [PATCH] [v4,16/16] crypto/mlx5: pack struc
From: dpdklab@iol.unh.edu
To: Test Report <test-report@dpdk.org>
Cc: dpdk-test-reports@iol.unh.edu
In-Reply-To: <1713225913-20792-17-git-send-email-roretzla@linux.microsoft.com>
References: <1713225913-20792-17-git-send-email-roretzla@linux.microsoft.com>
Content-Type: text/plain
X-BeenThere: test-report@dpdk.org
X-Mailman-Version: 2.1.29
Precedence: list
List-Id: automatic DPDK test reports <test-report.dpdk.org>
List-Unsubscribe: <https://mails.dpdk.org/options/test-report>,
 <mailto:test-report-request@dpdk.org?subject=unsubscribe>
List-Archive: <http://mails.dpdk.org/archives/test-report/>
List-Post: <mailto:test-report@dpdk.org>
List-Help: <mailto:test-report-request@dpdk.org?subject=help>
List-Subscribe: <https://mails.dpdk.org/listinfo/test-report>,
 <mailto:test-report-request@dpdk.org?subject=subscribe>
Errors-To: test-report-bounces@dpdk.org

Test-Label: iol-abi-testing
Test-Status: SUCCESS
http://dpdk.org/patch/139413

_Testing PASS_

Submitter: Tyler Retzlaff <roretzla@linux.microsoft.com>
Date: Tuesday, April 16 2024 00:05:13 
DPDK git baseline: Repo:dpdk
  Branch: master
  CommitID:e2e546ab5bf5e024986ccb5310ab43982f3bb40c

139398-139413 --> testing pass

Test environment and result as below:

+------------------+----------+
|   Environment    | abi_test |
+==================+==========+
| Fedora 39        | PASS     |
+------------------+----------+
| Debian Bullseye  | PASS     |
+------------------+----------+
| openSUSE Leap 15 | PASS     |
+------------------+----------+
| CentOS Stream 8  | PASS     |
+------------------+----------+
| Fedora 38        | PASS     |
+------------------+----------+
| CentOS Stream 9  | PASS     |
+------------------+----------+
| Fedora 37        | PASS     |
+------------------+----------+
| Debian 12        | PASS     |
+------------------+----------+


Fedora 39
	Kernel: Depends on container host
	Compiler: clang 17.0.6

Debian Bullseye
	Kernel: 5.4.0-167-generic
	Compiler: gcc 10.2.1-6

openSUSE Leap 15
	Kernel: 5.4.0-167-generic
	Compiler: gcc 7.5.0

CentOS Stream 8
	Kernel: 5.4.0-167-generic
	Compiler: gcc 8.5.0 20210514

Fedora 38
	Kernel: Depends on container host
	Compiler: clang 16.0.6

CentOS Stream 9
	Kernel: 5.4.0-167-generic
	Compiler: gcc 11.4.1 20230605

Fedora 37
	Kernel: Depends on container host system
	Compiler: gcc 12.3.1

Debian 12
	Kernel: Container Host Kernel
	Compiler: gcc 10.2.1

To view detailed results, visit:
https://lab.dpdk.org/results/dashboard/patchsets/29787/

UNH-IOL DPDK Community Lab

To manage your email subscriptions, visit: 
https://lab.dpdk.org/results/dashboard/preferences/subscriptions/