From mboxrd@z Thu Jan  1 00:00:00 1970
Return-Path: <test-report-bounces@dpdk.org>
Received: from mails.dpdk.org (mails.dpdk.org [217.70.189.124])
	by inbox.dpdk.org (Postfix) with ESMTP id 1F30C43E70
	for <public@inbox.dpdk.org>; Tue, 16 Apr 2024 12:44:00 +0200 (CEST)
Received: from mails.dpdk.org (localhost [127.0.0.1])
	by mails.dpdk.org (Postfix) with ESMTP id 17C454029E;
	Tue, 16 Apr 2024 12:44:00 +0200 (CEST)
Received: from mail-il1-f228.google.com (mail-il1-f228.google.com
 [209.85.166.228])
 by mails.dpdk.org (Postfix) with ESMTP id E254D40262
 for <test-report@dpdk.org>; Tue, 16 Apr 2024 12:43:58 +0200 (CEST)
Received: by mail-il1-f228.google.com with SMTP id
 e9e14a558f8ab-36b2f1152dbso891055ab.2
 for <test-report@dpdk.org>; Tue, 16 Apr 2024 03:43:58 -0700 (PDT)
DKIM-Signature: v=1; a=rsa-sha256; c=relaxed/relaxed;
 d=iol.unh.edu; s=unh-iol; t=1713264238; x=1713869038; darn=dpdk.org;
 h=references:in-reply-to:cc:to:from:subject:message-id:date:from:to
 :cc:subject:date:message-id:reply-to;
 bh=CwboK5gqjU7Ib4lfN+ELnC/4uW/t3P71utco2ky8N1o=;
 b=ZUeSPLuAzRjpQxW9kn4OpcLen30AxYa9bcRXthZ3NrUSErUFL1LodjGg4Mqtzie7Je
 P0MXaOi2Z+/KZM9bR6OUBvjqsRASofhYgmAt1vNWNKiEeZEVjJJXXw9lYmBSzgor0oiK
 JWHH+Y+g4REz2Qh0x1EI+sox1npj7GsDZpnQY=
X-Google-DKIM-Signature: v=1; a=rsa-sha256; c=relaxed/relaxed;
 d=1e100.net; s=20230601; t=1713264238; x=1713869038;
 h=references:in-reply-to:cc:to:from:subject:message-id:date
 :x-gm-message-state:from:to:cc:subject:date:message-id:reply-to;
 bh=CwboK5gqjU7Ib4lfN+ELnC/4uW/t3P71utco2ky8N1o=;
 b=qqAQh6s3DcN4i99mhvfVHCuYvoTTjQqbixWo+wrJhwNs/dKNGy2QeghsfJ5vm2hscI
 EAwJbB6W8/hW3X1Bf21gakN0Cv0Z59zsK/hrTSTY/HUt1TZuZTtDcqPnsGlojcA+M5a6
 RiYvK9EevJiXQ9gG1Xs46h41AKuWhCUfPG0AVdnLzbpeygAV7SeUB/QPWaiJbWWKmm1C
 gDMXqe/p2WSXV8kBYhyT3qb8PPcXNejFXeT9RulfAAnX1op575Ddm6f/34PKErSUwSZz
 zt2WxPwN3KUHGRKOSCz6tX8geawwBCdL+iFHGAozm0HKkiOhR+WnaaXMffZNWKE6i0PP
 uNUA==
X-Gm-Message-State: AOJu0YzM6MnK1o77GoNJYJiQtYybzINiVzV750tts5sf5GZIyFz2tpaG
 H50EhM7eEmp+rUAxSnYvCucIf7/BoNtzclvV3ltCADHGNY+bHq74599A2pMoAFKS3/l50kdUXO6
 9Z8FEd6xzEWHahcJPM5zUCy5LRSMF88GFmA/lch+nosO6B6LPBtv1clOL
X-Google-Smtp-Source: AGHT+IEQC8SdQ6Wfc+mNcDwREOY1562AKKQB/1y8YUCgruoqpuy3U5Y09+K3mhLK7PTLVmHiLTkz8Re0Bs9X
X-Received: by 2002:a05:6e02:1e07:b0:36b:85e:7d69 with SMTP id
 g7-20020a056e021e0700b0036b085e7d69mr17211300ila.10.1713264238322; 
 Tue, 16 Apr 2024 03:43:58 -0700 (PDT)
Received: from postal.iol.unh.edu (postal.iol.unh.edu.
 [2606:4100:3880:1234::84]) by smtp-relay.gmail.com with ESMTPS id
 d11-20020a056e02138b00b0036b1afcbbd5sm273780ilo.69.2024.04.16.03.43.58
 (version=TLS1_2 cipher=ECDHE-ECDSA-AES128-GCM-SHA256 bits=128/128);
 Tue, 16 Apr 2024 03:43:58 -0700 (PDT)
X-Relaying-Domain: iol.unh.edu
Date: Tue, 16 Apr 2024 03:43:58 -0700 (PDT)
Message-ID: <661e566e.050a0220.4d771.c528SMTPIN_ADDED_MISSING@mx.google.com>
Received: from [172.21.0.6] (unknown [172.18.0.240])
 by postal.iol.unh.edu (Postfix) with ESMTP id B5536604A958;
 Tue, 16 Apr 2024 06:43:57 -0400 (EDT)
Subject: |SUCCESS| pw139398-139413 [PATCH] [v4,16/16] crypto/mlx5: pack struc
From: dpdklab@iol.unh.edu
To: Test Report <test-report@dpdk.org>
Cc: dpdk-test-reports@iol.unh.edu
In-Reply-To: <1713225913-20792-17-git-send-email-roretzla@linux.microsoft.com>
References: <1713225913-20792-17-git-send-email-roretzla@linux.microsoft.com>
Content-Type: text/plain
X-BeenThere: test-report@dpdk.org
X-Mailman-Version: 2.1.29
Precedence: list
List-Id: automatic DPDK test reports <test-report.dpdk.org>
List-Unsubscribe: <https://mails.dpdk.org/options/test-report>,
 <mailto:test-report-request@dpdk.org?subject=unsubscribe>
List-Archive: <http://mails.dpdk.org/archives/test-report/>
List-Post: <mailto:test-report@dpdk.org>
List-Help: <mailto:test-report-request@dpdk.org?subject=help>
List-Subscribe: <https://mails.dpdk.org/listinfo/test-report>,
 <mailto:test-report-request@dpdk.org?subject=subscribe>
Errors-To: test-report-bounces@dpdk.org

Test-Label: iol-unit-amd64-testing
Test-Status: SUCCESS
http://dpdk.org/patch/139413

_Testing PASS_

Submitter: Tyler Retzlaff <roretzla@linux.microsoft.com>
Date: Tuesday, April 16 2024 00:05:13 
DPDK git baseline: Repo:dpdk
  Branch: master
  CommitID:e2e546ab5bf5e024986ccb5310ab43982f3bb40c

139398-139413 --> testing pass

Test environment and result as below:

+---------------------+----------------+
|     Environment     | dpdk_unit_test |
+=====================+================+
| Windows Server 2019 | PASS           |
+---------------------+----------------+
| CentOS Stream 8     | PASS           |
+---------------------+----------------+
| Debian Bullseye     | PASS           |
+---------------------+----------------+
| CentOS Stream 9     | PASS           |
+---------------------+----------------+
| Debian 12           | PASS           |
+---------------------+----------------+
| Fedora 37           | PASS           |
+---------------------+----------------+


Windows Server 2019
	Kernel: 10.0.17763
	Compiler: clang 14.0 and gcc 8.1.0 (MinGW)

CentOS Stream 8
	Kernel: 5.4.0-167-generic
	Compiler: gcc 8.5.0 20210514

Debian Bullseye
	Kernel: 5.4.0-167-generic
	Compiler: gcc 10.2.1-6

CentOS Stream 9
	Kernel: 5.4.0-167-generic
	Compiler: gcc 11.4.1 20230605

Debian 12
	Kernel: Container Host Kernel
	Compiler: gcc 10.2.1

Fedora 37
	Kernel: Depends on container host system
	Compiler: gcc 12.3.1

To view detailed results, visit:
https://lab.dpdk.org/results/dashboard/patchsets/29787/

UNH-IOL DPDK Community Lab

To manage your email subscriptions, visit: 
https://lab.dpdk.org/results/dashboard/preferences/subscriptions/