From mboxrd@z Thu Jan  1 00:00:00 1970
Return-Path: <test-report-bounces@dpdk.org>
Received: from mails.dpdk.org (mails.dpdk.org [217.70.189.124])
	by inbox.dpdk.org (Postfix) with ESMTP id 06A7A43E70
	for <public@inbox.dpdk.org>; Tue, 16 Apr 2024 12:58:08 +0200 (CEST)
Received: from mails.dpdk.org (localhost [127.0.0.1])
	by mails.dpdk.org (Postfix) with ESMTP id 025DE4029E;
	Tue, 16 Apr 2024 12:58:08 +0200 (CEST)
Received: from mail-yw1-f225.google.com (mail-yw1-f225.google.com
 [209.85.128.225])
 by mails.dpdk.org (Postfix) with ESMTP id 1208940262
 for <test-report@dpdk.org>; Tue, 16 Apr 2024 12:58:07 +0200 (CEST)
Received: by mail-yw1-f225.google.com with SMTP id
 00721157ae682-618944792c3so36006677b3.1
 for <test-report@dpdk.org>; Tue, 16 Apr 2024 03:58:07 -0700 (PDT)
DKIM-Signature: v=1; a=rsa-sha256; c=relaxed/relaxed;
 d=iol.unh.edu; s=unh-iol; t=1713265086; x=1713869886; darn=dpdk.org;
 h=references:in-reply-to:cc:to:from:subject:message-id:date:from:to
 :cc:subject:date:message-id:reply-to;
 bh=gueyce2DPT6T84AVemUIZ7J4WD0Rt6ZdBINujnDlJ0c=;
 b=DA59mjzGnwTs+R9kSS6hYh5ya4scYGJCIvZp/BNGCFpLdRdNfBiFyRgy5MmB59flnE
 WJEgckTCEvXeNyO+L9EzXuY5eNzEPdQk4Vm2tjXmKcWHYowKozsft33y+KTCGrA7LQbN
 3QW82v17/OBC3OJ8tyOtIT3/pQJdiyj/lbdiQ=
X-Google-DKIM-Signature: v=1; a=rsa-sha256; c=relaxed/relaxed;
 d=1e100.net; s=20230601; t=1713265086; x=1713869886;
 h=references:in-reply-to:cc:to:from:subject:message-id:date
 :x-gm-message-state:from:to:cc:subject:date:message-id:reply-to;
 bh=gueyce2DPT6T84AVemUIZ7J4WD0Rt6ZdBINujnDlJ0c=;
 b=PQS80ED8nhKQeF9kohMeMipJcD2qkScFaC+IYD8lHCeXfIb1Ibjl1rMK0aaOSmrB/U
 d9Y+4hubfDOSUJ9nDb2kjhXqBTlFaP15DwZ9g2ejCbM+mNCq6fL7aQVxBX/Keb4WuAkS
 HU2WdCWjBLfH6fbwqViI1ygbJj6i6us92CFt0df0Sr2qVhRc9M4oZav1hCXvxXP4J9yR
 QnHcLbSeiT2KH+w+gOGnNmRew4qlE859CJVwJGb2F/hpWrNgxB7ajNzteqd2/FEtxCam
 CsILJoxlHfGaVvkRVJFVwWjY4pBUSvUTOmPNh48ybh7GxRE3XfjNaYLxl091xKnttjjO
 Z2dA==
X-Gm-Message-State: AOJu0YwI+kFuCLD/xaPFuk/bKB6A7YMdmj+qjHnTnI1aTUKKnrGgDz+4
 XPQLsuBNQaU0rdt+Fu/TJeE8C5Y3XjYYe/CJ5K4BLAVzy+6xpSChNO6jv2N1NLROPyXi5OvS4ih
 RQHF7FPuklLPloMbDf7wWTb/ywKPslKEIzi42dqykWA48LEqbhIedxGYZ
X-Google-Smtp-Source: AGHT+IFkM/zzhLpfIU0NdKuFco2bQkzWmDdzFbolsqyBmjWvGU116tc9+fzSPXj16edCHN0eAZ2AyDxfWE+B
X-Received: by 2002:a81:ed11:0:b0:618:7f3c:cbac with SMTP id
 k17-20020a81ed11000000b006187f3ccbacmr11903908ywm.31.1713265086406; 
 Tue, 16 Apr 2024 03:58:06 -0700 (PDT)
Received: from postal.iol.unh.edu (postal.iol.unh.edu.
 [2606:4100:3880:1234::84]) by smtp-relay.gmail.com with ESMTPS id
 d195-20020a814fcc000000b0061acccea9b1sm351916ywb.23.2024.04.16.03.58.06
 (version=TLS1_2 cipher=ECDHE-ECDSA-AES128-GCM-SHA256 bits=128/128);
 Tue, 16 Apr 2024 03:58:06 -0700 (PDT)
X-Relaying-Domain: iol.unh.edu
Date: Tue, 16 Apr 2024 03:58:06 -0700 (PDT)
Message-ID: <661e59be.810a0220.7a132.1cf0SMTPIN_ADDED_MISSING@mx.google.com>
Received: from [172.21.0.6] (unknown [172.18.0.240])
 by postal.iol.unh.edu (Postfix) with ESMTP id 0F213604A958;
 Tue, 16 Apr 2024 06:58:06 -0400 (EDT)
Subject: |SUCCESS| pw139398-139413 [PATCH] [v4,16/16] crypto/mlx5: pack struc
From: dpdklab@iol.unh.edu
To: Test Report <test-report@dpdk.org>
Cc: dpdk-test-reports@iol.unh.edu
In-Reply-To: <1713225913-20792-17-git-send-email-roretzla@linux.microsoft.com>
References: <1713225913-20792-17-git-send-email-roretzla@linux.microsoft.com>
Content-Type: text/plain
X-BeenThere: test-report@dpdk.org
X-Mailman-Version: 2.1.29
Precedence: list
List-Id: automatic DPDK test reports <test-report.dpdk.org>
List-Unsubscribe: <https://mails.dpdk.org/options/test-report>,
 <mailto:test-report-request@dpdk.org?subject=unsubscribe>
List-Archive: <http://mails.dpdk.org/archives/test-report/>
List-Post: <mailto:test-report@dpdk.org>
List-Help: <mailto:test-report-request@dpdk.org?subject=help>
List-Subscribe: <https://mails.dpdk.org/listinfo/test-report>,
 <mailto:test-report-request@dpdk.org?subject=subscribe>
Errors-To: test-report-bounces@dpdk.org

Test-Label: iol-compile-amd64-testing
Test-Status: SUCCESS
http://dpdk.org/patch/139413

_Testing PASS_

Submitter: Tyler Retzlaff <roretzla@linux.microsoft.com>
Date: Tuesday, April 16 2024 00:05:13 
DPDK git baseline: Repo:dpdk
  Branch: master
  CommitID:e2e546ab5bf5e024986ccb5310ab43982f3bb40c

139398-139413 --> testing pass

Test environment and result as below:

+---------------------+-------------------+--------------------+----------------------+
|     Environment     | dpdk_msvc_compile | dpdk_meson_compile | dpdk_mingw64_compile |
+=====================+===================+====================+======================+
| Windows Server 2022 | PASS              | PASS               | PASS                 |
+---------------------+-------------------+--------------------+----------------------+
| Windows Server 2019 | SKIPPED           | PASS               | PASS                 |
+---------------------+-------------------+--------------------+----------------------+
| FreeBSD 13.2        | SKIPPED           | PASS               | SKIPPED              |
+---------------------+-------------------+--------------------+----------------------+
| Debian 12           | SKIPPED           | PASS               | SKIPPED              |
+---------------------+-------------------+--------------------+----------------------+
| Fedora 39           | SKIPPED           | PASS               | SKIPPED              |
+---------------------+-------------------+--------------------+----------------------+
| Fedora 37           | SKIPPED           | PASS               | SKIPPED              |
+---------------------+-------------------+--------------------+----------------------+
| Fedora 38           | SKIPPED           | PASS               | SKIPPED              |
+---------------------+-------------------+--------------------+----------------------+
| CentOS Stream 8     | SKIPPED           | PASS               | SKIPPED              |
+---------------------+-------------------+--------------------+----------------------+
| CentOS Stream 9     | SKIPPED           | PASS               | SKIPPED              |
+---------------------+-------------------+--------------------+----------------------+
| openSUSE Leap 15    | SKIPPED           | PASS               | SKIPPED              |
+---------------------+-------------------+--------------------+----------------------+
| Debian Bullseye     | SKIPPED           | PASS               | SKIPPED              |
+---------------------+-------------------+--------------------+----------------------+
| RHEL8               | SKIPPED           | PASS               | SKIPPED              |
+---------------------+-------------------+--------------------+----------------------+


Windows Server 2022
	Kernel: 10.0.20348.2031
	Compiler: clang 15.0.7, gcc 8.1.0 (MinGW), and MSVC VS 17.9

Windows Server 2019
	Kernel: 10.0.17763
	Compiler: clang 14.0 and gcc 8.1.0 (MinGW)

FreeBSD 13.2
	Kernel: 13.2
	Compiler: clang 14.0.5

Debian 12
	Kernel: Container Host Kernel
	Compiler: gcc 10.2.1

Fedora 39
	Kernel: Depends on container host
	Compiler: clang 17.0.6

Fedora 37
	Kernel: Depends on container host system
	Compiler: gcc 12.3.1

Fedora 38
	Kernel: Depends on container host
	Compiler: clang 16.0.6

CentOS Stream 8
	Kernel: 5.4.0-167-generic
	Compiler: gcc 8.5.0 20210514

CentOS Stream 9
	Kernel: 5.4.0-167-generic
	Compiler: gcc 11.4.1 20230605

openSUSE Leap 15
	Kernel: 5.4.0-167-generic
	Compiler: gcc 7.5.0

Debian Bullseye
	Kernel: 5.4.0-167-generic
	Compiler: gcc 10.2.1-6

RHEL8
	Kernel: 5.4.0-167-generic
	Compiler: gcc 8.5.0 20210514 (Red Hat 8.5.0-20)

To view detailed results, visit:
https://lab.dpdk.org/results/dashboard/patchsets/29787/

UNH-IOL DPDK Community Lab

To manage your email subscriptions, visit: 
https://lab.dpdk.org/results/dashboard/preferences/subscriptions/