From mboxrd@z Thu Jan  1 00:00:00 1970
Return-Path: <test-report-bounces@dpdk.org>
Received: from mails.dpdk.org (mails.dpdk.org [217.70.189.124])
	by inbox.dpdk.org (Postfix) with ESMTP id 2FAA543E70
	for <public@inbox.dpdk.org>; Tue, 16 Apr 2024 13:26:44 +0200 (CEST)
Received: from mails.dpdk.org (localhost [127.0.0.1])
	by mails.dpdk.org (Postfix) with ESMTP id 2BC4E4029E;
	Tue, 16 Apr 2024 13:26:44 +0200 (CEST)
Received: from mail-yw1-f228.google.com (mail-yw1-f228.google.com
 [209.85.128.228])
 by mails.dpdk.org (Postfix) with ESMTP id A048A40262
 for <test-report@dpdk.org>; Tue, 16 Apr 2024 13:26:42 +0200 (CEST)
Received: by mail-yw1-f228.google.com with SMTP id
 00721157ae682-617f8a59a24so38605997b3.1
 for <test-report@dpdk.org>; Tue, 16 Apr 2024 04:26:42 -0700 (PDT)
DKIM-Signature: v=1; a=rsa-sha256; c=relaxed/relaxed;
 d=iol.unh.edu; s=unh-iol; t=1713266802; x=1713871602; darn=dpdk.org;
 h=references:in-reply-to:cc:to:from:subject:message-id:date:from:to
 :cc:subject:date:message-id:reply-to;
 bh=9REzyt2gepALYCKfCK4AUza7hCEq6pyXKAJdVuYc3+k=;
 b=BbWTCLGbkU8yp6Ap/6oHxyPRdEefWS6JBN8umuehYtCq8ueqAmOgTaMWbArsdSPM++
 Nz60LgRhXMbKm5L8xCPNYDqk5bO5ddq2dTnoO/r3zu1QP/uMivWHTiOrs9K/uL5HWnlw
 VMQhDEkMJm6oLWxh+YuiyZBTR6Wd5q2aq6C2o=
X-Google-DKIM-Signature: v=1; a=rsa-sha256; c=relaxed/relaxed;
 d=1e100.net; s=20230601; t=1713266802; x=1713871602;
 h=references:in-reply-to:cc:to:from:subject:message-id:date
 :x-gm-message-state:from:to:cc:subject:date:message-id:reply-to;
 bh=9REzyt2gepALYCKfCK4AUza7hCEq6pyXKAJdVuYc3+k=;
 b=JOaNcvpMQlkmGopzrOgi8rQTe9pIOEC6h0FvmoxtpdE+0PzMMAroS40Xmpr9Obd+lR
 zaTTTe072klHpgA9yW4y0UuuFIvoW3Xu4PuaYU/wz3a2wyHDBT6OAjr5lFGqalWtHrYF
 QJhaKJQNK4aFACswDUFUJ0LF0TbkH7Hgjaw90D8eDYT8zgrFm8BQR8RxpZs2oaybw6GL
 DYv6Cdcpwp2QJI+yQLA/x8ZQWLF15W9r5VzJkwDflnVWhc2k0X4njJHMjoDCk7iKl4R/
 Gw6RHw4s8f9MsKmV4j6LlCouPKhy16oMx+x+XCdJkK7nuEk34Vz8bhz0AAR6FjHEA094
 b+1A==
X-Gm-Message-State: AOJu0YxyIM10CZbjou7rvZLRBKv2Wg3a/Q4i8OfPWoj+gHD3TowYAiyK
 WWk/J4Vddss3ezctWqnr5USNsJgH3XtabvquXYurADPytlMvE6FdI+bwrCxnnPieyXckFFe54pS
 /P7Yja/xuvnCKpUsnFt+Fst339Eli922N8mngrkk6mo3CAprQpHPwktsL
X-Google-Smtp-Source: AGHT+IHRrN8o8R1Tq3n1ovm79WcvOKLP5Wnu9QP3honT6LdcI0TtTwRuBCwTfGas/Mv5IvmvlKwS/RLqBEDR
X-Received: by 2002:a05:690c:397:b0:614:7146:ea93 with SMTP id
 bh23-20020a05690c039700b006147146ea93mr13689046ywb.25.1713266802030; 
 Tue, 16 Apr 2024 04:26:42 -0700 (PDT)
Received: from postal.iol.unh.edu (postal.iol.unh.edu.
 [2606:4100:3880:1234::84]) by smtp-relay.gmail.com with ESMTPS id
 i78-20020a0ddf51000000b00617bba8f2basm931131ywe.17.2024.04.16.04.26.41
 (version=TLS1_2 cipher=ECDHE-ECDSA-AES128-GCM-SHA256 bits=128/128);
 Tue, 16 Apr 2024 04:26:42 -0700 (PDT)
X-Relaying-Domain: iol.unh.edu
Date: Tue, 16 Apr 2024 04:26:42 -0700 (PDT)
Message-ID: <661e6072.0d0a0220.9fe01.0c96SMTPIN_ADDED_MISSING@mx.google.com>
Received: from [172.17.0.4] (unknown [172.18.0.217])
 by postal.iol.unh.edu (Postfix) with ESMTP id AAF9B604A958;
 Tue, 16 Apr 2024 07:26:41 -0400 (EDT)
Subject: |SUCCESS| pw139381 [PATCH] mailmap: clean up vmware entries
From: dpdklab@iol.unh.edu
To: Test Report <test-report@dpdk.org>
Cc: dpdk-test-reports@iol.unh.edu
In-Reply-To: <20240415233935.1913135-1-jochen.behrens@broadcom.com>
References: <20240415233935.1913135-1-jochen.behrens@broadcom.com>
Content-Type: text/plain
X-BeenThere: test-report@dpdk.org
X-Mailman-Version: 2.1.29
Precedence: list
List-Id: automatic DPDK test reports <test-report.dpdk.org>
List-Unsubscribe: <https://mails.dpdk.org/options/test-report>,
 <mailto:test-report-request@dpdk.org?subject=unsubscribe>
List-Archive: <http://mails.dpdk.org/archives/test-report/>
List-Post: <mailto:test-report@dpdk.org>
List-Help: <mailto:test-report-request@dpdk.org?subject=help>
List-Subscribe: <https://mails.dpdk.org/listinfo/test-report>,
 <mailto:test-report-request@dpdk.org?subject=subscribe>
Errors-To: test-report-bounces@dpdk.org

Test-Label: iol-compile-amd64-testing
Test-Status: SUCCESS
http://dpdk.org/patch/139381

_Testing PASS_

Submitter: Jochen Behrens <jochen.behrens@broadcom.com>
Date: Monday, April 15 2024 23:39:35 
DPDK git baseline: Repo:dpdk
  Branch: master
  CommitID:e2e546ab5bf5e024986ccb5310ab43982f3bb40c

139381 --> testing pass

Test environment and result as below:

+---------------------+--------------------+----------------------+-------------------+
|     Environment     | dpdk_meson_compile | dpdk_mingw64_compile | dpdk_msvc_compile |
+=====================+====================+======================+===================+
| FreeBSD 13.2        | PASS               | SKIPPED              | SKIPPED           |
+---------------------+--------------------+----------------------+-------------------+
| Windows Server 2019 | PASS               | PASS                 | SKIPPED           |
+---------------------+--------------------+----------------------+-------------------+
| Windows Server 2022 | PASS               | PASS                 | PASS              |
+---------------------+--------------------+----------------------+-------------------+
| Debian 12           | PASS               | SKIPPED              | SKIPPED           |
+---------------------+--------------------+----------------------+-------------------+
| Debian Bullseye     | PASS               | SKIPPED              | SKIPPED           |
+---------------------+--------------------+----------------------+-------------------+
| CentOS Stream 9     | PASS               | SKIPPED              | SKIPPED           |
+---------------------+--------------------+----------------------+-------------------+
| CentOS Stream 8     | PASS               | SKIPPED              | SKIPPED           |
+---------------------+--------------------+----------------------+-------------------+
| Fedora 38           | PASS               | SKIPPED              | SKIPPED           |
+---------------------+--------------------+----------------------+-------------------+


FreeBSD 13.2
	Kernel: 13.2
	Compiler: clang 14.0.5

Windows Server 2019
	Kernel: 10.0.17763
	Compiler: clang 14.0 and gcc 8.1.0 (MinGW)

Windows Server 2022
	Kernel: 10.0.20348.2031
	Compiler: clang 15.0.7, gcc 8.1.0 (MinGW), and MSVC VS 17.9

Debian 12
	Kernel: Container Host Kernel
	Compiler: gcc 10.2.1

Debian Bullseye
	Kernel: 5.4.0-167-generic
	Compiler: gcc 10.2.1-6

CentOS Stream 9
	Kernel: 5.4.0-167-generic
	Compiler: gcc 11.4.1 20230605

CentOS Stream 8
	Kernel: 5.4.0-167-generic
	Compiler: gcc 8.5.0 20210514

Fedora 38
	Kernel: Depends on container host
	Compiler: gcc 13.2.1

To view detailed results, visit:
https://lab.dpdk.org/results/dashboard/patchsets/29785/

UNH-IOL DPDK Community Lab

To manage your email subscriptions, visit: 
https://lab.dpdk.org/results/dashboard/preferences/subscriptions/