From mboxrd@z Thu Jan  1 00:00:00 1970
Return-Path: <test-report-bounces@dpdk.org>
Received: from mails.dpdk.org (mails.dpdk.org [217.70.189.124])
	by inbox.dpdk.org (Postfix) with ESMTP id B33D343E70
	for <public@inbox.dpdk.org>; Tue, 16 Apr 2024 13:28:08 +0200 (CEST)
Received: from mails.dpdk.org (localhost [127.0.0.1])
	by mails.dpdk.org (Postfix) with ESMTP id AF37B4029E;
	Tue, 16 Apr 2024 13:28:08 +0200 (CEST)
Received: from mail-yw1-f227.google.com (mail-yw1-f227.google.com
 [209.85.128.227])
 by mails.dpdk.org (Postfix) with ESMTP id 4241540262
 for <test-report@dpdk.org>; Tue, 16 Apr 2024 13:28:07 +0200 (CEST)
Received: by mail-yw1-f227.google.com with SMTP id
 00721157ae682-61ad5f2c231so22186737b3.2
 for <test-report@dpdk.org>; Tue, 16 Apr 2024 04:28:07 -0700 (PDT)
DKIM-Signature: v=1; a=rsa-sha256; c=relaxed/relaxed;
 d=iol.unh.edu; s=unh-iol; t=1713266886; x=1713871686; darn=dpdk.org;
 h=references:in-reply-to:cc:to:from:subject:message-id:date:from:to
 :cc:subject:date:message-id:reply-to;
 bh=gflR4NB3VSKzc5bn+IczgTr/jwTF2Np2X4TCIc/pLn0=;
 b=AOfSDmOO88NMHkxexE0MuuGrv+GmTzNHEJAWpsDdWSYvxUu5zP/lJS0FIdaDx2F6kp
 YUPjTO8qAmgELXqyrsOMSAZK8GOwoVZyLIVHbOzHvS7INtp/sEd3eQ8fpK48PURaCe2T
 YxYN2MUoQs6Q6KtCB3FXU6FVmwFc/3cMr0PK4=
X-Google-DKIM-Signature: v=1; a=rsa-sha256; c=relaxed/relaxed;
 d=1e100.net; s=20230601; t=1713266886; x=1713871686;
 h=references:in-reply-to:cc:to:from:subject:message-id:date
 :x-gm-message-state:from:to:cc:subject:date:message-id:reply-to;
 bh=gflR4NB3VSKzc5bn+IczgTr/jwTF2Np2X4TCIc/pLn0=;
 b=qgqEllukzRvRFswq2gnUH70VUUMQmjhuAGKOYc1XdbiQJ85czGRUqrxkMqSoWcoNAq
 2HNFXfjSog51sZ3hsqhW16oVEs6t3dJbbk4/McQUG63Qw++psGijj2BlNzGEVsW3hB6p
 WMDwQxIrU0Qk/ff5SynaC/rJY+8nWAHzRpJXmOvN7w1oF6v65PySdwa8tyinUPp6qVdH
 2DEJuRCysST0gEgIUQHOOau2zM9T/0OpxBa4b7U4mK7YMYMq5eIKiVTSpZF+gFZJzb5x
 rO8PF2knMpFMRjNCJvJQaGIl53yvdXEDixvlhKWub1gBTLIQ6Y8jNi2wWO4ABgLKw29X
 wpoA==
X-Gm-Message-State: AOJu0YwEksbjPQ4ANSPMvFynhmpV82t/dp1N5WIiZEdWy6HQFOoJXbGg
 FOUC/e4S8Q8l6hbQ9DndMztZrZVDIDJexEjcuvjp2tvli1D1QZNWHIRMhmdrWQTGuiX9qS5UaXc
 2IyZtK9KXS2RB/7SIHbuBHMzsNGxnRs4kjzALFCFXNQqlTjJYiWUuy6Ru
X-Google-Smtp-Source: AGHT+IF/Wp0xb4nZalSc+oL93Uv9nBNN50pOJuzmitdF1QuPLaj4LXZO3+qzIiKuZOmdYBasLXtttVu+EGVO
X-Received: by 2002:a81:8b4b:0:b0:617:cb98:f9b2 with SMTP id
 e11-20020a818b4b000000b00617cb98f9b2mr7260613ywk.43.1713266886707; 
 Tue, 16 Apr 2024 04:28:06 -0700 (PDT)
Received: from postal.iol.unh.edu (postal.iol.unh.edu.
 [2606:4100:3880:1234::84]) by smtp-relay.gmail.com with ESMTPS id
 n82-20020a817255000000b0061582c3b359sm941898ywc.50.2024.04.16.04.28.06
 (version=TLS1_2 cipher=ECDHE-ECDSA-AES128-GCM-SHA256 bits=128/128);
 Tue, 16 Apr 2024 04:28:06 -0700 (PDT)
X-Relaying-Domain: iol.unh.edu
Date: Tue, 16 Apr 2024 04:28:06 -0700 (PDT)
Message-ID: <661e60c6.810a0220.529c0.04d9SMTPIN_ADDED_MISSING@mx.google.com>
Received: from [172.17.0.4] (unknown [172.18.0.217])
 by postal.iol.unh.edu (Postfix) with ESMTP id 5CE49604A958;
 Tue, 16 Apr 2024 07:28:06 -0400 (EDT)
Subject: |SUCCESS| pw139381 [PATCH] mailmap: clean up vmware entries
From: dpdklab@iol.unh.edu
To: Test Report <test-report@dpdk.org>
Cc: dpdk-test-reports@iol.unh.edu
In-Reply-To: <20240415233935.1913135-1-jochen.behrens@broadcom.com>
References: <20240415233935.1913135-1-jochen.behrens@broadcom.com>
Content-Type: text/plain
X-BeenThere: test-report@dpdk.org
X-Mailman-Version: 2.1.29
Precedence: list
List-Id: automatic DPDK test reports <test-report.dpdk.org>
List-Unsubscribe: <https://mails.dpdk.org/options/test-report>,
 <mailto:test-report-request@dpdk.org?subject=unsubscribe>
List-Archive: <http://mails.dpdk.org/archives/test-report/>
List-Post: <mailto:test-report@dpdk.org>
List-Help: <mailto:test-report-request@dpdk.org?subject=help>
List-Subscribe: <https://mails.dpdk.org/listinfo/test-report>,
 <mailto:test-report-request@dpdk.org?subject=subscribe>
Errors-To: test-report-bounces@dpdk.org

Test-Label: iol-unit-amd64-testing
Test-Status: SUCCESS
http://dpdk.org/patch/139381

_Testing PASS_

Submitter: Jochen Behrens <jochen.behrens@broadcom.com>
Date: Monday, April 15 2024 23:39:35 
DPDK git baseline: Repo:dpdk
  Branch: master
  CommitID:e2e546ab5bf5e024986ccb5310ab43982f3bb40c

139381 --> testing pass

Test environment and result as below:

+---------------------+----------------+
|     Environment     | dpdk_unit_test |
+=====================+================+
| CentOS Stream 9     | PASS           |
+---------------------+----------------+
| CentOS Stream 8     | PASS           |
+---------------------+----------------+
| Fedora 37           | PASS           |
+---------------------+----------------+
| Windows Server 2019 | PASS           |
+---------------------+----------------+
| Debian 12           | PASS           |
+---------------------+----------------+
| Fedora 38           | PASS           |
+---------------------+----------------+
| Debian Bullseye     | PASS           |
+---------------------+----------------+
| Fedora 39           | PASS           |
+---------------------+----------------+
| Windows Server 2022 | PASS           |
+---------------------+----------------+
| Ubuntu 20.04        | PASS           |
+---------------------+----------------+


CentOS Stream 9
	Kernel: 5.4.0-167-generic
	Compiler: gcc 11.4.1 20230605

CentOS Stream 8
	Kernel: 5.4.0-167-generic
	Compiler: gcc 8.5.0 20210514

Fedora 37
	Kernel: Depends on container host system
	Compiler: gcc 12.3.1

Windows Server 2019
	Kernel: 10.0.17763
	Compiler: clang 14.0 and gcc 8.1.0 (MinGW)

Debian 12
	Kernel: Container Host Kernel
	Compiler: gcc 10.2.1

Fedora 38
	Kernel: Depends on container host
	Compiler: gcc 13.2.1

Debian Bullseye
	Kernel: 5.4.0-167-generic
	Compiler: gcc 10.2.1-6

Fedora 39
	Kernel: Depends on container host
	Compiler: gcc 13.2.1

Windows Server 2022
	Kernel: 10.0.20348.2031
	Compiler: clang 15.0.7, gcc 8.1.0 (MinGW), and MSVC VS 17.9

Ubuntu 20.04
	Kernel: 5.4.0-167-generic
	Compiler: gcc 9.4.0-1ubuntu1~20.04.1

To view detailed results, visit:
https://lab.dpdk.org/results/dashboard/patchsets/29785/

UNH-IOL DPDK Community Lab

To manage your email subscriptions, visit: 
https://lab.dpdk.org/results/dashboard/preferences/subscriptions/