From mboxrd@z Thu Jan  1 00:00:00 1970
Return-Path: <test-report-bounces@dpdk.org>
Received: from mails.dpdk.org (mails.dpdk.org [217.70.189.124])
	by inbox.dpdk.org (Postfix) with ESMTP id C1DE543E70
	for <public@inbox.dpdk.org>; Tue, 16 Apr 2024 13:35:18 +0200 (CEST)
Received: from mails.dpdk.org (localhost [127.0.0.1])
	by mails.dpdk.org (Postfix) with ESMTP id BBB3F4029E;
	Tue, 16 Apr 2024 13:35:18 +0200 (CEST)
Received: from mail-yb1-f227.google.com (mail-yb1-f227.google.com
 [209.85.219.227])
 by mails.dpdk.org (Postfix) with ESMTP id 178E640262
 for <test-report@dpdk.org>; Tue, 16 Apr 2024 13:35:18 +0200 (CEST)
Received: by mail-yb1-f227.google.com with SMTP id
 3f1490d57ef6-dcbcea9c261so4265958276.3
 for <test-report@dpdk.org>; Tue, 16 Apr 2024 04:35:18 -0700 (PDT)
DKIM-Signature: v=1; a=rsa-sha256; c=relaxed/relaxed;
 d=iol.unh.edu; s=unh-iol; t=1713267317; x=1713872117; darn=dpdk.org;
 h=references:in-reply-to:cc:to:from:subject:message-id:date:from:to
 :cc:subject:date:message-id:reply-to;
 bh=HEUxDMsF991ZZBE+ZoaQZKf0J6D00h87ujuXW4Jh16c=;
 b=BifAA1okON1AFSfUh5yPuP2l+xjzRyjMMv27I7GBaSrAFg9FzMVJvcmMqmAwFqpFfL
 hpCFPZiMU1lGk3V6DbhgttsNHnw87cLBCEMXq7Srk9NhRRgtmlrSL27VsOTbh4dEqxwb
 DfjkgtLGpGwh/IR6oxdnrpWpRsPnKmF0+Ming=
X-Google-DKIM-Signature: v=1; a=rsa-sha256; c=relaxed/relaxed;
 d=1e100.net; s=20230601; t=1713267317; x=1713872117;
 h=references:in-reply-to:cc:to:from:subject:message-id:date
 :x-gm-message-state:from:to:cc:subject:date:message-id:reply-to;
 bh=HEUxDMsF991ZZBE+ZoaQZKf0J6D00h87ujuXW4Jh16c=;
 b=fEBniD+PpGwn1GcQCs4C7Xam9mpJAFhsU+htVDBEOAuuBU0RzCtciJvwjTRL9dgr+3
 4Mo9S4/jc+PoD94ZFNEYVKUGJ3vZCR+lNSNJ1jMqTi9XwdVR2ewjluzpP5FICZoxT6iH
 R5TTe4wbqixNj6HFTzltuRIVGman85WhIvT7KVi+ZDpopRYnkE9FGVHsSmjq2Rt+N6OB
 yCh7PUl2OLwViGn6U77Pzoi5NAF9x8Ixup3kBa3AY41ea3fj2konkwvSfyQNajgSXO0H
 n8+5eYU82iesoII5GNrrtTJBFiDtSpuVceuP/eMNJ2xjaXczm1VHEJbHnGv3pqphH5b2
 1kYA==
X-Gm-Message-State: AOJu0YxKHROWQQVJCoddrZG6r6DDGkAe/0P+tq/zekoPmHqlwjSDMILL
 Fj9CtXqnDoah68n09yfnir3ZkhxGrrkCK2nSVZRE9PwWwvhC9D2zLbqUCkl98oCY+ROIL2vT6AI
 ajoAw/F8Nis7+yhFcKlrtK2H1Kf+Jf+U17mZDwXgQRZ2Tg93hV6q0ylOK
X-Google-Smtp-Source: AGHT+IECWdlkWaRivQoiA8PHhzIrsUqKfdSQHpHsq1dxFYBRtwddoUvNhtq74qdoxOijvGf4r6fFyBbLUNvY
X-Received: by 2002:a25:fb02:0:b0:dc2:1dd0:1d1b with SMTP id
 j2-20020a25fb02000000b00dc21dd01d1bmr10814697ybe.19.1713267317483; 
 Tue, 16 Apr 2024 04:35:17 -0700 (PDT)
Received: from postal.iol.unh.edu (postal.iol.unh.edu.
 [2606:4100:3880:1234::84]) by smtp-relay.gmail.com with ESMTPS id
 ke8-20020a056214300800b0069b45431ab6sm979264qvb.3.2024.04.16.04.35.17
 (version=TLS1_2 cipher=ECDHE-ECDSA-AES128-GCM-SHA256 bits=128/128);
 Tue, 16 Apr 2024 04:35:17 -0700 (PDT)
X-Relaying-Domain: iol.unh.edu
Date: Tue, 16 Apr 2024 04:35:17 -0700 (PDT)
Message-ID: <661e6275.050a0220.131aa.fa87SMTPIN_ADDED_MISSING@mx.google.com>
Received: from [172.17.0.3] (unknown [172.18.0.217])
 by postal.iol.unh.edu (Postfix) with ESMTP id 262DF604A958;
 Tue, 16 Apr 2024 07:35:17 -0400 (EDT)
Subject: |SUCCESS| pw139398-139413 [PATCH] [v4,16/16] crypto/mlx5: pack struc
From: dpdklab@iol.unh.edu
To: Test Report <test-report@dpdk.org>
Cc: dpdk-test-reports@iol.unh.edu
In-Reply-To: <1713225913-20792-17-git-send-email-roretzla@linux.microsoft.com>
References: <1713225913-20792-17-git-send-email-roretzla@linux.microsoft.com>
Content-Type: text/plain
X-BeenThere: test-report@dpdk.org
X-Mailman-Version: 2.1.29
Precedence: list
List-Id: automatic DPDK test reports <test-report.dpdk.org>
List-Unsubscribe: <https://mails.dpdk.org/options/test-report>,
 <mailto:test-report-request@dpdk.org?subject=unsubscribe>
List-Archive: <http://mails.dpdk.org/archives/test-report/>
List-Post: <mailto:test-report@dpdk.org>
List-Help: <mailto:test-report-request@dpdk.org?subject=help>
List-Subscribe: <https://mails.dpdk.org/listinfo/test-report>,
 <mailto:test-report-request@dpdk.org?subject=subscribe>
Errors-To: test-report-bounces@dpdk.org

Test-Label: iol-unit-arm64-testing
Test-Status: SUCCESS
http://dpdk.org/patch/139413

_Testing PASS_

Submitter: Tyler Retzlaff <roretzla@linux.microsoft.com>
Date: Tuesday, April 16 2024 00:05:13 
DPDK git baseline: Repo:dpdk
  Branch: master
  CommitID:e2e546ab5bf5e024986ccb5310ab43982f3bb40c

139398-139413 --> testing pass

Test environment and result as below:

+-----------------------------+--------------+------------------------------+----------------+---------------------------+
|         Environment         | lpm_autotest | cryptodev_sw_snow3g_autotest | dpdk_unit_test | cryptodev_sw_zuc_autotest |
+=============================+==============+==============================+================+===========================+
| Ubuntu 20.04 ARM SVE        | PASS         | SKIPPED                      | SKIPPED        | SKIPPED                   |
+-----------------------------+--------------+------------------------------+----------------+---------------------------+
| Debian 12 (arm)             | SKIPPED      | PASS                         | PASS           | PASS                      |
+-----------------------------+--------------+------------------------------+----------------+---------------------------+
| CentOS Stream 9 (ARM)       | SKIPPED      | SKIPPED                      | PASS           | SKIPPED                   |
+-----------------------------+--------------+------------------------------+----------------+---------------------------+
| Debian 11 (Buster) (ARM)    | SKIPPED      | SKIPPED                      | PASS           | SKIPPED                   |
+-----------------------------+--------------+------------------------------+----------------+---------------------------+
| 32-bit Ubuntu 20.04.4 (ARM) | SKIPPED      | SKIPPED                      | PASS           | SKIPPED                   |
+-----------------------------+--------------+------------------------------+----------------+---------------------------+
| Fedora 38 (ARM Clang)       | SKIPPED      | SKIPPED                      | PASS           | SKIPPED                   |
+-----------------------------+--------------+------------------------------+----------------+---------------------------+
| Fedora 39 (ARM)             | SKIPPED      | SKIPPED                      | PASS           | SKIPPED                   |
+-----------------------------+--------------+------------------------------+----------------+---------------------------+


Ubuntu 20.04 ARM SVE
	Kernel: 5.4.0-167-generic
	Compiler: gcc (Ubuntu 10.5.0-1ubuntu1~20.04) 10.5.0

Debian 12 (arm)
	Kernel: Container Host Kernel
	Compiler: gcc 12.2.0

CentOS Stream 9 (ARM)
	Kernel: Container Host Kernel
	Compiler: gcc 11.4.1

Debian 11 (Buster) (ARM)
	Kernel: Container Host Kernel
	Compiler: gcc 10.2.1

32-bit Ubuntu 20.04.4 (ARM)
	Kernel: 5.4.0-155-generic aarch64
	Compiler: gcc 9.4

Fedora 38 (ARM Clang)
	Kernel: Depends on container host
	Compiler: clang 16.0.6

Fedora 39 (ARM)
	Kernel: Depends on container host
	Compiler: gcc 13.2.1

To view detailed results, visit:
https://lab.dpdk.org/results/dashboard/patchsets/29787/

UNH-IOL DPDK Community Lab

To manage your email subscriptions, visit: 
https://lab.dpdk.org/results/dashboard/preferences/subscriptions/