From mboxrd@z Thu Jan  1 00:00:00 1970
Return-Path: <test-report-bounces@dpdk.org>
Received: from mails.dpdk.org (mails.dpdk.org [217.70.189.124])
	by inbox.dpdk.org (Postfix) with ESMTP id F3C9B43E70
	for <public@inbox.dpdk.org>; Tue, 16 Apr 2024 13:41:55 +0200 (CEST)
Received: from mails.dpdk.org (localhost [127.0.0.1])
	by mails.dpdk.org (Postfix) with ESMTP id D1B23402AE;
	Tue, 16 Apr 2024 13:41:55 +0200 (CEST)
Received: from mail-yw1-f228.google.com (mail-yw1-f228.google.com
 [209.85.128.228])
 by mails.dpdk.org (Postfix) with ESMTP id CDC3F4029E
 for <test-report@dpdk.org>; Tue, 16 Apr 2024 13:41:54 +0200 (CEST)
Received: by mail-yw1-f228.google.com with SMTP id
 00721157ae682-6098a20ab22so37350597b3.2
 for <test-report@dpdk.org>; Tue, 16 Apr 2024 04:41:54 -0700 (PDT)
DKIM-Signature: v=1; a=rsa-sha256; c=relaxed/relaxed;
 d=iol.unh.edu; s=unh-iol; t=1713267714; x=1713872514; darn=dpdk.org;
 h=references:in-reply-to:cc:to:from:subject:message-id:date:from:to
 :cc:subject:date:message-id:reply-to;
 bh=wHRJwOiNPf6iX77XZB4S2fsrEms4NfrWGjx1pqg89R8=;
 b=a2ZI/hnzP9ZL8TR24i3iRP7xWab8YUOU1VkvjgacJtklLDOj1P9wzQpvklW+VEuWN9
 taqd/sehZO6vElbywz5/D3ayd5j81tqbFas7BkfTBZfGHKq9OQXUpj3vHFmHCsfB5XT3
 7ATD7GRoff0whkYRj+w252+mF8IL/ikDdhyMI=
X-Google-DKIM-Signature: v=1; a=rsa-sha256; c=relaxed/relaxed;
 d=1e100.net; s=20230601; t=1713267714; x=1713872514;
 h=references:in-reply-to:cc:to:from:subject:message-id:date
 :x-gm-message-state:from:to:cc:subject:date:message-id:reply-to;
 bh=wHRJwOiNPf6iX77XZB4S2fsrEms4NfrWGjx1pqg89R8=;
 b=HzDM2Db9a5gp9Di8EvQ4w1NCaq9TKg3Eq0zyPijkNdnkJsGbwIcpBUb6W9XptL4J3W
 P4Q2YmJ+J9rHdXae5GXRjanPXJImWOvroiFqBI/5Y1C8FbVKM1fAOOB24BAjb+BfTnju
 rH4soOMAxMz/AqM1W4cPPPc/tv86OgnqETjkQJeeI8mJSlZwX/Y2ZZ4g+akXfeEkOiVM
 LteqWSrJ5qVJbqseCGb/pHjeD7XVTTIMC8+RGzfksi+MTkSf3aVKS/V44EeZafEme3t1
 6NaHD5zECMUCODBpceFi1BXz6gEKxRpfT+u0k1X7MZaqBWuPhlGD1HoAdWG07FLlwLJ6
 KzPg==
X-Gm-Message-State: AOJu0YxTVCISe17ZMs4oO16IbmGLhumyl6ZnvzwxGDq8Cx4Zu/IJz98z
 3vo24vp82pO/sC3UGNUTwD3TWzP3ccfsw2w7yV3UaBARdITBceH44o/IdgA7QSKoI6N8bCroCKb
 OvTPBfBVlptVaofTEymOtG/qivU1mmPxeaWp2GlbW
X-Google-Smtp-Source: AGHT+IFUa45Fo6pQrypIFq/S3mwfwElZcjjQjgRBXaV32XpjFSpRzZzJXC35zH0g+6gJg+fE7aUjy8e1UB88
X-Received: by 2002:a0d:dd8a:0:b0:618:24ca:381c with SMTP id
 g132-20020a0ddd8a000000b0061824ca381cmr12722147ywe.19.1713267713939; 
 Tue, 16 Apr 2024 04:41:53 -0700 (PDT)
Received: from postal.iol.unh.edu (postal.iol.unh.edu. [132.177.123.84])
 by smtp-relay.gmail.com with ESMTPS id
 n15-20020a81eb0f000000b0061538cdc799sm602750ywm.26.2024.04.16.04.41.53
 (version=TLS1_2 cipher=ECDHE-ECDSA-AES128-GCM-SHA256 bits=128/128);
 Tue, 16 Apr 2024 04:41:53 -0700 (PDT)
X-Relaying-Domain: iol.unh.edu
Date: Tue, 16 Apr 2024 04:41:53 -0700 (PDT)
Message-ID: <661e6401.810a0220.552c7.72b4SMTPIN_ADDED_MISSING@mx.google.com>
Received: from [172.17.0.2] (unknown [172.18.0.217])
 by postal.iol.unh.edu (Postfix) with ESMTP id 974E4604A958;
 Tue, 16 Apr 2024 07:41:53 -0400 (EDT)
Subject: |SUCCESS| pw139398-139413 [PATCH] [v4,16/16] crypto/mlx5: pack struc
From: dpdklab@iol.unh.edu
To: Test Report <test-report@dpdk.org>
Cc: dpdk-test-reports@iol.unh.edu
In-Reply-To: <1713225913-20792-17-git-send-email-roretzla@linux.microsoft.com>
References: <1713225913-20792-17-git-send-email-roretzla@linux.microsoft.com>
Content-Type: text/plain
X-BeenThere: test-report@dpdk.org
X-Mailman-Version: 2.1.29
Precedence: list
List-Id: automatic DPDK test reports <test-report.dpdk.org>
List-Unsubscribe: <https://mails.dpdk.org/options/test-report>,
 <mailto:test-report-request@dpdk.org?subject=unsubscribe>
List-Archive: <http://mails.dpdk.org/archives/test-report/>
List-Post: <mailto:test-report@dpdk.org>
List-Help: <mailto:test-report-request@dpdk.org?subject=help>
List-Subscribe: <https://mails.dpdk.org/listinfo/test-report>,
 <mailto:test-report-request@dpdk.org?subject=subscribe>
Errors-To: test-report-bounces@dpdk.org

Test-Label: iol-unit-arm64-testing
Test-Status: SUCCESS
http://dpdk.org/patch/139413

_Testing PASS_

Submitter: Tyler Retzlaff <roretzla@linux.microsoft.com>
Date: Tuesday, April 16 2024 00:05:13 
DPDK git baseline: Repo:dpdk
  Branch: master
  CommitID:e2e546ab5bf5e024986ccb5310ab43982f3bb40c

139398-139413 --> testing pass

Test environment and result as below:

+-----------------------------+--------------+------------------------------+----------------+---------------------------+
|         Environment         | lpm_autotest | cryptodev_sw_snow3g_autotest | dpdk_unit_test | cryptodev_sw_zuc_autotest |
+=============================+==============+==============================+================+===========================+
| Ubuntu 20.04 ARM SVE        | PASS         | SKIPPED                      | SKIPPED        | SKIPPED                   |
+-----------------------------+--------------+------------------------------+----------------+---------------------------+
| Debian 12 (arm)             | SKIPPED      | PASS                         | PASS           | PASS                      |
+-----------------------------+--------------+------------------------------+----------------+---------------------------+
| CentOS Stream 9 (ARM)       | SKIPPED      | SKIPPED                      | PASS           | SKIPPED                   |
+-----------------------------+--------------+------------------------------+----------------+---------------------------+
| Debian 11 (Buster) (ARM)    | SKIPPED      | SKIPPED                      | PASS           | SKIPPED                   |
+-----------------------------+--------------+------------------------------+----------------+---------------------------+
| 32-bit Ubuntu 20.04.4 (ARM) | SKIPPED      | SKIPPED                      | PASS           | SKIPPED                   |
+-----------------------------+--------------+------------------------------+----------------+---------------------------+
| Fedora 38 (ARM Clang)       | SKIPPED      | SKIPPED                      | PASS           | SKIPPED                   |
+-----------------------------+--------------+------------------------------+----------------+---------------------------+
| Fedora 39 (ARM)             | SKIPPED      | SKIPPED                      | PASS           | SKIPPED                   |
+-----------------------------+--------------+------------------------------+----------------+---------------------------+
| Fedora 38 (ARM)             | SKIPPED      | SKIPPED                      | PASS           | SKIPPED                   |
+-----------------------------+--------------+------------------------------+----------------+---------------------------+
| Fedora 37 (ARM)             | SKIPPED      | SKIPPED                      | PASS           | SKIPPED                   |
+-----------------------------+--------------+------------------------------+----------------+---------------------------+


Ubuntu 20.04 ARM SVE
	Kernel: 5.4.0-167-generic
	Compiler: gcc (Ubuntu 10.5.0-1ubuntu1~20.04) 10.5.0

Debian 12 (arm)
	Kernel: Container Host Kernel
	Compiler: gcc 12.2.0

CentOS Stream 9 (ARM)
	Kernel: Container Host Kernel
	Compiler: gcc 11.4.1

Debian 11 (Buster) (ARM)
	Kernel: Container Host Kernel
	Compiler: gcc 10.2.1

32-bit Ubuntu 20.04.4 (ARM)
	Kernel: 5.4.0-155-generic aarch64
	Compiler: gcc 9.4

Fedora 38 (ARM Clang)
	Kernel: Depends on container host
	Compiler: clang 16.0.6

Fedora 39 (ARM)
	Kernel: Depends on container host
	Compiler: gcc 13.2.1

Fedora 38 (ARM)
	Kernel: Depends on container host
	Compiler: gcc 13.2.1

Fedora 37 (ARM)
	Kernel: Depends on container host
	Compiler: gcc 12.3.1

To view detailed results, visit:
https://lab.dpdk.org/results/dashboard/patchsets/29787/

UNH-IOL DPDK Community Lab

To manage your email subscriptions, visit: 
https://lab.dpdk.org/results/dashboard/preferences/subscriptions/