From mboxrd@z Thu Jan  1 00:00:00 1970
Return-Path: <test-report-bounces@dpdk.org>
Received: from mails.dpdk.org (mails.dpdk.org [217.70.189.124])
	by inbox.dpdk.org (Postfix) with ESMTP id A806543E70
	for <public@inbox.dpdk.org>; Tue, 16 Apr 2024 13:45:41 +0200 (CEST)
Received: from mails.dpdk.org (localhost [127.0.0.1])
	by mails.dpdk.org (Postfix) with ESMTP id 865A5402AE;
	Tue, 16 Apr 2024 13:45:41 +0200 (CEST)
Received: from mail-il1-f225.google.com (mail-il1-f225.google.com
 [209.85.166.225])
 by mails.dpdk.org (Postfix) with ESMTP id C23DD4029E
 for <test-report@dpdk.org>; Tue, 16 Apr 2024 13:45:39 +0200 (CEST)
Received: by mail-il1-f225.google.com with SMTP id
 e9e14a558f8ab-36b2ecd7b76so923025ab.1
 for <test-report@dpdk.org>; Tue, 16 Apr 2024 04:45:39 -0700 (PDT)
DKIM-Signature: v=1; a=rsa-sha256; c=relaxed/relaxed;
 d=iol.unh.edu; s=unh-iol; t=1713267939; x=1713872739; darn=dpdk.org;
 h=references:in-reply-to:cc:to:from:subject:message-id:date:from:to
 :cc:subject:date:message-id:reply-to;
 bh=JysBm3/CBQ/y6aE/9h8rQCdXQz5L6eJyD/708WHyNcs=;
 b=YC85Xdcfft7EK4HGjgUXBT49Zt0e9X+bMzV419JAdCEbzXwJeLduu4QgLeluB+8XCg
 84e/UTo51k/lxnwOjwJJd30+5DJQ3dcIwvZ/TG4/r/rmjiyARRrdGjPCzJcpE1i/dXvF
 TuanECOvwe8dvxK3pRMmUqVf2QrgY0VexwBuk=
X-Google-DKIM-Signature: v=1; a=rsa-sha256; c=relaxed/relaxed;
 d=1e100.net; s=20230601; t=1713267939; x=1713872739;
 h=references:in-reply-to:cc:to:from:subject:message-id:date
 :x-gm-message-state:from:to:cc:subject:date:message-id:reply-to;
 bh=JysBm3/CBQ/y6aE/9h8rQCdXQz5L6eJyD/708WHyNcs=;
 b=wDDp/zLcfNkzkWJzz8AxFR27yEZ6eBgo1aPFeHobRDF61OdODb10T56s1lyDoKVwIG
 qptZZvs1DhhGR6gQuQ4zU+WyKu4xY8L1Sq24lxGNWie809BMlv9G/6v2dspHkqia4FX9
 mbgu93vIgy5+PCcdT03Zj/Rxgc/VIccpDBJEGBaKe+/xT994FTHGaw+ho2K+AlIPlitF
 SUQHWPascfk3jpWFyhPtBixNKOWXBgk5rtFDpdDnBEZ2i7WMw7nIFogJa0etBcqlwvpn
 QYzrej/EQLkg7CvIDZNsGx3pPRZEcPBvVOtNmwaKeI/m6/GLIQxqAod3tRPYjRA+UqHV
 m5Zg==
X-Gm-Message-State: AOJu0YyA4ZdSmIzs0EgxjcLzeiN78ddBsacqSpn7xWtskVdoB0WnSpCh
 MQzGASiMBsAHl47UmNOTuIdrSTc+EZ92KJUgh8BqIgBxbllFJsgAuIFWRekcnLkbKL6CQH0GwZ4
 itvzfpkJd81Pot6hKG+nyvflsPPZ1wFkvi6Tvoikt
X-Google-Smtp-Source: AGHT+IFmKDoIwopkiAA7soWEGmEGnipSpPaD+/4u7oqkXrZg3JfqU0H/3b1RUlrTKTBZdp07WZZbvZriQN+f
X-Received: by 2002:a05:6e02:1d94:b0:36b:aae:613 with SMTP id
 h20-20020a056e021d9400b0036b0aae0613mr1237524ila.10.1713267939106; 
 Tue, 16 Apr 2024 04:45:39 -0700 (PDT)
Received: from postal.iol.unh.edu (postal.iol.unh.edu. [132.177.123.84])
 by smtp-relay.gmail.com with ESMTPS id
 n9-20020a056e02148900b0036b26f5a9ffsm132602ilk.63.2024.04.16.04.45.39
 (version=TLS1_2 cipher=ECDHE-ECDSA-AES128-GCM-SHA256 bits=128/128);
 Tue, 16 Apr 2024 04:45:39 -0700 (PDT)
X-Relaying-Domain: iol.unh.edu
Date: Tue, 16 Apr 2024 04:45:39 -0700 (PDT)
Message-ID: <661e64e3.050a0220.c3974.6858SMTPIN_ADDED_MISSING@mx.google.com>
Received: from [172.17.0.2] (unknown [172.18.0.217])
 by postal.iol.unh.edu (Postfix) with ESMTP id 80D46604A958;
 Tue, 16 Apr 2024 07:45:38 -0400 (EDT)
Subject: |SUCCESS| pw139381 [PATCH] mailmap: clean up vmware entries
From: dpdklab@iol.unh.edu
To: Test Report <test-report@dpdk.org>
Cc: dpdk-test-reports@iol.unh.edu
In-Reply-To: <20240415233935.1913135-1-jochen.behrens@broadcom.com>
References: <20240415233935.1913135-1-jochen.behrens@broadcom.com>
Content-Type: text/plain
X-BeenThere: test-report@dpdk.org
X-Mailman-Version: 2.1.29
Precedence: list
List-Id: automatic DPDK test reports <test-report.dpdk.org>
List-Unsubscribe: <https://mails.dpdk.org/options/test-report>,
 <mailto:test-report-request@dpdk.org?subject=unsubscribe>
List-Archive: <http://mails.dpdk.org/archives/test-report/>
List-Post: <mailto:test-report@dpdk.org>
List-Help: <mailto:test-report-request@dpdk.org?subject=help>
List-Subscribe: <https://mails.dpdk.org/listinfo/test-report>,
 <mailto:test-report-request@dpdk.org?subject=subscribe>
Errors-To: test-report-bounces@dpdk.org

Test-Label: iol-compile-amd64-testing
Test-Status: SUCCESS
http://dpdk.org/patch/139381

_Testing PASS_

Submitter: Jochen Behrens <jochen.behrens@broadcom.com>
Date: Monday, April 15 2024 23:39:35 
DPDK git baseline: Repo:dpdk
  Branch: master
  CommitID:e2e546ab5bf5e024986ccb5310ab43982f3bb40c

139381 --> testing pass

Test environment and result as below:

+---------------------+--------------------+----------------------+-------------------+
|     Environment     | dpdk_meson_compile | dpdk_mingw64_compile | dpdk_msvc_compile |
+=====================+====================+======================+===================+
| FreeBSD 13.2        | PASS               | SKIPPED              | SKIPPED           |
+---------------------+--------------------+----------------------+-------------------+
| Windows Server 2019 | PASS               | PASS                 | SKIPPED           |
+---------------------+--------------------+----------------------+-------------------+
| Windows Server 2022 | PASS               | PASS                 | PASS              |
+---------------------+--------------------+----------------------+-------------------+
| Debian 12           | PASS               | SKIPPED              | SKIPPED           |
+---------------------+--------------------+----------------------+-------------------+
| Debian Bullseye     | PASS               | SKIPPED              | SKIPPED           |
+---------------------+--------------------+----------------------+-------------------+
| CentOS Stream 9     | PASS               | SKIPPED              | SKIPPED           |
+---------------------+--------------------+----------------------+-------------------+
| CentOS Stream 8     | PASS               | SKIPPED              | SKIPPED           |
+---------------------+--------------------+----------------------+-------------------+
| Fedora 38           | PASS               | SKIPPED              | SKIPPED           |
+---------------------+--------------------+----------------------+-------------------+
| Fedora 37           | PASS               | SKIPPED              | SKIPPED           |
+---------------------+--------------------+----------------------+-------------------+
| Fedora 39           | PASS               | SKIPPED              | SKIPPED           |
+---------------------+--------------------+----------------------+-------------------+
| Ubuntu 20.04        | PASS               | SKIPPED              | SKIPPED           |
+---------------------+--------------------+----------------------+-------------------+


FreeBSD 13.2
	Kernel: 13.2
	Compiler: clang 14.0.5

Windows Server 2019
	Kernel: 10.0.17763
	Compiler: clang 14.0 and gcc 8.1.0 (MinGW)

Windows Server 2022
	Kernel: 10.0.20348.2031
	Compiler: clang 15.0.7, gcc 8.1.0 (MinGW), and MSVC VS 17.9

Debian 12
	Kernel: Container Host Kernel
	Compiler: gcc 10.2.1

Debian Bullseye
	Kernel: 5.4.0-167-generic
	Compiler: gcc 10.2.1-6

CentOS Stream 9
	Kernel: 5.4.0-167-generic
	Compiler: gcc 11.4.1 20230605

CentOS Stream 8
	Kernel: 5.4.0-167-generic
	Compiler: gcc 8.5.0 20210514

Fedora 38
	Kernel: Depends on container host
	Compiler: gcc 13.2.1

Fedora 37
	Kernel: Depends on container host system
	Compiler: gcc 12.3.1

Fedora 39
	Kernel: Depends on container host
	Compiler: clang 17.0.6

Ubuntu 20.04
	Kernel: 5.4.0-167-generic
	Compiler: gcc 9.4.0-1ubuntu1~20.04.1

To view detailed results, visit:
https://lab.dpdk.org/results/dashboard/patchsets/29785/

UNH-IOL DPDK Community Lab

To manage your email subscriptions, visit: 
https://lab.dpdk.org/results/dashboard/preferences/subscriptions/