From mboxrd@z Thu Jan  1 00:00:00 1970
Return-Path: <test-report-bounces@dpdk.org>
Received: from mails.dpdk.org (mails.dpdk.org [217.70.189.124])
	by inbox.dpdk.org (Postfix) with ESMTP id 8BA4443E74
	for <public@inbox.dpdk.org>; Tue, 16 Apr 2024 15:37:47 +0200 (CEST)
Received: from mails.dpdk.org (localhost [127.0.0.1])
	by mails.dpdk.org (Postfix) with ESMTP id 87CAF40268;
	Tue, 16 Apr 2024 15:37:47 +0200 (CEST)
Received: from mail-io1-f98.google.com (mail-io1-f98.google.com
 [209.85.166.98]) by mails.dpdk.org (Postfix) with ESMTP id 6BDF740262
 for <test-report@dpdk.org>; Tue, 16 Apr 2024 15:37:40 +0200 (CEST)
Received: by mail-io1-f98.google.com with SMTP id
 ca18e2360f4ac-7d5e93b40feso199976939f.2
 for <test-report@dpdk.org>; Tue, 16 Apr 2024 06:37:40 -0700 (PDT)
DKIM-Signature: v=1; a=rsa-sha256; c=relaxed/relaxed;
 d=iol.unh.edu; s=unh-iol; t=1713274660; x=1713879460; darn=dpdk.org;
 h=references:in-reply-to:cc:to:from:subject:message-id:date:from:to
 :cc:subject:date:message-id:reply-to;
 bh=0eCVls81dOJ02+OAN9q/Vqa2AoKYckBMV0UUZJoxM8w=;
 b=D9U4LEuUIGv5Q7AdZ5ydZ65ts2488B+BjbasKSKKjuGJABlUzf8Ay02NwbLX8g4+yk
 aevhzt9ggYD0pp+NCyYl7lefceoLITZ/RJo+zBRxAF18pgemuCRvnkN0Ja4insMGdDxT
 NI80Hs/uQ0HWfiy0qH3cLszTcZ4BaQPU42gn4=
X-Google-DKIM-Signature: v=1; a=rsa-sha256; c=relaxed/relaxed;
 d=1e100.net; s=20230601; t=1713274660; x=1713879460;
 h=references:in-reply-to:cc:to:from:subject:message-id:date
 :x-gm-message-state:from:to:cc:subject:date:message-id:reply-to;
 bh=0eCVls81dOJ02+OAN9q/Vqa2AoKYckBMV0UUZJoxM8w=;
 b=m18dHYRMJ83OlZnshLykq0OD4ypE3gW98yPCSrxuIbAO4wDgO2gO79LYShEl/Qtz93
 31KuwLKMMZNbm7WTHF2t0H2l9o4pLdqOTeBal7zyde0EtmRgchRFUSsIO6xlfU1Tbuc3
 wHD77mxrOjeCEVUq56q0vgvSADznwME7mdZ47qDrOBBCO6GY6LC/Aq7V60TLz2x5lg3Y
 ZKzeGHrtAjIhJkLr9WYimKP13TWKtCht2FNS+QnF1hhmzm0p81DrIQOztLzbzTCSMPdV
 bfQE4wdHS+rE0pcsgbpoWtFFIRPq2jeCDJU9JjgJPpR/5LSUjBC1bXEK3NoH1E4YjEN+
 qX6g==
X-Gm-Message-State: AOJu0YyqIWR6+Db9SEhrUrJqhA6lrqBTYC0A8zN5mVn+szcGaHjX4oZq
 BjyA0HO1lAS57D2xusjEzWq0tJaEuhTDQlj8yfgn2vZhA/HI/OM6D2s1QRcFu7M/optNIJgyG2/
 QQl4t6v6T6LcxMBS1nPdmMGy2iVoPPRzRysOl6z+FeLH/nR2ef1CcSfnp
X-Google-Smtp-Source: AGHT+IFiO66NytNLMwAvxPsukKT7hkBjDxymGxEJO2MDCUt2EnHySAokeKc39f7eUU26dsSlS4slTfofq1BC
X-Received: by 2002:a05:6602:4a05:b0:7d5:c57b:a26e with SMTP id
 eh5-20020a0566024a0500b007d5c57ba26emr18816936iob.12.1713274659837; 
 Tue, 16 Apr 2024 06:37:39 -0700 (PDT)
Received: from postal.iol.unh.edu (postal.iol.unh.edu.
 [2606:4100:3880:1234::84]) by smtp-relay.gmail.com with ESMTPS id
 ft12-20020a05660260cc00b007d98100ab0csm225023iob.10.2024.04.16.06.37.39
 (version=TLS1_2 cipher=ECDHE-ECDSA-AES128-GCM-SHA256 bits=128/128);
 Tue, 16 Apr 2024 06:37:39 -0700 (PDT)
X-Relaying-Domain: iol.unh.edu
Date: Tue, 16 Apr 2024 06:37:39 -0700 (PDT)
Message-ID: <661e7f23.050a0220.c4ef4.9728SMTPIN_ADDED_MISSING@mx.google.com>
Received: from [172.17.0.4] (unknown [172.18.0.217])
 by postal.iol.unh.edu (Postfix) with ESMTP id 5AB07604A958;
 Tue, 16 Apr 2024 09:37:39 -0400 (EDT)
Subject: |SUCCESS| pw139416-139417 [PATCH] [v1,2/2] test/dma: add functions t
From: dpdklab@iol.unh.edu
To: Test Report <test-report@dpdk.org>
Cc: dpdk-test-reports@iol.unh.edu
In-Reply-To: <20240416123747.4133884-2-vvelumuri@marvell.com>
References: <20240416123747.4133884-2-vvelumuri@marvell.com>
Content-Type: text/plain
X-BeenThere: test-report@dpdk.org
X-Mailman-Version: 2.1.29
Precedence: list
List-Id: automatic DPDK test reports <test-report.dpdk.org>
List-Unsubscribe: <https://mails.dpdk.org/options/test-report>,
 <mailto:test-report-request@dpdk.org?subject=unsubscribe>
List-Archive: <http://mails.dpdk.org/archives/test-report/>
List-Post: <mailto:test-report@dpdk.org>
List-Help: <mailto:test-report-request@dpdk.org?subject=help>
List-Subscribe: <https://mails.dpdk.org/listinfo/test-report>,
 <mailto:test-report-request@dpdk.org?subject=subscribe>
Errors-To: test-report-bounces@dpdk.org

Test-Label: iol-unit-arm64-testing
Test-Status: SUCCESS
http://dpdk.org/patch/139417

_Testing PASS_

Submitter: Vidya Sagar Velumuri <vvelumuri@marvell.com>
Date: Tuesday, April 16 2024 12:37:47 
DPDK git baseline: Repo:dpdk
  Branch: master
  CommitID:e2e546ab5bf5e024986ccb5310ab43982f3bb40c

139416-139417 --> testing pass

Test environment and result as below:

+--------------------------+---------------------------+------------------------------+----------------+
|       Environment        | cryptodev_sw_zuc_autotest | cryptodev_sw_snow3g_autotest | dpdk_unit_test |
+==========================+===========================+==============================+================+
| Debian 12 (arm)          | PASS                      | PASS                         | PASS           |
+--------------------------+---------------------------+------------------------------+----------------+
| Debian 11 (Buster) (ARM) | SKIPPED                   | SKIPPED                      | PASS           |
+--------------------------+---------------------------+------------------------------+----------------+
| CentOS Stream 9 (ARM)    | SKIPPED                   | SKIPPED                      | PASS           |
+--------------------------+---------------------------+------------------------------+----------------+


Debian 12 (arm)
	Kernel: Container Host Kernel
	Compiler: gcc 12.2.0

Debian 11 (Buster) (ARM)
	Kernel: Container Host Kernel
	Compiler: gcc 10.2.1

CentOS Stream 9 (ARM)
	Kernel: Container Host Kernel
	Compiler: gcc 11.4.1

To view detailed results, visit:
https://lab.dpdk.org/results/dashboard/patchsets/29790/

UNH-IOL DPDK Community Lab

To manage your email subscriptions, visit: 
https://lab.dpdk.org/results/dashboard/preferences/subscriptions/