From mboxrd@z Thu Jan  1 00:00:00 1970
Return-Path: <test-report-bounces@dpdk.org>
Received: from mails.dpdk.org (mails.dpdk.org [217.70.189.124])
	by inbox.dpdk.org (Postfix) with ESMTP id D664243E74
	for <public@inbox.dpdk.org>; Tue, 16 Apr 2024 15:52:43 +0200 (CEST)
Received: from mails.dpdk.org (localhost [127.0.0.1])
	by mails.dpdk.org (Postfix) with ESMTP id CF64840268;
	Tue, 16 Apr 2024 15:52:43 +0200 (CEST)
Received: from mail-vs1-f98.google.com (mail-vs1-f98.google.com
 [209.85.217.98]) by mails.dpdk.org (Postfix) with ESMTP id 36B8C40262
 for <test-report@dpdk.org>; Tue, 16 Apr 2024 15:52:43 +0200 (CEST)
Received: by mail-vs1-f98.google.com with SMTP id
 ada2fe7eead31-47a3819c4bcso628102137.0
 for <test-report@dpdk.org>; Tue, 16 Apr 2024 06:52:43 -0700 (PDT)
DKIM-Signature: v=1; a=rsa-sha256; c=relaxed/relaxed;
 d=iol.unh.edu; s=unh-iol; t=1713275562; x=1713880362; darn=dpdk.org;
 h=references:in-reply-to:cc:to:from:subject:message-id:date:from:to
 :cc:subject:date:message-id:reply-to;
 bh=FgY4txyuNGQwcB9xXp/0x9yJltWibp5dRiwg9x/nO/A=;
 b=JsTB0wgM02sER1N2280e8ixS7pyTmALGsLwt/Z6tUhMUS5gph1DngDYR4+BEFOmIdB
 DvaUNTMIj9IQGdif5k9qKFrSr20G3jf2ZVwClbe423JigFrCZ6dSss2873JZiWKPHUG8
 BvDHGTfP7gKoo0+f/BFP5tXosB3k/Ug45f5RU=
X-Google-DKIM-Signature: v=1; a=rsa-sha256; c=relaxed/relaxed;
 d=1e100.net; s=20230601; t=1713275562; x=1713880362;
 h=references:in-reply-to:cc:to:from:subject:message-id:date
 :x-gm-message-state:from:to:cc:subject:date:message-id:reply-to;
 bh=FgY4txyuNGQwcB9xXp/0x9yJltWibp5dRiwg9x/nO/A=;
 b=wn6iaAB2jXKxn3nKiFnm0H7a9ldgdZgqXdi7bH30lKKxt180uiJ/3tfs6P1vbirUN5
 17xSBbTMvq7Csj9eoVxVsiof9BnMeax7u4sh+LVk8CaO3QLET1S4e20zETdjcx2+v9gk
 oxUcV8gSJ3on41+lurEPx59GggFbAg3nw5qUiDX0RgO7o1AbOKybOE9vRukX6VodLVwY
 PzmQjZq81XuV7kGCKx+BHAv9UG9hRJbmSkWqs+bpmrOZkgWXCubmdp6JSgfEk30nAA/D
 14TcvtGFmmII//iv3ZIdAHrvumL82vzU0ovUXnV9PbnIAb/+qzDab0fNO7MmKear42Qp
 /haQ==
X-Gm-Message-State: AOJu0Yzy7lDfK7Q8YQcQv6JjIuavcp8L3vpn9+MAEf++PXfQGjMM3BwZ
 +wvv2/la3hT2tXCas2vVX2xp1fObq08q4ZMWYZ4hbACrW98aQiNfTsGMSP7PrE2pgSIDUC4jlHs
 vv35uL8wUKy+rFuWFiFkEBdn2xCn5c4WnUNiEa2l00KH8x6ajByItSYY4
X-Google-Smtp-Source: AGHT+IHdeDMxudrGgf7M6RXGcVWRZPT+jvaLfcsZwoykIPqFxiguWnKLKPdusBcrihIrkXuziJYSwKXSmdmV
X-Received: by 2002:a05:6102:3594:b0:47b:9704:2c75 with SMTP id
 h20-20020a056102359400b0047b97042c75mr1620155vsu.5.1713275562519; 
 Tue, 16 Apr 2024 06:52:42 -0700 (PDT)
Received: from postal.iol.unh.edu (postal.iol.unh.edu.
 [2606:4100:3880:1234::84]) by smtp-relay.gmail.com with ESMTPS id
 w25-20020ab055d9000000b007db2ba0a2c4sm1069642uaa.16.2024.04.16.06.52.42
 (version=TLS1_2 cipher=ECDHE-ECDSA-AES128-GCM-SHA256 bits=128/128);
 Tue, 16 Apr 2024 06:52:42 -0700 (PDT)
X-Relaying-Domain: iol.unh.edu
Date: Tue, 16 Apr 2024 06:52:42 -0700 (PDT)
Message-ID: <661e82aa.b00a0220.63356.5cdeSMTPIN_ADDED_MISSING@mx.google.com>
Received: from [172.21.0.7] (unknown [172.18.0.240])
 by postal.iol.unh.edu (Postfix) with ESMTP id 26ABA604A958;
 Tue, 16 Apr 2024 09:52:42 -0400 (EDT)
Subject: |SUCCESS| pw139416-139417 [PATCH] [v1,2/2] test/dma: add functions t
From: dpdklab@iol.unh.edu
To: Test Report <test-report@dpdk.org>
Cc: dpdk-test-reports@iol.unh.edu
In-Reply-To: <20240416123747.4133884-2-vvelumuri@marvell.com>
References: <20240416123747.4133884-2-vvelumuri@marvell.com>
Content-Type: text/plain
X-BeenThere: test-report@dpdk.org
X-Mailman-Version: 2.1.29
Precedence: list
List-Id: automatic DPDK test reports <test-report.dpdk.org>
List-Unsubscribe: <https://mails.dpdk.org/options/test-report>,
 <mailto:test-report-request@dpdk.org?subject=unsubscribe>
List-Archive: <http://mails.dpdk.org/archives/test-report/>
List-Post: <mailto:test-report@dpdk.org>
List-Help: <mailto:test-report-request@dpdk.org?subject=help>
List-Subscribe: <https://mails.dpdk.org/listinfo/test-report>,
 <mailto:test-report-request@dpdk.org?subject=subscribe>
Errors-To: test-report-bounces@dpdk.org

Test-Label: iol-unit-arm64-testing
Test-Status: SUCCESS
http://dpdk.org/patch/139417

_Testing PASS_

Submitter: Vidya Sagar Velumuri <vvelumuri@marvell.com>
Date: Tuesday, April 16 2024 12:37:47 
DPDK git baseline: Repo:dpdk
  Branch: master
  CommitID:e2e546ab5bf5e024986ccb5310ab43982f3bb40c

139416-139417 --> testing pass

Test environment and result as below:

+-----------------------------+---------------------------+------------------------------+----------------+--------------+
|         Environment         | cryptodev_sw_zuc_autotest | cryptodev_sw_snow3g_autotest | dpdk_unit_test | lpm_autotest |
+=============================+===========================+==============================+================+==============+
| Debian 12 (arm)             | PASS                      | PASS                         | PASS           | SKIPPED      |
+-----------------------------+---------------------------+------------------------------+----------------+--------------+
| Debian 11 (Buster) (ARM)    | SKIPPED                   | SKIPPED                      | PASS           | SKIPPED      |
+-----------------------------+---------------------------+------------------------------+----------------+--------------+
| CentOS Stream 9 (ARM)       | SKIPPED                   | SKIPPED                      | PASS           | SKIPPED      |
+-----------------------------+---------------------------+------------------------------+----------------+--------------+
| Fedora 37 (ARM)             | SKIPPED                   | SKIPPED                      | PASS           | SKIPPED      |
+-----------------------------+---------------------------+------------------------------+----------------+--------------+
| 32-bit Ubuntu 20.04.4 (ARM) | SKIPPED                   | SKIPPED                      | PASS           | SKIPPED      |
+-----------------------------+---------------------------+------------------------------+----------------+--------------+
| Fedora 38 (ARM)             | SKIPPED                   | SKIPPED                      | PASS           | SKIPPED      |
+-----------------------------+---------------------------+------------------------------+----------------+--------------+
| Fedora 39 (ARM)             | SKIPPED                   | SKIPPED                      | PASS           | SKIPPED      |
+-----------------------------+---------------------------+------------------------------+----------------+--------------+
| Ubuntu 20.04 ARM SVE        | SKIPPED                   | SKIPPED                      | SKIPPED        | PASS         |
+-----------------------------+---------------------------+------------------------------+----------------+--------------+


Debian 12 (arm)
	Kernel: Container Host Kernel
	Compiler: gcc 12.2.0

Debian 11 (Buster) (ARM)
	Kernel: Container Host Kernel
	Compiler: gcc 10.2.1

CentOS Stream 9 (ARM)
	Kernel: Container Host Kernel
	Compiler: gcc 11.4.1

Fedora 37 (ARM)
	Kernel: Depends on container host
	Compiler: gcc 12.3.1

32-bit Ubuntu 20.04.4 (ARM)
	Kernel: 5.4.0-155-generic aarch64
	Compiler: gcc 9.4

Fedora 38 (ARM)
	Kernel: Depends on container host
	Compiler: gcc 13.2.1

Fedora 39 (ARM)
	Kernel: Depends on container host
	Compiler: gcc 13.2.1

Ubuntu 20.04 ARM SVE
	Kernel: 5.4.0-167-generic
	Compiler: gcc (Ubuntu 10.5.0-1ubuntu1~20.04) 10.5.0

To view detailed results, visit:
https://lab.dpdk.org/results/dashboard/patchsets/29790/

UNH-IOL DPDK Community Lab

To manage your email subscriptions, visit: 
https://lab.dpdk.org/results/dashboard/preferences/subscriptions/