From mboxrd@z Thu Jan  1 00:00:00 1970
Return-Path: <test-report-bounces@dpdk.org>
Received: from mails.dpdk.org (mails.dpdk.org [217.70.189.124])
	by inbox.dpdk.org (Postfix) with ESMTP id E89EA43E86
	for <public@inbox.dpdk.org>; Tue, 16 Apr 2024 18:13:24 +0200 (CEST)
Received: from mails.dpdk.org (localhost [127.0.0.1])
	by mails.dpdk.org (Postfix) with ESMTP id E3F0440268;
	Tue, 16 Apr 2024 18:13:24 +0200 (CEST)
Received: from mail-qv1-f100.google.com (mail-qv1-f100.google.com
 [209.85.219.100])
 by mails.dpdk.org (Postfix) with ESMTP id AC31F40262
 for <test-report@dpdk.org>; Tue, 16 Apr 2024 18:13:23 +0200 (CEST)
Received: by mail-qv1-f100.google.com with SMTP id
 6a1803df08f44-69b47833dc5so13410346d6.0
 for <test-report@dpdk.org>; Tue, 16 Apr 2024 09:13:23 -0700 (PDT)
DKIM-Signature: v=1; a=rsa-sha256; c=relaxed/relaxed;
 d=iol.unh.edu; s=unh-iol; t=1713284003; x=1713888803; darn=dpdk.org;
 h=references:in-reply-to:cc:to:from:subject:message-id:date:from:to
 :cc:subject:date:message-id:reply-to;
 bh=NScw4J9N7cl2rLa5e/eS35wJFkK3MYvEQPtpjQd80t0=;
 b=MQzCH+dg+tzSEEqzFvmtJhpLX6xFeMPEp8CIaRce7h8TOxA0NVQmWNwhmN5mek7Owb
 32XKnIh+n9QHLJmgFXKQp86Y1Gj3rMs7K+2T6P7yNoQkPIrVzpNAyOqK8BgYQvup1Juc
 1WDVxnWeLONm/uFJTjuOTH1sYqbWtoklSnyFc=
X-Google-DKIM-Signature: v=1; a=rsa-sha256; c=relaxed/relaxed;
 d=1e100.net; s=20230601; t=1713284003; x=1713888803;
 h=references:in-reply-to:cc:to:from:subject:message-id:date
 :x-gm-message-state:from:to:cc:subject:date:message-id:reply-to;
 bh=NScw4J9N7cl2rLa5e/eS35wJFkK3MYvEQPtpjQd80t0=;
 b=YnlCSt8PCyhHnlnoEnWX6hRTLd9HR/XNcin60lE0drKZZcvOpO7w2Dai++Yd5C0VJD
 dz6LnhKuOrHUOeYftc6KZW5P6nSZi9kQYFn3ieOsA/EUhD0vflAVWMH+q7GwBck1TOn5
 Ry1O6NFX03cp4CM9oEVmtGf3+XJMd3Q7BfTNIjmPdTUkaQpg5a24miAZ/VU+xPisHtkl
 a82lxHg+CiZCQ4o5FLt9Q/lpPP9nFD1hyu52mjTRkYzdMn9tulCHQg9NZPFzfXma6yN0
 ZGiFINjMrd+QiV3TfIq4k34CODd9ALKaJ+EAi9DigZBbF0MWXmwSp5+6+aBHnYASE5pC
 uU2A==
X-Gm-Message-State: AOJu0YzKtpqqlvmr6si85rL0TdKJHMOR1Vt73iZ2i/cuquYiFXMTjITZ
 glgfkfKko+iV5eHucCkyPhhdBnIy7s6Lkwq1gtEpXRQzH1nDqsnyMX190FfhJmbTDy+ggHJAWQm
 jaxe04zTyWzIw//neSNTi0fjjeAiwFMmWQwn9W+TWmHhn1wjNbGn6CCJs
X-Google-Smtp-Source: AGHT+IHqEEPqnujz6gKLLNTDe5x4Du1SpvybzPzGacUfs/4fQ+mDnoDteAEhBjkIcgou6Tz8wgncP++qUsTw
X-Received: by 2002:a0c:e411:0:b0:696:7ff4:7f0a with SMTP id
 o17-20020a0ce411000000b006967ff47f0amr13294224qvl.34.1713284003076; 
 Tue, 16 Apr 2024 09:13:23 -0700 (PDT)
Received: from postal.iol.unh.edu (postal.iol.unh.edu.
 [2606:4100:3880:1234::84]) by smtp-relay.gmail.com with ESMTPS id
 4-20020ad45ba4000000b006969a3d0da4sm985784qvq.48.2024.04.16.09.13.22
 (version=TLS1_2 cipher=ECDHE-ECDSA-AES128-GCM-SHA256 bits=128/128);
 Tue, 16 Apr 2024 09:13:23 -0700 (PDT)
X-Relaying-Domain: iol.unh.edu
Date: Tue, 16 Apr 2024 09:13:23 -0700 (PDT)
Message-ID: <661ea3a3.d40a0220.aa441.0446SMTPIN_ADDED_MISSING@mx.google.com>
Received: from [172.21.0.6] (unknown [172.18.0.240])
 by postal.iol.unh.edu (Postfix) with ESMTP id C7A42604A958;
 Tue, 16 Apr 2024 12:13:22 -0400 (EDT)
Subject: |SUCCESS| pw139420-139424 [PATCH] [5/5] drivers/net: use RTE_DIM
From: dpdklab@iol.unh.edu
To: Test Report <test-report@dpdk.org>
Cc: dpdk-test-reports@iol.unh.edu
In-Reply-To: <20240416152124.69590-6-stephen@networkplumber.org>
References: <20240416152124.69590-6-stephen@networkplumber.org>
Content-Type: text/plain
X-BeenThere: test-report@dpdk.org
X-Mailman-Version: 2.1.29
Precedence: list
List-Id: automatic DPDK test reports <test-report.dpdk.org>
List-Unsubscribe: <https://mails.dpdk.org/options/test-report>,
 <mailto:test-report-request@dpdk.org?subject=unsubscribe>
List-Archive: <http://mails.dpdk.org/archives/test-report/>
List-Post: <mailto:test-report@dpdk.org>
List-Help: <mailto:test-report-request@dpdk.org?subject=help>
List-Subscribe: <https://mails.dpdk.org/listinfo/test-report>,
 <mailto:test-report-request@dpdk.org?subject=subscribe>
Errors-To: test-report-bounces@dpdk.org

Test-Label: iol-compile-amd64-testing
Test-Status: SUCCESS
http://dpdk.org/patch/139424

_Testing PASS_

Submitter: Stephen Hemminger <stephen@networkplumber.org>
Date: Tuesday, April 16 2024 15:19:31 
DPDK git baseline: Repo:dpdk
  Branch: master
  CommitID:e2e546ab5bf5e024986ccb5310ab43982f3bb40c

139420-139424 --> testing pass

Test environment and result as below:

+---------------------+--------------------+----------------------+-------------------+
|     Environment     | dpdk_meson_compile | dpdk_mingw64_compile | dpdk_msvc_compile |
+=====================+====================+======================+===================+
| Debian 12           | PASS               | SKIPPED              | SKIPPED           |
+---------------------+--------------------+----------------------+-------------------+
| Debian Bullseye     | PASS               | SKIPPED              | SKIPPED           |
+---------------------+--------------------+----------------------+-------------------+
| CentOS Stream 9     | PASS               | SKIPPED              | SKIPPED           |
+---------------------+--------------------+----------------------+-------------------+
| CentOS Stream 8     | PASS               | SKIPPED              | SKIPPED           |
+---------------------+--------------------+----------------------+-------------------+
| Fedora 37           | PASS               | SKIPPED              | SKIPPED           |
+---------------------+--------------------+----------------------+-------------------+
| Windows Server 2019 | PASS               | PASS                 | SKIPPED           |
+---------------------+--------------------+----------------------+-------------------+
| FreeBSD 13.2        | PASS               | SKIPPED              | SKIPPED           |
+---------------------+--------------------+----------------------+-------------------+
| Fedora 39           | PASS               | SKIPPED              | SKIPPED           |
+---------------------+--------------------+----------------------+-------------------+
| openSUSE Leap 15    | PASS               | SKIPPED              | SKIPPED           |
+---------------------+--------------------+----------------------+-------------------+
| Windows Server 2022 | PASS               | PASS                 | PASS              |
+---------------------+--------------------+----------------------+-------------------+
| Ubuntu 22.04        | PASS               | SKIPPED              | SKIPPED           |
+---------------------+--------------------+----------------------+-------------------+
| Alpine              | PASS               | SKIPPED              | SKIPPED           |
+---------------------+--------------------+----------------------+-------------------+


Debian 12
	Kernel: Container Host Kernel
	Compiler: gcc 10.2.1

Debian Bullseye
	Kernel: 5.4.0-167-generic
	Compiler: gcc 10.2.1-6

CentOS Stream 9
	Kernel: 5.4.0-167-generic
	Compiler: gcc 11.4.1 20230605

CentOS Stream 8
	Kernel: 5.4.0-167-generic
	Compiler: gcc 8.5.0 20210514

Fedora 37
	Kernel: Depends on container host system
	Compiler: gcc 12.3.1

Windows Server 2019
	Kernel: 10.0.17763
	Compiler: clang 14.0 and gcc 8.1.0 (MinGW)

FreeBSD 13.2
	Kernel: 13.2
	Compiler: clang 14.0.5

Fedora 39
	Kernel: Depends on container host
	Compiler: gcc 13.2.1

openSUSE Leap 15
	Kernel: 5.4.0-167-generic
	Compiler: gcc 7.5.0

Windows Server 2022
	Kernel: 10.0.20348.2031
	Compiler: clang 15.0.7, gcc 8.1.0 (MinGW), and MSVC VS 17.9

Ubuntu 22.04
	Kernel: 5.4.0-167-generic
	Compiler: gcc 11.4.0

Alpine
	Kernel: 5.4.0-167-generic
	Compiler: gcc (Alpine 12.2.1_git20220924-r10) 12.2.1 20220924

To view detailed results, visit:
https://lab.dpdk.org/results/dashboard/patchsets/29793/

UNH-IOL DPDK Community Lab

To manage your email subscriptions, visit: 
https://lab.dpdk.org/results/dashboard/preferences/subscriptions/