From mboxrd@z Thu Jan  1 00:00:00 1970
Return-Path: <test-report-bounces@dpdk.org>
Received: from mails.dpdk.org (mails.dpdk.org [217.70.189.124])
	by inbox.dpdk.org (Postfix) with ESMTP id D8E4743E86
	for <public@inbox.dpdk.org>; Tue, 16 Apr 2024 18:15:10 +0200 (CEST)
Received: from mails.dpdk.org (localhost [127.0.0.1])
	by mails.dpdk.org (Postfix) with ESMTP id D06C740633;
	Tue, 16 Apr 2024 18:15:10 +0200 (CEST)
Received: from mail-il1-f227.google.com (mail-il1-f227.google.com
 [209.85.166.227])
 by mails.dpdk.org (Postfix) with ESMTP id 85E7640262
 for <test-report@dpdk.org>; Tue, 16 Apr 2024 18:15:09 +0200 (CEST)
Received: by mail-il1-f227.google.com with SMTP id
 e9e14a558f8ab-36a06a409caso22647305ab.3
 for <test-report@dpdk.org>; Tue, 16 Apr 2024 09:15:09 -0700 (PDT)
DKIM-Signature: v=1; a=rsa-sha256; c=relaxed/relaxed;
 d=iol.unh.edu; s=unh-iol; t=1713284109; x=1713888909; darn=dpdk.org;
 h=references:in-reply-to:cc:to:from:subject:message-id:date:from:to
 :cc:subject:date:message-id:reply-to;
 bh=NScw4J9N7cl2rLa5e/eS35wJFkK3MYvEQPtpjQd80t0=;
 b=cYYz2WVwZoTh/u6j9shVNkAMxVDAH9CvZ1ZsLF62aKTkYhxQgSA9jQm/tIzz9hjCCn
 YpMnSqTEWsslZ4Ja3+SqxYm7tJ6nLPSy5CO1ctqFLKAqMV/n/hqwXWBzbGgNSB7qFZDU
 EPRib9i+pHVcgqpY2nNGP0eMPBip2O/kbh6gQ=
X-Google-DKIM-Signature: v=1; a=rsa-sha256; c=relaxed/relaxed;
 d=1e100.net; s=20230601; t=1713284109; x=1713888909;
 h=references:in-reply-to:cc:to:from:subject:message-id:date
 :x-gm-message-state:from:to:cc:subject:date:message-id:reply-to;
 bh=NScw4J9N7cl2rLa5e/eS35wJFkK3MYvEQPtpjQd80t0=;
 b=Dbt35b7ncT9owy/ViYQhDm6dqq2n6UwYJdvfCuV03WtDVpjtMa1nZeLRScpsNNatds
 po4q7sCqI4IWN0bfQKYCcKwBlze5zWXYM8ft9Q6pcvvrsovSODs3K4hPtPma/m+sPya7
 tc7IoRYhE/mUBvstJJOayOCg+gWPQR6LU0nI0rbFc1OkiLfVXdDBlIkUKoSM5/6E8BW0
 qIk6E1XoK7/ilk36Umg+AwyMie5sBH6nzzAqBvPSThHxmidJMCNrWumgLit5f3l8OV7m
 RrLWqZmIfwLJ798UK14ezEGWhOE4+SGwEnbMdp0oNIF8A7uidW8CNeg8SN5UdFTpmhRB
 WMxA==
X-Gm-Message-State: AOJu0YxxzVkvDAucxabP93yPNqcT7CHABcjlIS4rOlGJwSusPiZ5N5d7
 sns4kaXE2wMB91m9BcwE374wklUhomzFEa7rkycuUgoOegv1U7jfr3PP2yKsr5kPVSwZ7Qv1fIF
 Wu4vdbI1pU8xkCznLdFixhkNKGfSWKJrxsohqmocl
X-Google-Smtp-Source: AGHT+IEyWFy7ERhdPQZCvEMlOx2MdKAItYbYu3raigCFkZeRYqEYiGTLL+uCloEKXVAG7pVAJJ/or6F9oQ6b
X-Received: by 2002:a5d:83cf:0:b0:7d9:633e:8cc6 with SMTP id
 u15-20020a5d83cf000000b007d9633e8cc6mr7796899ior.6.1713284108879; 
 Tue, 16 Apr 2024 09:15:08 -0700 (PDT)
Received: from postal.iol.unh.edu (postal.iol.unh.edu. [132.177.123.84])
 by smtp-relay.gmail.com with ESMTPS id
 bp24-20020a056638441800b00482f22d56e6sm424757jab.13.2024.04.16.09.15.08
 (version=TLS1_2 cipher=ECDHE-ECDSA-AES128-GCM-SHA256 bits=128/128);
 Tue, 16 Apr 2024 09:15:08 -0700 (PDT)
X-Relaying-Domain: iol.unh.edu
Date: Tue, 16 Apr 2024 09:15:08 -0700 (PDT)
Message-ID: <661ea40c.050a0220.aee02.54bdSMTPIN_ADDED_MISSING@mx.google.com>
Received: from [172.21.0.8] (unknown [172.18.0.240])
 by postal.iol.unh.edu (Postfix) with ESMTP id 5732C604A958;
 Tue, 16 Apr 2024 12:15:07 -0400 (EDT)
Subject: |SUCCESS| pw139420-139424 [PATCH] [5/5] drivers/net: use RTE_DIM
From: dpdklab@iol.unh.edu
To: Test Report <test-report@dpdk.org>
Cc: dpdk-test-reports@iol.unh.edu
In-Reply-To: <20240416152124.69590-6-stephen@networkplumber.org>
References: <20240416152124.69590-6-stephen@networkplumber.org>
Content-Type: text/plain
X-BeenThere: test-report@dpdk.org
X-Mailman-Version: 2.1.29
Precedence: list
List-Id: automatic DPDK test reports <test-report.dpdk.org>
List-Unsubscribe: <https://mails.dpdk.org/options/test-report>,
 <mailto:test-report-request@dpdk.org?subject=unsubscribe>
List-Archive: <http://mails.dpdk.org/archives/test-report/>
List-Post: <mailto:test-report@dpdk.org>
List-Help: <mailto:test-report-request@dpdk.org?subject=help>
List-Subscribe: <https://mails.dpdk.org/listinfo/test-report>,
 <mailto:test-report-request@dpdk.org?subject=subscribe>
Errors-To: test-report-bounces@dpdk.org

Test-Label: iol-compile-amd64-testing
Test-Status: SUCCESS
http://dpdk.org/patch/139424

_Testing PASS_

Submitter: Stephen Hemminger <stephen@networkplumber.org>
Date: Tuesday, April 16 2024 15:19:31 
DPDK git baseline: Repo:dpdk
  Branch: master
  CommitID:e2e546ab5bf5e024986ccb5310ab43982f3bb40c

139420-139424 --> testing pass

Test environment and result as below:

+---------------------+--------------------+----------------------+-------------------+
|     Environment     | dpdk_meson_compile | dpdk_mingw64_compile | dpdk_msvc_compile |
+=====================+====================+======================+===================+
| Debian 12           | PASS               | SKIPPED              | SKIPPED           |
+---------------------+--------------------+----------------------+-------------------+
| Debian Bullseye     | PASS               | SKIPPED              | SKIPPED           |
+---------------------+--------------------+----------------------+-------------------+
| CentOS Stream 9     | PASS               | SKIPPED              | SKIPPED           |
+---------------------+--------------------+----------------------+-------------------+
| CentOS Stream 8     | PASS               | SKIPPED              | SKIPPED           |
+---------------------+--------------------+----------------------+-------------------+
| Fedora 37           | PASS               | SKIPPED              | SKIPPED           |
+---------------------+--------------------+----------------------+-------------------+
| Windows Server 2019 | PASS               | PASS                 | SKIPPED           |
+---------------------+--------------------+----------------------+-------------------+
| FreeBSD 13.2        | PASS               | SKIPPED              | SKIPPED           |
+---------------------+--------------------+----------------------+-------------------+
| Fedora 39           | PASS               | SKIPPED              | SKIPPED           |
+---------------------+--------------------+----------------------+-------------------+
| openSUSE Leap 15    | PASS               | SKIPPED              | SKIPPED           |
+---------------------+--------------------+----------------------+-------------------+
| Windows Server 2022 | PASS               | PASS                 | PASS              |
+---------------------+--------------------+----------------------+-------------------+
| Ubuntu 22.04        | PASS               | SKIPPED              | SKIPPED           |
+---------------------+--------------------+----------------------+-------------------+
| Alpine              | PASS               | SKIPPED              | SKIPPED           |
+---------------------+--------------------+----------------------+-------------------+


Debian 12
	Kernel: Container Host Kernel
	Compiler: gcc 10.2.1

Debian Bullseye
	Kernel: 5.4.0-167-generic
	Compiler: gcc 10.2.1-6

CentOS Stream 9
	Kernel: 5.4.0-167-generic
	Compiler: gcc 11.4.1 20230605

CentOS Stream 8
	Kernel: 5.4.0-167-generic
	Compiler: gcc 8.5.0 20210514

Fedora 37
	Kernel: Depends on container host system
	Compiler: gcc 12.3.1

Windows Server 2019
	Kernel: 10.0.17763
	Compiler: clang 14.0 and gcc 8.1.0 (MinGW)

FreeBSD 13.2
	Kernel: 13.2
	Compiler: clang 14.0.5

Fedora 39
	Kernel: Depends on container host
	Compiler: gcc 13.2.1

openSUSE Leap 15
	Kernel: 5.4.0-167-generic
	Compiler: gcc 7.5.0

Windows Server 2022
	Kernel: 10.0.20348.2031
	Compiler: clang 15.0.7, gcc 8.1.0 (MinGW), and MSVC VS 17.9

Ubuntu 22.04
	Kernel: 5.4.0-167-generic
	Compiler: gcc 11.4.0

Alpine
	Kernel: 5.4.0-167-generic
	Compiler: gcc (Alpine 12.2.1_git20220924-r10) 12.2.1 20220924

To view detailed results, visit:
https://lab.dpdk.org/results/dashboard/patchsets/29793/

UNH-IOL DPDK Community Lab

To manage your email subscriptions, visit: 
https://lab.dpdk.org/results/dashboard/preferences/subscriptions/