From mboxrd@z Thu Jan  1 00:00:00 1970
Return-Path: <test-report-bounces@dpdk.org>
Received: from mails.dpdk.org (mails.dpdk.org [217.70.189.124])
	by inbox.dpdk.org (Postfix) with ESMTP id 297ED43E86
	for <public@inbox.dpdk.org>; Tue, 16 Apr 2024 18:21:12 +0200 (CEST)
Received: from mails.dpdk.org (localhost [127.0.0.1])
	by mails.dpdk.org (Postfix) with ESMTP id 20C7840268;
	Tue, 16 Apr 2024 18:21:12 +0200 (CEST)
Received: from mail-pl1-f225.google.com (mail-pl1-f225.google.com
 [209.85.214.225])
 by mails.dpdk.org (Postfix) with ESMTP id 516A240262
 for <test-report@dpdk.org>; Tue, 16 Apr 2024 18:21:09 +0200 (CEST)
Received: by mail-pl1-f225.google.com with SMTP id
 d9443c01a7336-1e4c4fb6af3so25772385ad.0
 for <test-report@dpdk.org>; Tue, 16 Apr 2024 09:21:09 -0700 (PDT)
DKIM-Signature: v=1; a=rsa-sha256; c=relaxed/relaxed;
 d=iol.unh.edu; s=unh-iol; t=1713284468; x=1713889268; darn=dpdk.org;
 h=references:in-reply-to:cc:to:from:subject:message-id:date:from:to
 :cc:subject:date:message-id:reply-to;
 bh=03O2qnZLjdk36hBLjxPIx/JVIDMpvckk8E9wwhZ0if0=;
 b=APl05YrLICTfbgmzPReEyCBTDKP2omK97xnFUnXBSioQOqPT+Yu6XdEIfKPtWLoM8R
 KkWkhHxZjkUtDQDw+QDqhWkbDyhWgxFTTaMFn2CG7vhFRrNkJWC6FtVyIQ2s2JMFqvoQ
 0HPJUWASEDsXQB3yrZd5ntuQKxPEZ7XaSDhO0=
X-Google-DKIM-Signature: v=1; a=rsa-sha256; c=relaxed/relaxed;
 d=1e100.net; s=20230601; t=1713284468; x=1713889268;
 h=references:in-reply-to:cc:to:from:subject:message-id:date
 :x-gm-message-state:from:to:cc:subject:date:message-id:reply-to;
 bh=03O2qnZLjdk36hBLjxPIx/JVIDMpvckk8E9wwhZ0if0=;
 b=W4PiUC82/FufzsRv8Y2Y28f895/1XZDuW7eKfc13HOjCHnd2I8F+IMyC3m/xyvjrED
 299DV86f3YDLH80j7VhV9+heP1plQf+pTefhrwJpIXSOOwc/nzELZ3g5gxlQ6wQPyBRf
 BwQao8SqrUAxMmMXPsWtAZc1hZ6/rybbTMw5+VhqGqOF9gZInzMKp4M24mKXvJ0gmW6k
 aYAeJ8dKPIrQFWOUMEg2RkIurvlBub9XVBpcXkWFOoDJ/fb4iJ3pXUgdLKChjwbrmcqC
 jzidehv3lCv4JMLI1L+3/NzorfMr1/jzXBHZMQZxlHnjuv/eeZOCrndl6Z7H3H+eArfg
 wiKw==
X-Gm-Message-State: AOJu0Yyf8DTa0yCBf8HGvVxZ9LOtl88Q1tmpVYleYnhvf8W1R68K5sbc
 PVT04TF+Mq//3WKwWrdkFizCdytCCFFghetWHyItDF6cVZwTyr4IpVJlTI6DIBb33+djPy1uW0c
 y0STCusV9FhXTJSjOCwuxJ5lqClJDnKl2AFpC1l1macnAoPvjaLnOEBNd
X-Google-Smtp-Source: AGHT+IGC1iE0VHk20JHDsH9r5pWQYFAOidZB6+WkNdHWsK4cKk6sjFQ/IvvvzMZfrMfmBFJd5Qg89cGPwTeq
X-Received: by 2002:a17:903:2348:b0:1e5:e664:9c12 with SMTP id
 c8-20020a170903234800b001e5e6649c12mr4876267plh.0.1713284468353; 
 Tue, 16 Apr 2024 09:21:08 -0700 (PDT)
Received: from postal.iol.unh.edu (postal.iol.unh.edu.
 [2606:4100:3880:1234::84]) by smtp-relay.gmail.com with ESMTPS id
 ks3-20020a170903084300b001e07420a2dfsm445379plb.44.2024.04.16.09.21.08
 (version=TLS1_2 cipher=ECDHE-ECDSA-AES128-GCM-SHA256 bits=128/128);
 Tue, 16 Apr 2024 09:21:08 -0700 (PDT)
X-Relaying-Domain: iol.unh.edu
Date: Tue, 16 Apr 2024 09:21:08 -0700 (PDT)
Message-ID: <661ea574.170a0220.8c71e.4a90SMTPIN_ADDED_MISSING@mx.google.com>
Received: from [172.21.0.7] (unknown [172.18.0.240])
 by postal.iol.unh.edu (Postfix) with ESMTP id 884A3604A958;
 Tue, 16 Apr 2024 12:21:07 -0400 (EDT)
Subject: |SUCCESS| pw139420-139424 [PATCH] [5/5] drivers/net: use RTE_DIM
From: dpdklab@iol.unh.edu
To: Test Report <test-report@dpdk.org>
Cc: dpdk-test-reports@iol.unh.edu
In-Reply-To: <20240416152124.69590-6-stephen@networkplumber.org>
References: <20240416152124.69590-6-stephen@networkplumber.org>
Content-Type: text/plain
X-BeenThere: test-report@dpdk.org
X-Mailman-Version: 2.1.29
Precedence: list
List-Id: automatic DPDK test reports <test-report.dpdk.org>
List-Unsubscribe: <https://mails.dpdk.org/options/test-report>,
 <mailto:test-report-request@dpdk.org?subject=unsubscribe>
List-Archive: <http://mails.dpdk.org/archives/test-report/>
List-Post: <mailto:test-report@dpdk.org>
List-Help: <mailto:test-report-request@dpdk.org?subject=help>
List-Subscribe: <https://mails.dpdk.org/listinfo/test-report>,
 <mailto:test-report-request@dpdk.org?subject=subscribe>
Errors-To: test-report-bounces@dpdk.org

Test-Label: iol-compile-arm64-testing
Test-Status: SUCCESS
http://dpdk.org/patch/139424

_Testing PASS_

Submitter: Stephen Hemminger <stephen@networkplumber.org>
Date: Tuesday, April 16 2024 15:19:31 
DPDK git baseline: Repo:dpdk
  Branch: master
  CommitID:e2e546ab5bf5e024986ccb5310ab43982f3bb40c

139420-139424 --> testing pass

Test environment and result as below:

+----------------------------------------+--------------------+
|              Environment               | dpdk_meson_compile |
+========================================+====================+
| Ubuntu 20.04 ARM SVE                   | PASS               |
+----------------------------------------+--------------------+
| Debian 12 with MUSDK                   | PASS               |
+----------------------------------------+--------------------+
| Fedora 37 (ARM)                        | PASS               |
+----------------------------------------+--------------------+
| Ubuntu 20.04 ARM GCC Cross Compile     | PASS               |
+----------------------------------------+--------------------+
| Fedora 38 (ARM)                        | PASS               |
+----------------------------------------+--------------------+
| Fedora 39 (ARM)                        | PASS               |
+----------------------------------------+--------------------+
| Ubuntu 20.04 (ARM)                     | PASS               |
+----------------------------------------+--------------------+
| CentOS Stream 9 (ARM)                  | PASS               |
+----------------------------------------+--------------------+
| Debian 12 (arm)                        | PASS               |
+----------------------------------------+--------------------+
| Debian 11 (Buster) (ARM)               | PASS               |
+----------------------------------------+--------------------+
| Ubuntu 20.04 aarch32 GCC Cross Compile | PASS               |
+----------------------------------------+--------------------+


Ubuntu 20.04 ARM SVE
	Kernel: 5.4.0-167-generic
	Compiler: gcc (Ubuntu 10.5.0-1ubuntu1~20.04) 10.5.0

Debian 12 with MUSDK
	Kernel: Container Host Kernel
	Compiler: gcc 12.2.0

Fedora 37 (ARM)
	Kernel: Depends on container host
	Compiler: gcc 12.3.1

Ubuntu 20.04 ARM GCC Cross Compile
	Kernel: 5.4.0-167-generic
	Compiler: aarch64-linux-gnu-gcc (Ubuntu 9.4.0-1ubuntu1~20.04.2) 9.4.0

Fedora 38 (ARM)
	Kernel: Depends on container host
	Compiler: gcc 13.2.1

Fedora 39 (ARM)
	Kernel: Depends on container host
	Compiler: gcc 13.2.1

Ubuntu 20.04 (ARM)
	Kernel: Container Host Kernel
	Compiler: gcc 9.4.0

CentOS Stream 9 (ARM)
	Kernel: Container Host Kernel
	Compiler: gcc 11.4.1

Debian 12 (arm)
	Kernel: Container Host Kernel
	Compiler: gcc 12.2.0

Debian 11 (Buster) (ARM)
	Kernel: Container Host Kernel
	Compiler: gcc 10.2.1

Ubuntu 20.04 aarch32 GCC Cross Compile
	Kernel: 5.4.0-167-generic
	Compiler: gcc 9.4.0

To view detailed results, visit:
https://lab.dpdk.org/results/dashboard/patchsets/29793/

UNH-IOL DPDK Community Lab

To manage your email subscriptions, visit: 
https://lab.dpdk.org/results/dashboard/preferences/subscriptions/