From mboxrd@z Thu Jan  1 00:00:00 1970
Return-Path: <test-report-bounces@dpdk.org>
Received: from mails.dpdk.org (mails.dpdk.org [217.70.189.124])
	by inbox.dpdk.org (Postfix) with ESMTP id 762AD43E86
	for <public@inbox.dpdk.org>; Tue, 16 Apr 2024 18:22:01 +0200 (CEST)
Received: from mails.dpdk.org (localhost [127.0.0.1])
	by mails.dpdk.org (Postfix) with ESMTP id 7226140268;
	Tue, 16 Apr 2024 18:22:01 +0200 (CEST)
Received: from mail-qv1-f98.google.com (mail-qv1-f98.google.com
 [209.85.219.98]) by mails.dpdk.org (Postfix) with ESMTP id 833CC40262
 for <test-report@dpdk.org>; Tue, 16 Apr 2024 18:21:59 +0200 (CEST)
Received: by mail-qv1-f98.google.com with SMTP id
 6a1803df08f44-69b47833dc5so13461966d6.0
 for <test-report@dpdk.org>; Tue, 16 Apr 2024 09:21:59 -0700 (PDT)
DKIM-Signature: v=1; a=rsa-sha256; c=relaxed/relaxed;
 d=iol.unh.edu; s=unh-iol; t=1713284519; x=1713889319; darn=dpdk.org;
 h=references:in-reply-to:cc:to:from:subject:message-id:date:from:to
 :cc:subject:date:message-id:reply-to;
 bh=03O2qnZLjdk36hBLjxPIx/JVIDMpvckk8E9wwhZ0if0=;
 b=iSzXmVCj8Rd7OMFMnQyS/6LlYlS8UYfNTajwUBsjH65qurIxMPMzYUI7mQZTEvAjr+
 UM4REwGscN4COTlOfUK3lXtS5V/g6FPy0EsqpeTH8WgIl/cVaR0HUd35CKSHfw8SGmkY
 MohvE3PGU4Tb17RwGwIHb5YB5KR7MshR6/618=
X-Google-DKIM-Signature: v=1; a=rsa-sha256; c=relaxed/relaxed;
 d=1e100.net; s=20230601; t=1713284519; x=1713889319;
 h=references:in-reply-to:cc:to:from:subject:message-id:date
 :x-gm-message-state:from:to:cc:subject:date:message-id:reply-to;
 bh=03O2qnZLjdk36hBLjxPIx/JVIDMpvckk8E9wwhZ0if0=;
 b=v5Oqm4le6LQdCqzvFsCB+fGXTBtW6z7i4uSuKQCxkNZpmY6/ktmusYfbd5cMl5bAQI
 EXtaMhSm/lXP8VIudYl4KJwusHFGrgUcut+AS9+O2ca723scIyRkbjHH5saTHuB7tiaO
 M/xbTx/S+hfQdsmFwvX12TW1B1q9xf0url7u3+qUHWxKXRrmPXAMZ8g6xrSD7ZThH7hA
 hKARNuiiSFNX5QgdAQPnRUEARDGZQW5Z0Qql72HRU98KqEg9Lo1JC9B4l6S2nUt1WxPI
 erVSwdgtmaRAtMOpvsKlD8oKLaDuXoGJ48Oy73C50pB57I68/FcXjsycQzF8H3CkSiUH
 pUNA==
X-Gm-Message-State: AOJu0Yyf1H129+w5akIhYfpDp5ObXsk20Fp+ooPvCLXvzIZRXWQF2C9M
 pJQcTT7wm52S+V18l6bTo2VO3p8xNnt6nZCFcvBnJb7lS3Qely9H8N+3BxXit/m8y9iZ1KwHEls
 coxqEFdJcIbiEdJ9+e/Ukj5G8JyoCZHNR1TWmxF4Q
X-Google-Smtp-Source: AGHT+IEcLmEmoSlEsQhr5cSebJ+dA0TBFUGy7GzFaug7MxFCjq178dK7Y80xSJSgB5EZWgR3KD/nmNhpddtj
X-Received: by 2002:a05:6214:14a9:b0:69c:3b4:301e with SMTP id
 bo9-20020a05621414a900b0069c03b4301emr4152808qvb.31.1713284518853; 
 Tue, 16 Apr 2024 09:21:58 -0700 (PDT)
Received: from postal.iol.unh.edu (postal.iol.unh.edu. [132.177.123.84])
 by smtp-relay.gmail.com with ESMTPS id
 r14-20020a0562140c4e00b006993b91064csm1021697qvj.10.2024.04.16.09.21.58
 (version=TLS1_2 cipher=ECDHE-ECDSA-AES128-GCM-SHA256 bits=128/128);
 Tue, 16 Apr 2024 09:21:58 -0700 (PDT)
X-Relaying-Domain: iol.unh.edu
Date: Tue, 16 Apr 2024 09:21:58 -0700 (PDT)
Message-ID: <661ea5a6.050a0220.2bcdd.31d1SMTPIN_ADDED_MISSING@mx.google.com>
Received: from [172.21.0.6] (unknown [172.18.0.240])
 by postal.iol.unh.edu (Postfix) with ESMTP id 88F6F604A958;
 Tue, 16 Apr 2024 12:21:58 -0400 (EDT)
Subject: |SUCCESS| pw139420-139424 [PATCH] [5/5] drivers/net: use RTE_DIM
From: dpdklab@iol.unh.edu
To: Test Report <test-report@dpdk.org>
Cc: dpdk-test-reports@iol.unh.edu
In-Reply-To: <20240416152124.69590-6-stephen@networkplumber.org>
References: <20240416152124.69590-6-stephen@networkplumber.org>
Content-Type: text/plain
X-BeenThere: test-report@dpdk.org
X-Mailman-Version: 2.1.29
Precedence: list
List-Id: automatic DPDK test reports <test-report.dpdk.org>
List-Unsubscribe: <https://mails.dpdk.org/options/test-report>,
 <mailto:test-report-request@dpdk.org?subject=unsubscribe>
List-Archive: <http://mails.dpdk.org/archives/test-report/>
List-Post: <mailto:test-report@dpdk.org>
List-Help: <mailto:test-report-request@dpdk.org?subject=help>
List-Subscribe: <https://mails.dpdk.org/listinfo/test-report>,
 <mailto:test-report-request@dpdk.org?subject=subscribe>
Errors-To: test-report-bounces@dpdk.org

Test-Label: iol-compile-arm64-testing
Test-Status: SUCCESS
http://dpdk.org/patch/139424

_Testing PASS_

Submitter: Stephen Hemminger <stephen@networkplumber.org>
Date: Tuesday, April 16 2024 15:19:31 
DPDK git baseline: Repo:dpdk
  Branch: master
  CommitID:e2e546ab5bf5e024986ccb5310ab43982f3bb40c

139420-139424 --> testing pass

Test environment and result as below:

+----------------------------------------+--------------------+
|              Environment               | dpdk_meson_compile |
+========================================+====================+
| Ubuntu 20.04 ARM SVE                   | PASS               |
+----------------------------------------+--------------------+
| Debian 12 with MUSDK                   | PASS               |
+----------------------------------------+--------------------+
| Fedora 37 (ARM)                        | PASS               |
+----------------------------------------+--------------------+
| Ubuntu 20.04 ARM GCC Cross Compile     | PASS               |
+----------------------------------------+--------------------+
| Fedora 38 (ARM)                        | PASS               |
+----------------------------------------+--------------------+
| Fedora 39 (ARM)                        | PASS               |
+----------------------------------------+--------------------+
| Ubuntu 20.04 (ARM)                     | PASS               |
+----------------------------------------+--------------------+
| CentOS Stream 9 (ARM)                  | PASS               |
+----------------------------------------+--------------------+
| Debian 12 (arm)                        | PASS               |
+----------------------------------------+--------------------+
| Debian 11 (Buster) (ARM)               | PASS               |
+----------------------------------------+--------------------+
| Ubuntu 20.04 aarch32 GCC Cross Compile | PASS               |
+----------------------------------------+--------------------+


Ubuntu 20.04 ARM SVE
	Kernel: 5.4.0-167-generic
	Compiler: gcc (Ubuntu 10.5.0-1ubuntu1~20.04) 10.5.0

Debian 12 with MUSDK
	Kernel: Container Host Kernel
	Compiler: gcc 12.2.0

Fedora 37 (ARM)
	Kernel: Depends on container host
	Compiler: gcc 12.3.1

Ubuntu 20.04 ARM GCC Cross Compile
	Kernel: 5.4.0-167-generic
	Compiler: aarch64-linux-gnu-gcc (Ubuntu 9.4.0-1ubuntu1~20.04.2) 9.4.0

Fedora 38 (ARM)
	Kernel: Depends on container host
	Compiler: gcc 13.2.1

Fedora 39 (ARM)
	Kernel: Depends on container host
	Compiler: gcc 13.2.1

Ubuntu 20.04 (ARM)
	Kernel: Container Host Kernel
	Compiler: gcc 9.4.0

CentOS Stream 9 (ARM)
	Kernel: Container Host Kernel
	Compiler: gcc 11.4.1

Debian 12 (arm)
	Kernel: Container Host Kernel
	Compiler: gcc 12.2.0

Debian 11 (Buster) (ARM)
	Kernel: Container Host Kernel
	Compiler: gcc 10.2.1

Ubuntu 20.04 aarch32 GCC Cross Compile
	Kernel: 5.4.0-167-generic
	Compiler: gcc 9.4.0

To view detailed results, visit:
https://lab.dpdk.org/results/dashboard/patchsets/29793/

UNH-IOL DPDK Community Lab

To manage your email subscriptions, visit: 
https://lab.dpdk.org/results/dashboard/preferences/subscriptions/