From mboxrd@z Thu Jan  1 00:00:00 1970
Return-Path: <test-report-bounces@dpdk.org>
Received: from mails.dpdk.org (mails.dpdk.org [217.70.189.124])
	by inbox.dpdk.org (Postfix) with ESMTP id B954E43E86
	for <public@inbox.dpdk.org>; Tue, 16 Apr 2024 18:22:48 +0200 (CEST)
Received: from mails.dpdk.org (localhost [127.0.0.1])
	by mails.dpdk.org (Postfix) with ESMTP id B4F0C40268;
	Tue, 16 Apr 2024 18:22:48 +0200 (CEST)
Received: from mail-pf1-f225.google.com (mail-pf1-f225.google.com
 [209.85.210.225])
 by mails.dpdk.org (Postfix) with ESMTP id 4474240262
 for <test-report@dpdk.org>; Tue, 16 Apr 2024 18:22:47 +0200 (CEST)
Received: by mail-pf1-f225.google.com with SMTP id
 d2e1a72fcca58-6ecf3943040so3705007b3a.0
 for <test-report@dpdk.org>; Tue, 16 Apr 2024 09:22:47 -0700 (PDT)
DKIM-Signature: v=1; a=rsa-sha256; c=relaxed/relaxed;
 d=iol.unh.edu; s=unh-iol; t=1713284566; x=1713889366; darn=dpdk.org;
 h=references:in-reply-to:cc:to:from:subject:message-id:date:from:to
 :cc:subject:date:message-id:reply-to;
 bh=0Qk8UCgeNaVJxAEuszCtSXaJy4Qh5Ukj/N5A9tXcQZI=;
 b=Cs6+zWSn6mCY9jR4VbvaZijqj8vfixbfH+w65CFPY2Cwrm4xQg29weYNG2q+69UKA2
 97oJchG6eKv2q4ehYRwO2FLNn3cpRu4PmaWBWySjy7/L/mgG4zPpa69Xi2ERVIGPwAWf
 M2BBHQmEsgEETId8n+Mq6k4uyVWwtOJZcsdiM=
X-Google-DKIM-Signature: v=1; a=rsa-sha256; c=relaxed/relaxed;
 d=1e100.net; s=20230601; t=1713284566; x=1713889366;
 h=references:in-reply-to:cc:to:from:subject:message-id:date
 :x-gm-message-state:from:to:cc:subject:date:message-id:reply-to;
 bh=0Qk8UCgeNaVJxAEuszCtSXaJy4Qh5Ukj/N5A9tXcQZI=;
 b=Bl4N8BQRjnf/u8RxxMAz0UGOzLd+nc7+CdU+dABcI+erLwPNIwbN7R1+TxOcCC3bEN
 9pTAllEDA37JMidk+su5QWK/S8VbewNHjZiQdcd82WXnlN4f6Igxu4CPcnEBx7gvV6sQ
 B+cDjWnDKlOwajWK+vSEMs+JnQdZEXy56F41kTjwXU7rvwo+6i7QQjTkXBggRSGBTVw/
 Hr0ovunRZO1SCzS6MObbHo5dInS5/fWL5odWdE7/ybnAjdKMg1x2OCeHsMyXxQhPWjII
 1hWe1FfcEnCJSVP45V8tu6+jZFwunL6DNCMrp3n4BeB2gzY3ipRa8WecU2UXc4Ro/8GW
 CASQ==
X-Gm-Message-State: AOJu0YyaMZSnteI1mlTOWP3bIMy4UmnEPPmYNbAI195AVXAGBeMxdiH6
 WslgHxP/+rvQD7X3gW3FE0MNIToheJlUkFDtxhlO6L6FaZ4JotaEfTbo/QoXef+K6NOnKVMZB58
 pftN9SbljhccuA0066cqyGE2eoJlsG2VjJIzFJx9jvRWG5uzXrpoaT0bl
X-Google-Smtp-Source: AGHT+IGy6dEfzZnb1hoTM/A0bB26TMwUejrTWM4p2DvFo3nYp1ChjHC3OJkEtjQ5/96E9WWbwL1WzAu115Yi
X-Received: by 2002:a05:6a00:cd3:b0:6ed:d3af:1070 with SMTP id
 b19-20020a056a000cd300b006edd3af1070mr17083832pfv.32.1713284566390; 
 Tue, 16 Apr 2024 09:22:46 -0700 (PDT)
Received: from postal.iol.unh.edu (postal.iol.unh.edu.
 [2606:4100:3880:1234::84]) by smtp-relay.gmail.com with ESMTPS id
 y40-20020a056a00182800b006ed2f947414sm969494pfa.14.2024.04.16.09.22.46
 (version=TLS1_2 cipher=ECDHE-ECDSA-AES128-GCM-SHA256 bits=128/128);
 Tue, 16 Apr 2024 09:22:46 -0700 (PDT)
X-Relaying-Domain: iol.unh.edu
Date: Tue, 16 Apr 2024 09:22:46 -0700 (PDT)
Message-ID: <661ea5d6.050a0220.8e64b.e25eSMTPIN_ADDED_MISSING@mx.google.com>
Received: from [172.21.0.6] (unknown [172.18.0.240])
 by postal.iol.unh.edu (Postfix) with ESMTP id D891F604A958;
 Tue, 16 Apr 2024 12:22:45 -0400 (EDT)
Subject: |SUCCESS| pw139420-139424 [PATCH] [5/5] drivers/net: use RTE_DIM
From: dpdklab@iol.unh.edu
To: Test Report <test-report@dpdk.org>
Cc: dpdk-test-reports@iol.unh.edu
In-Reply-To: <20240416152124.69590-6-stephen@networkplumber.org>
References: <20240416152124.69590-6-stephen@networkplumber.org>
Content-Type: text/plain
X-BeenThere: test-report@dpdk.org
X-Mailman-Version: 2.1.29
Precedence: list
List-Id: automatic DPDK test reports <test-report.dpdk.org>
List-Unsubscribe: <https://mails.dpdk.org/options/test-report>,
 <mailto:test-report-request@dpdk.org?subject=unsubscribe>
List-Archive: <http://mails.dpdk.org/archives/test-report/>
List-Post: <mailto:test-report@dpdk.org>
List-Help: <mailto:test-report-request@dpdk.org?subject=help>
List-Subscribe: <https://mails.dpdk.org/listinfo/test-report>,
 <mailto:test-report-request@dpdk.org?subject=subscribe>
Errors-To: test-report-bounces@dpdk.org

Test-Label: iol-unit-arm64-testing
Test-Status: SUCCESS
http://dpdk.org/patch/139424

_Testing PASS_

Submitter: Stephen Hemminger <stephen@networkplumber.org>
Date: Tuesday, April 16 2024 15:19:31 
DPDK git baseline: Repo:dpdk
  Branch: master
  CommitID:e2e546ab5bf5e024986ccb5310ab43982f3bb40c

139420-139424 --> testing pass

Test environment and result as below:

+--------------------------+----------------+
|       Environment        | dpdk_unit_test |
+==========================+================+
| Debian 12 (arm)          | PASS           |
+--------------------------+----------------+
| Debian 11 (Buster) (ARM) | PASS           |
+--------------------------+----------------+
| CentOS Stream 9 (ARM)    | PASS           |
+--------------------------+----------------+
| Fedora 37 (ARM)          | PASS           |
+--------------------------+----------------+
| Fedora 39 (ARM)          | PASS           |
+--------------------------+----------------+


Debian 12 (arm)
	Kernel: Container Host Kernel
	Compiler: gcc 12.2.0

Debian 11 (Buster) (ARM)
	Kernel: Container Host Kernel
	Compiler: gcc 10.2.1

CentOS Stream 9 (ARM)
	Kernel: Container Host Kernel
	Compiler: gcc 11.4.1

Fedora 37 (ARM)
	Kernel: Depends on container host
	Compiler: gcc 12.3.1

Fedora 39 (ARM)
	Kernel: Depends on container host
	Compiler: gcc 13.2.1

To view detailed results, visit:
https://lab.dpdk.org/results/dashboard/patchsets/29793/

UNH-IOL DPDK Community Lab

To manage your email subscriptions, visit: 
https://lab.dpdk.org/results/dashboard/preferences/subscriptions/