From mboxrd@z Thu Jan  1 00:00:00 1970
Return-Path: <test-report-bounces@dpdk.org>
Received: from mails.dpdk.org (mails.dpdk.org [217.70.189.124])
	by inbox.dpdk.org (Postfix) with ESMTP id 7E5F143E86
	for <public@inbox.dpdk.org>; Tue, 16 Apr 2024 19:09:10 +0200 (CEST)
Received: from mails.dpdk.org (localhost [127.0.0.1])
	by mails.dpdk.org (Postfix) with ESMTP id 79FAE40268;
	Tue, 16 Apr 2024 19:09:10 +0200 (CEST)
Received: from mail-qv1-f97.google.com (mail-qv1-f97.google.com
 [209.85.219.97]) by mails.dpdk.org (Postfix) with ESMTP id CFA9D40262
 for <test-report@dpdk.org>; Tue, 16 Apr 2024 19:09:08 +0200 (CEST)
Received: by mail-qv1-f97.google.com with SMTP id
 6a1803df08f44-69b4e94ecd2so14972706d6.3
 for <test-report@dpdk.org>; Tue, 16 Apr 2024 10:09:08 -0700 (PDT)
DKIM-Signature: v=1; a=rsa-sha256; c=relaxed/relaxed;
 d=iol.unh.edu; s=unh-iol; t=1713287348; x=1713892148; darn=dpdk.org;
 h=references:in-reply-to:cc:to:from:subject:message-id:date:from:to
 :cc:subject:date:message-id:reply-to;
 bh=ljlJJjVTtcJpRkFbQLpiUBcJQAmdWCdGdtgYoI/+sGo=;
 b=dsSgDEu+4qdHhsDs+GBabKc+wpyu6lxzPyTFhUKodOJZ9VRDx/KSf8mVq5BbM/lk1u
 nS934mMfm78UfIKOEPEC56YYldlKPL5u2eQ2ufCQrwGvLeNyuHI3zuH00YQO486V+luO
 yPf4oANBrb3xOtOaSQ5B8ALAoEUYl4opHRy/Q=
X-Google-DKIM-Signature: v=1; a=rsa-sha256; c=relaxed/relaxed;
 d=1e100.net; s=20230601; t=1713287348; x=1713892148;
 h=references:in-reply-to:cc:to:from:subject:message-id:date
 :x-gm-message-state:from:to:cc:subject:date:message-id:reply-to;
 bh=ljlJJjVTtcJpRkFbQLpiUBcJQAmdWCdGdtgYoI/+sGo=;
 b=l6Ib06lQOQAF3z4UimzWlMiW5ROzt72cdB+txIVI2LbtvGT1SwSJGmD2jkWASYiFs0
 c6zN9TCKCc40NLDgLXWPdk8K2HNpl8NsjzB1d7sD7pmSbW7I78pVXKNM3KEsY0JQjI7k
 gF1+B6XHHH8Rxlk5yowlPKByGMvfSKZNW+NS0rrEY0wERyI5G9K816U1sF40jJdaALfH
 MYLoLMBILVVWn/rZjjLZIYQcsPKRJXQUW3QvGhXsrmgpCoWzWODylG00mQYr6nuTfMLR
 9snYxwINPa2RQOiim1VvWD3zK97ReE/CooMlXJKrv2cyS/EHSr5UHiEnrHi20P7I8FPh
 FV5Q==
X-Gm-Message-State: AOJu0Yz0uxbj7JDeCwj9ix+e/cxdc2S8QD5hsb6jqZI4MTo2OrLv+TF/
 x42HfwNppkOLYLgPLOKUU2P/gL69c9i9F8hxYTOV0fwYrfcFpDDy4sEun4pPGwUL/e4+PXeFkNB
 ZePDdxF3hiCu+tu+z6wKiIhMStYR4vXOdXxSCtPsd
X-Google-Smtp-Source: AGHT+IE8rKyI6NQ5qmXtn+wdUD4JxGJpLvwEfG0QMfzbpRNh6jYD1c3s54u0vTJnfeuA2R1sb8huQSmC1c1H
X-Received: by 2002:ad4:4105:0:b0:699:41c6:b824 with SMTP id
 i5-20020ad44105000000b0069941c6b824mr13547469qvp.0.1713287348295; 
 Tue, 16 Apr 2024 10:09:08 -0700 (PDT)
Received: from postal.iol.unh.edu (postal.iol.unh.edu. [132.177.123.84])
 by smtp-relay.gmail.com with ESMTPS id
 iu11-20020ad45ccb000000b006967230799csm1020540qvb.16.2024.04.16.10.09.08
 (version=TLS1_2 cipher=ECDHE-ECDSA-AES128-GCM-SHA256 bits=128/128);
 Tue, 16 Apr 2024 10:09:08 -0700 (PDT)
X-Relaying-Domain: iol.unh.edu
Date: Tue, 16 Apr 2024 10:09:08 -0700 (PDT)
Message-ID: <661eb0b4.d40a0220.221e2.2d1cSMTPIN_ADDED_MISSING@mx.google.com>
Received: from [172.21.0.6] (unknown [172.18.0.240])
 by postal.iol.unh.edu (Postfix) with ESMTP id CAF0A604A958;
 Tue, 16 Apr 2024 13:09:07 -0400 (EDT)
Subject: |SUCCESS| pw139420-139424 [PATCH] [5/5] drivers/net: use RTE_DIM
From: dpdklab@iol.unh.edu
To: Test Report <test-report@dpdk.org>
Cc: dpdk-test-reports@iol.unh.edu
In-Reply-To: <20240416152124.69590-6-stephen@networkplumber.org>
References: <20240416152124.69590-6-stephen@networkplumber.org>
Content-Type: text/plain
X-BeenThere: test-report@dpdk.org
X-Mailman-Version: 2.1.29
Precedence: list
List-Id: automatic DPDK test reports <test-report.dpdk.org>
List-Unsubscribe: <https://mails.dpdk.org/options/test-report>,
 <mailto:test-report-request@dpdk.org?subject=unsubscribe>
List-Archive: <http://mails.dpdk.org/archives/test-report/>
List-Post: <mailto:test-report@dpdk.org>
List-Help: <mailto:test-report-request@dpdk.org?subject=help>
List-Subscribe: <https://mails.dpdk.org/listinfo/test-report>,
 <mailto:test-report-request@dpdk.org?subject=subscribe>
Errors-To: test-report-bounces@dpdk.org

Test-Label: iol-unit-amd64-testing
Test-Status: SUCCESS
http://dpdk.org/patch/139424

_Testing PASS_

Submitter: Stephen Hemminger <stephen@networkplumber.org>
Date: Tuesday, April 16 2024 15:19:31 
DPDK git baseline: Repo:dpdk
  Branch: master
  CommitID:e2e546ab5bf5e024986ccb5310ab43982f3bb40c

139420-139424 --> testing pass

Test environment and result as below:

+---------------------+----------------+
|     Environment     | dpdk_unit_test |
+=====================+================+
| Windows Server 2019 | PASS           |
+---------------------+----------------+
| CentOS Stream 9     | PASS           |
+---------------------+----------------+
| CentOS Stream 8     | PASS           |
+---------------------+----------------+
| Debian Bullseye     | PASS           |
+---------------------+----------------+
| Debian 12           | PASS           |
+---------------------+----------------+
| Fedora 37           | PASS           |
+---------------------+----------------+
| Fedora 39           | PASS           |
+---------------------+----------------+
| Fedora 38           | PASS           |
+---------------------+----------------+
| openSUSE Leap 15    | PASS           |
+---------------------+----------------+
| Ubuntu 20.04        | PASS           |
+---------------------+----------------+
| Windows Server 2022 | PASS           |
+---------------------+----------------+
| Ubuntu 22.04        | PASS           |
+---------------------+----------------+
| RHEL8               | PASS           |
+---------------------+----------------+


Windows Server 2019
	Kernel: 10.0.17763
	Compiler: clang 14.0 and gcc 8.1.0 (MinGW)

CentOS Stream 9
	Kernel: 5.4.0-167-generic
	Compiler: gcc 11.4.1 20230605

CentOS Stream 8
	Kernel: 5.4.0-167-generic
	Compiler: gcc 8.5.0 20210514

Debian Bullseye
	Kernel: 5.4.0-167-generic
	Compiler: gcc 10.2.1-6

Debian 12
	Kernel: Container Host Kernel
	Compiler: gcc 10.2.1

Fedora 37
	Kernel: Depends on container host system
	Compiler: gcc 12.3.1

Fedora 39
	Kernel: Depends on container host
	Compiler: gcc 13.2.1

Fedora 38
	Kernel: Depends on container host
	Compiler: gcc 13.2.1

openSUSE Leap 15
	Kernel: 5.4.0-167-generic
	Compiler: gcc 7.5.0

Ubuntu 20.04
	Kernel: 5.4.0-167-generic
	Compiler: gcc 9.4.0-1ubuntu1~20.04.1

Windows Server 2022
	Kernel: 10.0.20348.2031
	Compiler: clang 15.0.7, gcc 8.1.0 (MinGW), and MSVC VS 17.9

Ubuntu 22.04
	Kernel: 5.4.0-167-generic
	Compiler: gcc 11.4.0

RHEL8
	Kernel: 5.4.0-167-generic
	Compiler: gcc 8.5.0 20210514 (Red Hat 8.5.0-20)

To view detailed results, visit:
https://lab.dpdk.org/results/dashboard/patchsets/29793/

UNH-IOL DPDK Community Lab

To manage your email subscriptions, visit: 
https://lab.dpdk.org/results/dashboard/preferences/subscriptions/