From mboxrd@z Thu Jan  1 00:00:00 1970
Return-Path: <test-report-bounces@dpdk.org>
Received: from mails.dpdk.org (mails.dpdk.org [217.70.189.124])
	by inbox.dpdk.org (Postfix) with ESMTP id B67F443E86
	for <public@inbox.dpdk.org>; Tue, 16 Apr 2024 19:28:31 +0200 (CEST)
Received: from mails.dpdk.org (localhost [127.0.0.1])
	by mails.dpdk.org (Postfix) with ESMTP id B11E140268;
	Tue, 16 Apr 2024 19:28:31 +0200 (CEST)
Received: from mail-qk1-f228.google.com (mail-qk1-f228.google.com
 [209.85.222.228])
 by mails.dpdk.org (Postfix) with ESMTP id D029B40262
 for <test-report@dpdk.org>; Tue, 16 Apr 2024 19:28:30 +0200 (CEST)
Received: by mail-qk1-f228.google.com with SMTP id
 af79cd13be357-78efd0fcec4so8085485a.1
 for <test-report@dpdk.org>; Tue, 16 Apr 2024 10:28:30 -0700 (PDT)
DKIM-Signature: v=1; a=rsa-sha256; c=relaxed/relaxed;
 d=iol.unh.edu; s=unh-iol; t=1713288510; x=1713893310; darn=dpdk.org;
 h=references:in-reply-to:cc:to:from:subject:message-id:date:from:to
 :cc:subject:date:message-id:reply-to;
 bh=sUl5qSzYHofBkKLRA+NpfljyZd2TGqcqYKVFYRxMvVg=;
 b=Y/DFn0WPBF8L6wBYR/WBL0OeohdWy9qjy0Fx+yq+L9W9qvtf1qkU8xIpjtDTio3+pb
 rEUrRAO/Ee36Y8xku/cqN1st+02xcUqGFHDEOm5qeUQw0VNx5ud9g2GD6FhtL8F2Dur6
 dkpBOhK26LaCJzgY0Q234JupQ4TKc1g6lUuz8=
X-Google-DKIM-Signature: v=1; a=rsa-sha256; c=relaxed/relaxed;
 d=1e100.net; s=20230601; t=1713288510; x=1713893310;
 h=references:in-reply-to:cc:to:from:subject:message-id:date
 :x-gm-message-state:from:to:cc:subject:date:message-id:reply-to;
 bh=sUl5qSzYHofBkKLRA+NpfljyZd2TGqcqYKVFYRxMvVg=;
 b=dMz++n0gcKP5hQhi70X/7O/BuV43fNSNmKy44KYkcR9cIdoJYAh9BZzKKTTOT/+CkH
 D/gBBNpxaqHbNFDWZ+scj74NOfqAj2B0loF7MPVL39MIloCDcgar7Mrl1zvpwgdNUXJ4
 aAJ+N5pB01E/Dbsy/x2dD9vkxJvMEUaB+zDvv9cFp3l0hmeO1ICjgNvKOfspRsK3ONzT
 qqW24ZHvpuHbbZ+85rnr/AHU00XtZMQHYJ+V+DrFfAuDPwG/BvFpKSuYfVU15JCy78IR
 0/YIM8KdNYWtgK2gQzrUOE11W7DizvRCjnjIO5xibRy8Shbr6EEx06b8dTx4UIabucsU
 Bseg==
X-Gm-Message-State: AOJu0YzN0g1U8YHd2/TZoknJrqpqYW5+ngY5ltXOAoQ7wdCIjnXD7DPF
 pbIAAVy0sDS60/zTLHALxU4575T0r5DMawohRC4qfNMq1p4x3O3bkrDNNqQAj3RKt0x1Ow8UUgD
 V5Zdc351+Xec5LL2SDQZG/yVgJHRVWJ9Wtw/K+59gb4aKhhxnkSCD0eNS
X-Google-Smtp-Source: AGHT+IEgORiwAW5lGmFj/W6NmCCsKblK2pgOTfuGB+1yJL/TzGvZ6RhfrF6tNzZyNCA3sPBu4H4O65bLGJs3
X-Received: by 2002:a0c:ed41:0:b0:69b:601f:8f02 with SMTP id
 v1-20020a0ced41000000b0069b601f8f02mr11331171qvq.28.1713288510314; 
 Tue, 16 Apr 2024 10:28:30 -0700 (PDT)
Received: from postal.iol.unh.edu (postal.iol.unh.edu.
 [2606:4100:3880:1234::84]) by smtp-relay.gmail.com with ESMTPS id
 jq13-20020ad45fcd000000b006967b80b648sm1002568qvb.9.2024.04.16.10.28.30
 (version=TLS1_2 cipher=ECDHE-ECDSA-AES128-GCM-SHA256 bits=128/128);
 Tue, 16 Apr 2024 10:28:30 -0700 (PDT)
X-Relaying-Domain: iol.unh.edu
Date: Tue, 16 Apr 2024 10:28:30 -0700 (PDT)
Message-ID: <661eb53e.d40a0220.6e919.0b81SMTPIN_ADDED_MISSING@mx.google.com>
Received: from [172.17.0.5] (unknown [172.18.0.217])
 by postal.iol.unh.edu (Postfix) with ESMTP id 12471604A958;
 Tue, 16 Apr 2024 13:28:30 -0400 (EDT)
Subject: |SUCCESS| pw139419 [PATCH] [v2] usertools: add telemetry exporter
From: dpdklab@iol.unh.edu
To: Test Report <test-report@dpdk.org>
Cc: dpdk-test-reports@iol.unh.edu
In-Reply-To: <20240416134620.64277-3-rjarry@redhat.com>
References: <20240416134620.64277-3-rjarry@redhat.com>
Content-Type: text/plain
X-BeenThere: test-report@dpdk.org
X-Mailman-Version: 2.1.29
Precedence: list
List-Id: automatic DPDK test reports <test-report.dpdk.org>
List-Unsubscribe: <https://mails.dpdk.org/options/test-report>,
 <mailto:test-report-request@dpdk.org?subject=unsubscribe>
List-Archive: <http://mails.dpdk.org/archives/test-report/>
List-Post: <mailto:test-report@dpdk.org>
List-Help: <mailto:test-report-request@dpdk.org?subject=help>
List-Subscribe: <https://mails.dpdk.org/listinfo/test-report>,
 <mailto:test-report-request@dpdk.org?subject=subscribe>
Errors-To: test-report-bounces@dpdk.org

Test-Label: iol-compile-amd64-testing
Test-Status: SUCCESS
http://dpdk.org/patch/139419

_Testing PASS_

Submitter: Robin Jarry <rjarry@redhat.com>
Date: Tuesday, April 16 2024 13:46:22 
DPDK git baseline: Repo:dpdk
  Branch: master
  CommitID:e2e546ab5bf5e024986ccb5310ab43982f3bb40c

139419 --> testing pass

Test environment and result as below:

+---------------------+--------------------+----------------------+-------------------+
|     Environment     | dpdk_meson_compile | dpdk_mingw64_compile | dpdk_msvc_compile |
+=====================+====================+======================+===================+
| Debian 12           | PASS               | SKIPPED              | SKIPPED           |
+---------------------+--------------------+----------------------+-------------------+
| CentOS Stream 9     | PASS               | SKIPPED              | SKIPPED           |
+---------------------+--------------------+----------------------+-------------------+
| Debian Bullseye     | PASS               | SKIPPED              | SKIPPED           |
+---------------------+--------------------+----------------------+-------------------+
| CentOS Stream 8     | PASS               | SKIPPED              | SKIPPED           |
+---------------------+--------------------+----------------------+-------------------+
| Fedora 37           | PASS               | SKIPPED              | SKIPPED           |
+---------------------+--------------------+----------------------+-------------------+
| openSUSE Leap 15    | PASS               | SKIPPED              | SKIPPED           |
+---------------------+--------------------+----------------------+-------------------+
| FreeBSD 13.2        | PASS               | SKIPPED              | SKIPPED           |
+---------------------+--------------------+----------------------+-------------------+
| Fedora 39           | PASS               | SKIPPED              | SKIPPED           |
+---------------------+--------------------+----------------------+-------------------+
| Windows Server 2019 | PASS               | PASS                 | SKIPPED           |
+---------------------+--------------------+----------------------+-------------------+
| Windows Server 2022 | PASS               | PASS                 | PASS              |
+---------------------+--------------------+----------------------+-------------------+
| Ubuntu 20.04        | PASS               | SKIPPED              | SKIPPED           |
+---------------------+--------------------+----------------------+-------------------+
| Ubuntu 22.04        | PASS               | SKIPPED              | SKIPPED           |
+---------------------+--------------------+----------------------+-------------------+
| Fedora 38           | PASS               | SKIPPED              | SKIPPED           |
+---------------------+--------------------+----------------------+-------------------+
| RHEL8               | PASS               | SKIPPED              | SKIPPED           |
+---------------------+--------------------+----------------------+-------------------+
| Alpine              | PASS               | SKIPPED              | SKIPPED           |
+---------------------+--------------------+----------------------+-------------------+


Debian 12
	Kernel: Container Host Kernel
	Compiler: gcc 10.2.1

CentOS Stream 9
	Kernel: 5.4.0-167-generic
	Compiler: gcc 11.4.1 20230605

Debian Bullseye
	Kernel: 5.4.0-167-generic
	Compiler: gcc 10.2.1-6

CentOS Stream 8
	Kernel: 5.4.0-167-generic
	Compiler: gcc 8.5.0 20210514

Fedora 37
	Kernel: Depends on container host system
	Compiler: gcc 12.3.1

openSUSE Leap 15
	Kernel: 5.4.0-167-generic
	Compiler: gcc 7.5.0

FreeBSD 13.2
	Kernel: 13.2
	Compiler: clang 14.0.5

Fedora 39
	Kernel: Depends on container host
	Compiler: gcc 13.2.1

Windows Server 2019
	Kernel: 10.0.17763
	Compiler: clang 14.0 and gcc 8.1.0 (MinGW)

Windows Server 2022
	Kernel: 10.0.20348.2031
	Compiler: clang 15.0.7, gcc 8.1.0 (MinGW), and MSVC VS 17.9

Ubuntu 20.04
	Kernel: 5.4.0-167-generic
	Compiler: gcc 9.4.0-1ubuntu1~20.04.1

Ubuntu 22.04
	Kernel: 5.4.0-167-generic
	Compiler: gcc 11.4.0

Fedora 38
	Kernel: Depends on container host
	Compiler: clang 16.0.6

RHEL8
	Kernel: 5.4.0-167-generic
	Compiler: gcc 8.5.0 20210514 (Red Hat 8.5.0-20)

Alpine
	Kernel: 5.4.0-167-generic
	Compiler: gcc (Alpine 12.2.1_git20220924-r10) 12.2.1 20220924

To view detailed results, visit:
https://lab.dpdk.org/results/dashboard/patchsets/29792/

UNH-IOL DPDK Community Lab

To manage your email subscriptions, visit: 
https://lab.dpdk.org/results/dashboard/preferences/subscriptions/