From mboxrd@z Thu Jan  1 00:00:00 1970
Return-Path: <test-report-bounces@dpdk.org>
Received: from mails.dpdk.org (mails.dpdk.org [217.70.189.124])
	by inbox.dpdk.org (Postfix) with ESMTP id 6F72F43E87
	for <public@inbox.dpdk.org>; Tue, 16 Apr 2024 21:31:01 +0200 (CEST)
Received: from mails.dpdk.org (localhost [127.0.0.1])
	by mails.dpdk.org (Postfix) with ESMTP id 6AD3840268;
	Tue, 16 Apr 2024 21:31:01 +0200 (CEST)
Received: from mail-vs1-f100.google.com (mail-vs1-f100.google.com
 [209.85.217.100])
 by mails.dpdk.org (Postfix) with ESMTP id 6F30140262
 for <test-report@dpdk.org>; Tue, 16 Apr 2024 21:30:59 +0200 (CEST)
Received: by mail-vs1-f100.google.com with SMTP id
 ada2fe7eead31-479c9c2d2b0so1442594137.0
 for <test-report@dpdk.org>; Tue, 16 Apr 2024 12:30:59 -0700 (PDT)
DKIM-Signature: v=1; a=rsa-sha256; c=relaxed/relaxed;
 d=iol.unh.edu; s=unh-iol; t=1713295859; x=1713900659; darn=dpdk.org;
 h=references:in-reply-to:cc:to:from:subject:message-id:date:from:to
 :cc:subject:date:message-id:reply-to;
 bh=ENrTaeLaxqHVtkb2agfZ0qaQUSme5Gvchsty/Fpnb0Y=;
 b=HaKZXFa4AuGBLZ3dxCsJLyJLTTrcoK0+Mux8LqpkwzFBB18IeOxDe62+vmKrrQG8ot
 lZf/X3+7TeNMKvRXmuypZBZYcDTmT6315pf2ZgrwnyH+QL+AKk93phToWtCrmfqr7UpT
 ZWiHFEG3bLARIkn3ybLrcAIfCKDrtswqvIfKU=
X-Google-DKIM-Signature: v=1; a=rsa-sha256; c=relaxed/relaxed;
 d=1e100.net; s=20230601; t=1713295859; x=1713900659;
 h=references:in-reply-to:cc:to:from:subject:message-id:date
 :x-gm-message-state:from:to:cc:subject:date:message-id:reply-to;
 bh=ENrTaeLaxqHVtkb2agfZ0qaQUSme5Gvchsty/Fpnb0Y=;
 b=B3by+Y1U+KeciwCr/Kqxa7siq6qxKkdUV/AM6O4+rWzGir+KFK6plnGoXaoxaG6Wte
 cMapuDbGKMuDihBOVypaMuzX8fJmtbS/xVqxOTfdAwNDP+9/QYElVRbCr0aQMoyutLjN
 ZAu6R3579l7LPhj0xIZr78EX94vqdtFaK2x3P3BcM22l41/JbWUKYF3A0iOvjjjEFCzG
 89XkO90mr31PlkCNsF2xnma89f/doq3JxJXKTLseMPoDRGcwKL8y5V5+LsjFzMic7O2o
 u7uhrRLsVG53SN11Own9DM8RUwhILKjqPQQM0TSMIlL2bksWHOD6EEFez4aCb7DHtBLZ
 9Z0g==
X-Gm-Message-State: AOJu0YwkCm6ZnTGBW7DYJBghWA+o8NvS9yTJGno5QGmncNpwv4C0ZsWN
 zzoQmhuYYFlkiz/icXilNJSHzS7057X6aKtEYTSOJv8mTMbys4GFO2X9y3S341CZYmC9RSE6OuI
 UtAgFQ4NnG/d1IIPWoZ1UXc3Rcfk60Om8G8VvSrUE
X-Google-Smtp-Source: AGHT+IEbatmcM4bB+PeXmlzSbQbPwG3UXnlp64rbZURwN0rD/g9+JYc4d2ECer0zEzZtKxmoS45ZNohpZpsb
X-Received: by 2002:a05:6102:3752:b0:47a:42ad:db56 with SMTP id
 u18-20020a056102375200b0047a42addb56mr13713342vst.18.1713295858867; 
 Tue, 16 Apr 2024 12:30:58 -0700 (PDT)
Received: from postal.iol.unh.edu (postal.iol.unh.edu. [132.177.123.84])
 by smtp-relay.gmail.com with ESMTPS id
 cw9-20020a056130220900b007eb706056d6sm72646uab.14.2024.04.16.12.30.58
 (version=TLS1_2 cipher=ECDHE-ECDSA-AES128-GCM-SHA256 bits=128/128);
 Tue, 16 Apr 2024 12:30:58 -0700 (PDT)
X-Relaying-Domain: iol.unh.edu
Date: Tue, 16 Apr 2024 12:30:58 -0700 (PDT)
Message-ID: <661ed1f2.050a0220.c8865.3bedSMTPIN_ADDED_MISSING@mx.google.com>
Received: from [172.17.0.5] (unknown [172.18.0.217])
 by postal.iol.unh.edu (Postfix) with ESMTP id 80721604A958;
 Tue, 16 Apr 2024 15:30:58 -0400 (EDT)
Subject: |SUCCESS| pw139431 [PATCH] [v3] dts: Change hugepage runtime config 
From: dpdklab@iol.unh.edu
To: Test Report <test-report@dpdk.org>
Cc: dpdk-test-reports@iol.unh.edu
In-Reply-To: <20240416181840.11539-1-npratte@iol.unh.edu>
References: <20240416181840.11539-1-npratte@iol.unh.edu>
Content-Type: text/plain
X-BeenThere: test-report@dpdk.org
X-Mailman-Version: 2.1.29
Precedence: list
List-Id: automatic DPDK test reports <test-report.dpdk.org>
List-Unsubscribe: <https://mails.dpdk.org/options/test-report>,
 <mailto:test-report-request@dpdk.org?subject=unsubscribe>
List-Archive: <http://mails.dpdk.org/archives/test-report/>
List-Post: <mailto:test-report@dpdk.org>
List-Help: <mailto:test-report-request@dpdk.org?subject=help>
List-Subscribe: <https://mails.dpdk.org/listinfo/test-report>,
 <mailto:test-report-request@dpdk.org?subject=subscribe>
Errors-To: test-report-bounces@dpdk.org

Test-Label: iol-unit-amd64-testing
Test-Status: SUCCESS
http://dpdk.org/patch/139431

_Testing PASS_

Submitter: Nicholas Pratte <npratte@iol.unh.edu>
Date: Tuesday, April 16 2024 18:18:40 
DPDK git baseline: Repo:dpdk
  Branch: master
  CommitID:e2e546ab5bf5e024986ccb5310ab43982f3bb40c

139431 --> testing pass

Test environment and result as below:

+---------------------+----------------+
|     Environment     | dpdk_unit_test |
+=====================+================+
| CentOS Stream 9     | PASS           |
+---------------------+----------------+
| CentOS Stream 8     | PASS           |
+---------------------+----------------+
| Windows Server 2019 | PASS           |
+---------------------+----------------+
| Debian Bullseye     | PASS           |
+---------------------+----------------+
| Debian 12           | PASS           |
+---------------------+----------------+
| Fedora 37           | PASS           |
+---------------------+----------------+
| Fedora 38           | PASS           |
+---------------------+----------------+
| Fedora 39           | PASS           |
+---------------------+----------------+
| RHEL8               | PASS           |
+---------------------+----------------+
| openSUSE Leap 15    | PASS           |
+---------------------+----------------+
| Ubuntu 20.04        | PASS           |
+---------------------+----------------+
| Ubuntu 22.04        | PASS           |
+---------------------+----------------+


CentOS Stream 9
	Kernel: 5.4.0-167-generic
	Compiler: gcc 11.4.1 20230605

CentOS Stream 8
	Kernel: 5.4.0-167-generic
	Compiler: gcc 8.5.0 20210514

Windows Server 2019
	Kernel: 10.0.17763
	Compiler: clang 14.0 and gcc 8.1.0 (MinGW)

Debian Bullseye
	Kernel: 5.4.0-167-generic
	Compiler: gcc 10.2.1-6

Debian 12
	Kernel: Container Host Kernel
	Compiler: gcc 10.2.1

Fedora 37
	Kernel: Depends on container host system
	Compiler: gcc 12.3.1

Fedora 38
	Kernel: Depends on container host
	Compiler: gcc 13.2.1

Fedora 39
	Kernel: Depends on container host
	Compiler: gcc 13.2.1

RHEL8
	Kernel: 5.4.0-167-generic
	Compiler: gcc 8.5.0 20210514 (Red Hat 8.5.0-20)

openSUSE Leap 15
	Kernel: 5.4.0-167-generic
	Compiler: gcc 7.5.0

Ubuntu 20.04
	Kernel: 5.4.0-167-generic
	Compiler: gcc 9.4.0-1ubuntu1~20.04.1

Ubuntu 22.04
	Kernel: 5.4.0-167-generic
	Compiler: gcc 11.4.0

To view detailed results, visit:
https://lab.dpdk.org/results/dashboard/patchsets/29797/

UNH-IOL DPDK Community Lab

To manage your email subscriptions, visit: 
https://lab.dpdk.org/results/dashboard/preferences/subscriptions/