From mboxrd@z Thu Jan  1 00:00:00 1970
Return-Path: <test-report-bounces@dpdk.org>
Received: from mails.dpdk.org (mails.dpdk.org [217.70.189.124])
	by inbox.dpdk.org (Postfix) with ESMTP id 2688143E87
	for <public@inbox.dpdk.org>; Tue, 16 Apr 2024 21:36:56 +0200 (CEST)
Received: from mails.dpdk.org (localhost [127.0.0.1])
	by mails.dpdk.org (Postfix) with ESMTP id 015C840268;
	Tue, 16 Apr 2024 21:36:56 +0200 (CEST)
Received: from mail-yb1-f228.google.com (mail-yb1-f228.google.com
 [209.85.219.228])
 by mails.dpdk.org (Postfix) with ESMTP id EEE2540262
 for <test-report@dpdk.org>; Tue, 16 Apr 2024 21:36:54 +0200 (CEST)
Received: by mail-yb1-f228.google.com with SMTP id
 3f1490d57ef6-dd10ebcd702so4529947276.2
 for <test-report@dpdk.org>; Tue, 16 Apr 2024 12:36:54 -0700 (PDT)
DKIM-Signature: v=1; a=rsa-sha256; c=relaxed/relaxed;
 d=iol.unh.edu; s=unh-iol; t=1713296214; x=1713901014; darn=dpdk.org;
 h=references:in-reply-to:cc:to:from:subject:message-id:date:from:to
 :cc:subject:date:message-id:reply-to;
 bh=ENrTaeLaxqHVtkb2agfZ0qaQUSme5Gvchsty/Fpnb0Y=;
 b=RNoD7HZv0npjTTxejtpPe6N9IhBL+Ocepd9ZAaXK+55I3DGqYf68Ig63CBzRqPyd0H
 OFxzGHa5NBh4akb3Z+0xK9i6ZqtwpJPGp3bnfj5Yqe0fHtf1cqrCCjVdOXaezFfPEWSR
 s+s1WfsiqTTQOWY8jHIA2hpZu9RkqtUwJ7jNk=
X-Google-DKIM-Signature: v=1; a=rsa-sha256; c=relaxed/relaxed;
 d=1e100.net; s=20230601; t=1713296214; x=1713901014;
 h=references:in-reply-to:cc:to:from:subject:message-id:date
 :x-gm-message-state:from:to:cc:subject:date:message-id:reply-to;
 bh=ENrTaeLaxqHVtkb2agfZ0qaQUSme5Gvchsty/Fpnb0Y=;
 b=fGkV2sVzFqFpKZw7vKTY3YyJKf7RvRugXRcMvLEUNLRCkZUeBa7cAqeS+5naQrkhau
 312Wdj/tbln3t6kOpi8+L9UlZ4tVs8w6WganEpAAROob8zWpPHvdYlPk2o/lN5SPp97r
 543hfADNmMpL3n6waPNk921FtSbyrXZ0rJwv/f8NWNGpqTvVJr5eQQwtH340U9o8yfnO
 1+YuyFrEezruW88AD9afDbuDmb2/eYbgCEtc2fr9QZI8S25aiWLXyLPzfaK+6fCB3030
 pIWV/y/Hm+QCkrvz01yO6ZTp2u4Vkmk7gUIHqXBdD6srDjmWemkBrltSP4l9tYzOOIKE
 Z1gQ==
X-Gm-Message-State: AOJu0YxXJBcLaS1mPtwNvP4unDx694E6yWQv1+JJxByk1OywsoB1u36u
 a40kGTodx88Hin6ikDqsuMlUcI1nFWNnGreZTvKMYj+dIe81trPgt3ZzNn6uyl3aDeRyaEDrpju
 MXEGju13XLXrWR0rgUPqgtlLnCTnPChERESk8htXM
X-Google-Smtp-Source: AGHT+IFR/0JnLsUR0Xw742QGcoJ2TTq1SC6Pzm7tT5Wor1M83cpUiYAFxL1ceVkZ8RhVkJuTW3t/Oub9L9hU
X-Received: by 2002:a5b:686:0:b0:dd1:2f58:6a2e with SMTP id
 j6-20020a5b0686000000b00dd12f586a2emr12184575ybq.9.1713296214150; 
 Tue, 16 Apr 2024 12:36:54 -0700 (PDT)
Received: from postal.iol.unh.edu (postal.iol.unh.edu. [132.177.123.84])
 by smtp-relay.gmail.com with ESMTPS id
 dj5-20020a05690220c500b00dcbe413bc0esm700136ybb.4.2024.04.16.12.36.54
 (version=TLS1_2 cipher=ECDHE-ECDSA-AES128-GCM-SHA256 bits=128/128);
 Tue, 16 Apr 2024 12:36:54 -0700 (PDT)
X-Relaying-Domain: iol.unh.edu
Date: Tue, 16 Apr 2024 12:36:54 -0700 (PDT)
Message-ID: <661ed356.050a0220.39586.fb09SMTPIN_ADDED_MISSING@mx.google.com>
Received: from [172.21.0.6] (unknown [172.18.0.240])
 by postal.iol.unh.edu (Postfix) with ESMTP id 84C8C604A958;
 Tue, 16 Apr 2024 15:36:53 -0400 (EDT)
Subject: |SUCCESS| pw139431 [PATCH] [v3] dts: Change hugepage runtime config 
From: dpdklab@iol.unh.edu
To: Test Report <test-report@dpdk.org>
Cc: dpdk-test-reports@iol.unh.edu
In-Reply-To: <20240416181840.11539-1-npratte@iol.unh.edu>
References: <20240416181840.11539-1-npratte@iol.unh.edu>
Content-Type: text/plain
X-BeenThere: test-report@dpdk.org
X-Mailman-Version: 2.1.29
Precedence: list
List-Id: automatic DPDK test reports <test-report.dpdk.org>
List-Unsubscribe: <https://mails.dpdk.org/options/test-report>,
 <mailto:test-report-request@dpdk.org?subject=unsubscribe>
List-Archive: <http://mails.dpdk.org/archives/test-report/>
List-Post: <mailto:test-report@dpdk.org>
List-Help: <mailto:test-report-request@dpdk.org?subject=help>
List-Subscribe: <https://mails.dpdk.org/listinfo/test-report>,
 <mailto:test-report-request@dpdk.org?subject=subscribe>
Errors-To: test-report-bounces@dpdk.org

Test-Label: iol-unit-amd64-testing
Test-Status: SUCCESS
http://dpdk.org/patch/139431

_Testing PASS_

Submitter: Nicholas Pratte <npratte@iol.unh.edu>
Date: Tuesday, April 16 2024 18:18:40 
DPDK git baseline: Repo:dpdk
  Branch: master
  CommitID:e2e546ab5bf5e024986ccb5310ab43982f3bb40c

139431 --> testing pass

Test environment and result as below:

+---------------------+----------------+
|     Environment     | dpdk_unit_test |
+=====================+================+
| CentOS Stream 9     | PASS           |
+---------------------+----------------+
| CentOS Stream 8     | PASS           |
+---------------------+----------------+
| Windows Server 2019 | PASS           |
+---------------------+----------------+
| Debian Bullseye     | PASS           |
+---------------------+----------------+
| Debian 12           | PASS           |
+---------------------+----------------+
| Fedora 37           | PASS           |
+---------------------+----------------+
| Fedora 38           | PASS           |
+---------------------+----------------+
| Fedora 39           | PASS           |
+---------------------+----------------+
| RHEL8               | PASS           |
+---------------------+----------------+
| openSUSE Leap 15    | PASS           |
+---------------------+----------------+
| Ubuntu 20.04        | PASS           |
+---------------------+----------------+
| Ubuntu 22.04        | PASS           |
+---------------------+----------------+


CentOS Stream 9
	Kernel: 5.4.0-167-generic
	Compiler: gcc 11.4.1 20230605

CentOS Stream 8
	Kernel: 5.4.0-167-generic
	Compiler: gcc 8.5.0 20210514

Windows Server 2019
	Kernel: 10.0.17763
	Compiler: clang 14.0 and gcc 8.1.0 (MinGW)

Debian Bullseye
	Kernel: 5.4.0-167-generic
	Compiler: gcc 10.2.1-6

Debian 12
	Kernel: Container Host Kernel
	Compiler: gcc 10.2.1

Fedora 37
	Kernel: Depends on container host system
	Compiler: gcc 12.3.1

Fedora 38
	Kernel: Depends on container host
	Compiler: gcc 13.2.1

Fedora 39
	Kernel: Depends on container host
	Compiler: gcc 13.2.1

RHEL8
	Kernel: 5.4.0-167-generic
	Compiler: gcc 8.5.0 20210514 (Red Hat 8.5.0-20)

openSUSE Leap 15
	Kernel: 5.4.0-167-generic
	Compiler: gcc 7.5.0

Ubuntu 20.04
	Kernel: 5.4.0-167-generic
	Compiler: gcc 9.4.0-1ubuntu1~20.04.1

Ubuntu 22.04
	Kernel: 5.4.0-167-generic
	Compiler: gcc 11.4.0

To view detailed results, visit:
https://lab.dpdk.org/results/dashboard/patchsets/29797/

UNH-IOL DPDK Community Lab

To manage your email subscriptions, visit: 
https://lab.dpdk.org/results/dashboard/preferences/subscriptions/