From mboxrd@z Thu Jan  1 00:00:00 1970
Return-Path: <test-report-bounces@dpdk.org>
Received: from mails.dpdk.org (mails.dpdk.org [217.70.189.124])
	by inbox.dpdk.org (Postfix) with ESMTP id C276D43E88
	for <public@inbox.dpdk.org>; Tue, 16 Apr 2024 22:44:05 +0200 (CEST)
Received: from mails.dpdk.org (localhost [127.0.0.1])
	by mails.dpdk.org (Postfix) with ESMTP id BEB7F40262;
	Tue, 16 Apr 2024 22:44:05 +0200 (CEST)
Received: from mail-qv1-f97.google.com (mail-qv1-f97.google.com
 [209.85.219.97]) by mails.dpdk.org (Postfix) with ESMTP id 5A95E40261
 for <test-report@dpdk.org>; Tue, 16 Apr 2024 22:44:04 +0200 (CEST)
Received: by mail-qv1-f97.google.com with SMTP id
 6a1803df08f44-6962950c6bfso37193216d6.2
 for <test-report@dpdk.org>; Tue, 16 Apr 2024 13:44:04 -0700 (PDT)
DKIM-Signature: v=1; a=rsa-sha256; c=relaxed/relaxed;
 d=iol.unh.edu; s=unh-iol; t=1713300244; x=1713905044; darn=dpdk.org;
 h=references:in-reply-to:cc:to:from:subject:message-id:date:from:to
 :cc:subject:date:message-id:reply-to;
 bh=Veb4TFopd8TvfiQ0aadD3XbWgC/O4bI2eiFu21JjFXo=;
 b=W19r89ehMXBGFcsVgyjHoEzrwSGbk6cSl35r1hmGAj16Xmf9DBU5ftenwn2jr0KbZL
 8mod6zrQkj9OwipqCbvf0B+lO/gBWkmdX81pkwh7cBwOWmfyPA3w770iKR43XgnswKmt
 BpGNR5TqH/d0PdOyGRkATRNpBFZHHhgfzaLpU=
X-Google-DKIM-Signature: v=1; a=rsa-sha256; c=relaxed/relaxed;
 d=1e100.net; s=20230601; t=1713300244; x=1713905044;
 h=references:in-reply-to:cc:to:from:subject:message-id:date
 :x-gm-message-state:from:to:cc:subject:date:message-id:reply-to;
 bh=Veb4TFopd8TvfiQ0aadD3XbWgC/O4bI2eiFu21JjFXo=;
 b=A6ZaUwjiMuwkVQ05fLAzjHQy87L0xAhYHvfF9Z4qNyfWXrZMUiGRaHFEcwYWH0r97U
 muNzeu4MJnuGNbugVb5X2YIyzvP9Ysat+xi8lH9IGJacHIKBkN2pENHuao3lqHALZR+u
 gMFe7iSis0BMNPmRDurVfQOPddZYCk31Xad7encbBHG+5OdEOsOBpAG0MTIQnSsx+BZz
 jcABWIsUlOySaSZDqRD2yaT02fzMXtJpH0qNKhiPMgp40+YVXkoeM/Q6A6ijbGb72kr5
 adV+UuZWBPTd6yEPG8iHd6n1rP40tqm15X/zau/BEML2g0UrYJAG0DUokFt2lpx7btDo
 MSCg==
X-Gm-Message-State: AOJu0YyxY8bA6aVSaGWDxuEQ0oeSz2EqnDuMIFy0LVWEeAjmsW4Wy3sR
 TqEtj7WY6wAf8PWflwOfZ9Zbw68WNv1wUdz2z2QbslmXNvYPvKXKmfTRywNDEYnYQqwPLmAVIsI
 SLphmmWgi4wOm57f6zTf/oFCwEnPxAqbYt8OrOtov
X-Google-Smtp-Source: AGHT+IGlp/7SQq7GQ9/dxSJ58ZtvprTaanWuzCF1R96JM32FH6Oj4LrKt0r0rNrtbP2Czx/NfDDwt2g6hBjC
X-Received: by 2002:a0c:c70c:0:b0:696:3e55:5bd0 with SMTP id
 w12-20020a0cc70c000000b006963e555bd0mr12358536qvi.37.1713300243820; 
 Tue, 16 Apr 2024 13:44:03 -0700 (PDT)
Received: from postal.iol.unh.edu (postal.iol.unh.edu. [132.177.123.84])
 by smtp-relay.gmail.com with ESMTPS id
 u12-20020a0562141c0c00b006914fe64c43sm1055697qvc.25.2024.04.16.13.44.03
 (version=TLS1_2 cipher=ECDHE-ECDSA-AES128-GCM-SHA256 bits=128/128);
 Tue, 16 Apr 2024 13:44:03 -0700 (PDT)
X-Relaying-Domain: iol.unh.edu
Date: Tue, 16 Apr 2024 13:44:03 -0700 (PDT)
Message-ID: <661ee313.050a0220.a88ce.3f1cSMTPIN_ADDED_MISSING@mx.google.com>
Received: from [172.17.0.2] (unknown [172.18.0.217])
 by postal.iol.unh.edu (Postfix) with ESMTP id 83319604A958;
 Tue, 16 Apr 2024 16:44:03 -0400 (EDT)
Subject: |SUCCESS| pw139431 [PATCH] [v3] dts: Change hugepage runtime config 
From: dpdklab@iol.unh.edu
To: Test Report <test-report@dpdk.org>
Cc: dpdk-test-reports@iol.unh.edu
In-Reply-To: <20240416181840.11539-1-npratte@iol.unh.edu>
References: <20240416181840.11539-1-npratte@iol.unh.edu>
Content-Type: text/plain
X-BeenThere: test-report@dpdk.org
X-Mailman-Version: 2.1.29
Precedence: list
List-Id: automatic DPDK test reports <test-report.dpdk.org>
List-Unsubscribe: <https://mails.dpdk.org/options/test-report>,
 <mailto:test-report-request@dpdk.org?subject=unsubscribe>
List-Archive: <http://mails.dpdk.org/archives/test-report/>
List-Post: <mailto:test-report@dpdk.org>
List-Help: <mailto:test-report-request@dpdk.org?subject=help>
List-Subscribe: <https://mails.dpdk.org/listinfo/test-report>,
 <mailto:test-report-request@dpdk.org?subject=subscribe>
Errors-To: test-report-bounces@dpdk.org

Test-Label: iol-compile-arm64-testing
Test-Status: SUCCESS
http://dpdk.org/patch/139431

_Testing PASS_

Submitter: Nicholas Pratte <npratte@iol.unh.edu>
Date: Tuesday, April 16 2024 18:18:40 
DPDK git baseline: Repo:dpdk
  Branch: master
  CommitID:e2e546ab5bf5e024986ccb5310ab43982f3bb40c

139431 --> testing pass

Test environment and result as below:

+----------------------------------------+--------------------+
|              Environment               | dpdk_meson_compile |
+========================================+====================+
| Ubuntu 20.04 ARM SVE                   | PASS               |
+----------------------------------------+--------------------+
| Debian 12 with MUSDK                   | PASS               |
+----------------------------------------+--------------------+
| Ubuntu 20.04 ARM GCC Cross Compile     | PASS               |
+----------------------------------------+--------------------+
| Ubuntu 20.04 ARM Clang Cross Compile   | PASS               |
+----------------------------------------+--------------------+
| Fedora 38 (ARM)                        | PASS               |
+----------------------------------------+--------------------+
| Ubuntu 20.04 aarch32 GCC Cross Compile | PASS               |
+----------------------------------------+--------------------+
| Fedora 37 (ARM)                        | PASS               |
+----------------------------------------+--------------------+
| Ubuntu 20.04 (ARM)                     | PASS               |
+----------------------------------------+--------------------+
| Fedora 39 (ARM)                        | PASS               |
+----------------------------------------+--------------------+
| Debian 12 (arm)                        | PASS               |
+----------------------------------------+--------------------+
| Debian 11 (Buster) (ARM)               | PASS               |
+----------------------------------------+--------------------+
| CentOS Stream 9 (ARM)                  | PASS               |
+----------------------------------------+--------------------+
| Fedora 38 (ARM Clang)                  | PASS               |
+----------------------------------------+--------------------+
| Fedora 39 (ARM Clang)                  | PASS               |
+----------------------------------------+--------------------+


Ubuntu 20.04 ARM SVE
	Kernel: 5.4.0-167-generic
	Compiler: gcc (Ubuntu 10.5.0-1ubuntu1~20.04) 10.5.0

Debian 12 with MUSDK
	Kernel: Container Host Kernel
	Compiler: gcc 12.2.0

Ubuntu 20.04 ARM GCC Cross Compile
	Kernel: 5.4.0-167-generic
	Compiler: aarch64-linux-gnu-gcc (Ubuntu 9.4.0-1ubuntu1~20.04.2) 9.4.0

Ubuntu 20.04 ARM Clang Cross Compile
	Kernel: 5.4.0-72-generic
	Compiler: clang 10.0.0-4ubuntu1

Fedora 38 (ARM)
	Kernel: Depends on container host
	Compiler: gcc 13.2.1

Ubuntu 20.04 aarch32 GCC Cross Compile
	Kernel: 5.4.0-167-generic
	Compiler: gcc 9.4.0

Fedora 37 (ARM)
	Kernel: Depends on container host
	Compiler: gcc 12.3.1

Ubuntu 20.04 (ARM)
	Kernel: Container Host Kernel
	Compiler: gcc 9.4.0

Fedora 39 (ARM)
	Kernel: Depends on container host
	Compiler: gcc 13.2.1

Debian 12 (arm)
	Kernel: Container Host Kernel
	Compiler: gcc 12.2.0

Debian 11 (Buster) (ARM)
	Kernel: Container Host Kernel
	Compiler: gcc 10.2.1

CentOS Stream 9 (ARM)
	Kernel: Container Host Kernel
	Compiler: gcc 11.4.1

Fedora 38 (ARM Clang)
	Kernel: Depends on container host
	Compiler: clang 16.0.6

Fedora 39 (ARM Clang)
	Kernel: Depends on container host
	Compiler: clang 17.0.6

To view detailed results, visit:
https://lab.dpdk.org/results/dashboard/patchsets/29797/

UNH-IOL DPDK Community Lab

To manage your email subscriptions, visit: 
https://lab.dpdk.org/results/dashboard/preferences/subscriptions/