From mboxrd@z Thu Jan  1 00:00:00 1970
Return-Path: <test-report-bounces@dpdk.org>
Received: from mails.dpdk.org (mails.dpdk.org [217.70.189.124])
	by inbox.dpdk.org (Postfix) with ESMTP id 6BCE043E88
	for <public@inbox.dpdk.org>; Tue, 16 Apr 2024 23:29:44 +0200 (CEST)
Received: from mails.dpdk.org (localhost [127.0.0.1])
	by mails.dpdk.org (Postfix) with ESMTP id 669EE40262;
	Tue, 16 Apr 2024 23:29:44 +0200 (CEST)
Received: from mail-io1-f99.google.com (mail-io1-f99.google.com
 [209.85.166.99]) by mails.dpdk.org (Postfix) with ESMTP id 1BC4440261
 for <test-report@dpdk.org>; Tue, 16 Apr 2024 23:29:43 +0200 (CEST)
Received: by mail-io1-f99.google.com with SMTP id
 ca18e2360f4ac-7d6230233f9so191957539f.2
 for <test-report@dpdk.org>; Tue, 16 Apr 2024 14:29:43 -0700 (PDT)
DKIM-Signature: v=1; a=rsa-sha256; c=relaxed/relaxed;
 d=iol.unh.edu; s=unh-iol; t=1713302982; x=1713907782; darn=dpdk.org;
 h=references:in-reply-to:cc:to:from:subject:message-id:date:from:to
 :cc:subject:date:message-id:reply-to;
 bh=WSnTOmWafEYkWrzmwz2DJYSV+vkmpTQnHfi+2ue2Fbg=;
 b=LhR4WjxKBYDZjYjn0orZQmAz5wK8FKsGyXguSqYbemfGHak/X2eH+ICzUv69PEer4z
 dxQtFa6w4xNky6LeIjOkNyn65ZlVYAiqw8Fk1EcPiPdjFsBjBtCv5EAhy764GjNBiIxF
 cGz9MKNFYXkyjEIpEFYx8Rkz9wZ7dCBqTUHAQ=
X-Google-DKIM-Signature: v=1; a=rsa-sha256; c=relaxed/relaxed;
 d=1e100.net; s=20230601; t=1713302982; x=1713907782;
 h=references:in-reply-to:cc:to:from:subject:message-id:date
 :x-gm-message-state:from:to:cc:subject:date:message-id:reply-to;
 bh=WSnTOmWafEYkWrzmwz2DJYSV+vkmpTQnHfi+2ue2Fbg=;
 b=aQ42DNkuh190WzdTCI+LlANmruusXKyayKTbwlWjRKssKULGmaz+0TULmXOwQHojGI
 +WSVWYHBHxoJQ4Sv2ZWxUvGLlLRkmB0O4tXOw/fSFqx3tNUOP+h+cELoyW/jHasKsccw
 IzLt0RJytPnjZO9lLE4tqgZkV5AizlQomjeJdDoBJ+BV2VBudDqoeONGKjBEvEdNaFvk
 PPMpjLVs6S8CzMBrumJR7Z4g99T1p5XJSseMCOdH6tTbgkLptyv9Wy1C5JrPTbT0XDo0
 D7nXCDZdyl/WORzlYizE8A0H4GTcZ72w7RbZgFv80o8iGxVLo/x47dNHUDioTuy+tTBI
 Z86A==
X-Gm-Message-State: AOJu0YwksHYqOGBnuoH271jLw572Z8uaoEQcRNYmYuaIgQGJkdM5sVKb
 TCvdoFiualyX/D1QaGkfZnoigLAazIV/mZnjDvyqZTiqZDEyYMKBn/XshnwM1F/K4IVSgX15369
 woEQKUSXmhkr3l2ou5KuLqHPRZITAKd/ZUl2GFLe1
X-Google-Smtp-Source: AGHT+IGi7nL01FJH3+XAC+OcT/vsB0P8KDSRtS+Efh4BLlSXSlFa8oROGN/oL36D2j2Cg21hY9VT0Xrf1R4R
X-Received: by 2002:a05:6602:36c3:b0:7d5:d687:c340 with SMTP id
 bg3-20020a05660236c300b007d5d687c340mr21627579iob.10.1713302982548; 
 Tue, 16 Apr 2024 14:29:42 -0700 (PDT)
Received: from postal.iol.unh.edu (postal.iol.unh.edu. [132.177.123.84])
 by smtp-relay.gmail.com with ESMTPS id
 m31-20020a056638271f00b00482cf931ad7sm654443jav.53.2024.04.16.14.29.42
 (version=TLS1_2 cipher=ECDHE-ECDSA-AES128-GCM-SHA256 bits=128/128);
 Tue, 16 Apr 2024 14:29:42 -0700 (PDT)
X-Relaying-Domain: iol.unh.edu
Date: Tue, 16 Apr 2024 14:29:42 -0700 (PDT)
Message-ID: <661eedc6.050a0220.2a04e.edbcSMTPIN_ADDED_MISSING@mx.google.com>
Received: from [172.21.0.6] (unknown [172.18.0.240])
 by postal.iol.unh.edu (Postfix) with ESMTP id F2CBF604A958;
 Tue, 16 Apr 2024 17:29:41 -0400 (EDT)
Subject: |SUCCESS| pw139426-139427 [PATCH] [4/4] net/mlx5/hws: remove table t
From: dpdklab@iol.unh.edu
To: Test Report <test-report@dpdk.org>
Cc: dpdk-test-reports@iol.unh.edu
In-Reply-To: <20240416153054.3216706-5-michaelba@nvidia.com>
References: <20240416153054.3216706-5-michaelba@nvidia.com>
Content-Type: text/plain
X-BeenThere: test-report@dpdk.org
X-Mailman-Version: 2.1.29
Precedence: list
List-Id: automatic DPDK test reports <test-report.dpdk.org>
List-Unsubscribe: <https://mails.dpdk.org/options/test-report>,
 <mailto:test-report-request@dpdk.org?subject=unsubscribe>
List-Archive: <http://mails.dpdk.org/archives/test-report/>
List-Post: <mailto:test-report@dpdk.org>
List-Help: <mailto:test-report-request@dpdk.org?subject=help>
List-Subscribe: <https://mails.dpdk.org/listinfo/test-report>,
 <mailto:test-report-request@dpdk.org?subject=subscribe>
Errors-To: test-report-bounces@dpdk.org

Test-Label: iol-compile-amd64-testing
Test-Status: SUCCESS
http://dpdk.org/patch/139427

_Testing PASS_

Submitter: Michael Baum <michaelba@nvidia.com>
Date: Tuesday, April 16 2024 15:30:54 
DPDK git baseline: Repo:dpdk
  Branch: master
  CommitID:80ecef6d1f71fcebc0a51d7cabc51f73ee142ff2

139426-139427 --> testing pass

Test environment and result as below:

+---------------------+--------------------+----------------------+-------------------+
|     Environment     | dpdk_meson_compile | dpdk_mingw64_compile | dpdk_msvc_compile |
+=====================+====================+======================+===================+
| FreeBSD 13.2        | PASS               | SKIPPED              | SKIPPED           |
+---------------------+--------------------+----------------------+-------------------+
| Windows Server 2019 | PASS               | PASS                 | SKIPPED           |
+---------------------+--------------------+----------------------+-------------------+
| CentOS Stream 8     | PASS               | SKIPPED              | SKIPPED           |
+---------------------+--------------------+----------------------+-------------------+
| Windows Server 2022 | PASS               | PASS                 | PASS              |
+---------------------+--------------------+----------------------+-------------------+
| Debian 12           | PASS               | SKIPPED              | SKIPPED           |
+---------------------+--------------------+----------------------+-------------------+
| Fedora 38           | PASS               | SKIPPED              | SKIPPED           |
+---------------------+--------------------+----------------------+-------------------+
| Debian Bullseye     | PASS               | SKIPPED              | SKIPPED           |
+---------------------+--------------------+----------------------+-------------------+
| Fedora 37           | PASS               | SKIPPED              | SKIPPED           |
+---------------------+--------------------+----------------------+-------------------+
| CentOS Stream 9     | PASS               | SKIPPED              | SKIPPED           |
+---------------------+--------------------+----------------------+-------------------+
| Ubuntu 20.04        | PASS               | SKIPPED              | SKIPPED           |
+---------------------+--------------------+----------------------+-------------------+
| Fedora 39           | PASS               | SKIPPED              | SKIPPED           |
+---------------------+--------------------+----------------------+-------------------+
| openSUSE Leap 15    | PASS               | SKIPPED              | SKIPPED           |
+---------------------+--------------------+----------------------+-------------------+
| RHEL8               | PASS               | SKIPPED              | SKIPPED           |
+---------------------+--------------------+----------------------+-------------------+
| Ubuntu 22.04        | PASS               | SKIPPED              | SKIPPED           |
+---------------------+--------------------+----------------------+-------------------+


FreeBSD 13.2
	Kernel: 13.2
	Compiler: clang 14.0.5

Windows Server 2019
	Kernel: 10.0.17763
	Compiler: clang 14.0 and gcc 8.1.0 (MinGW)

CentOS Stream 8
	Kernel: 5.4.0-167-generic
	Compiler: gcc 8.5.0 20210514

Windows Server 2022
	Kernel: 10.0.20348.2031
	Compiler: clang 15.0.7, gcc 8.1.0 (MinGW), and MSVC VS 17.9

Debian 12
	Kernel: Container Host Kernel
	Compiler: gcc 10.2.1

Fedora 38
	Kernel: Depends on container host
	Compiler: gcc 13.2.1

Debian Bullseye
	Kernel: 5.4.0-167-generic
	Compiler: gcc 10.2.1-6

Fedora 37
	Kernel: Depends on container host system
	Compiler: gcc 12.3.1

CentOS Stream 9
	Kernel: 5.4.0-167-generic
	Compiler: gcc 11.4.1 20230605

Ubuntu 20.04
	Kernel: 5.4.0-167-generic
	Compiler: gcc 9.4.0-1ubuntu1~20.04.1

Fedora 39
	Kernel: Depends on container host
	Compiler: gcc 13.2.1

openSUSE Leap 15
	Kernel: 5.4.0-167-generic
	Compiler: gcc 7.5.0

RHEL8
	Kernel: 5.4.0-167-generic
	Compiler: gcc 8.5.0 20210514 (Red Hat 8.5.0-20)

Ubuntu 22.04
	Kernel: 5.4.0-167-generic
	Compiler: gcc 11.4.0

To view detailed results, visit:
https://lab.dpdk.org/results/dashboard/patchsets/29794/

UNH-IOL DPDK Community Lab

To manage your email subscriptions, visit: 
https://lab.dpdk.org/results/dashboard/preferences/subscriptions/